BEGIN:VCALENDAR
VERSION:2.0
PRODID:-//Saint Michael&#039;s College - ECPv6.15.14//NONSGML v1.0//EN
CALSCALE:GREGORIAN
METHOD:PUBLISH
X-WR-CALNAME:Saint Michael&#039;s College
X-ORIGINAL-URL:https://www.smcvt.edu
X-WR-CALDESC:Events for Saint Michael&#039;s College
REFRESH-INTERVAL;VALUE=DURATION:PT1H
X-Robots-Tag:noindex
X-PUBLISHED-TTL:PT1H
BEGIN:VTIMEZONE
TZID:America/New_York
BEGIN:DAYLIGHT
TZOFFSETFROM:-0500
TZOFFSETTO:-0400
TZNAME:EDT
DTSTART:20230312T070000
END:DAYLIGHT
BEGIN:STANDARD
TZOFFSETFROM:-0400
TZOFFSETTO:-0500
TZNAME:EST
DTSTART:20231105T060000
END:STANDARD
BEGIN:DAYLIGHT
TZOFFSETFROM:-0500
TZOFFSETTO:-0400
TZNAME:EDT
DTSTART:20240310T070000
END:DAYLIGHT
BEGIN:STANDARD
TZOFFSETFROM:-0400
TZOFFSETTO:-0500
TZNAME:EST
DTSTART:20241103T060000
END:STANDARD
BEGIN:DAYLIGHT
TZOFFSETFROM:-0500
TZOFFSETTO:-0400
TZNAME:EDT
DTSTART:20250309T070000
END:DAYLIGHT
BEGIN:STANDARD
TZOFFSETFROM:-0400
TZOFFSETTO:-0500
TZNAME:EST
DTSTART:20251102T060000
END:STANDARD
END:VTIMEZONE
BEGIN:VEVENT
DTSTART;TZID=America/New_York:20241003T123000
DTEND;TZID=America/New_York:20241003T170000
DTSTAMP:20260425T070305
CREATED:20240913T163501Z
LAST-MODIFIED:20240913T164037Z
UID:10000894-1727958600-1727974800@www.smcvt.edu
SUMMARY:In-Person Farm Stand
DESCRIPTION:In-Person Farm Stand \nThursdays from 12:30 to 5 p.m.\nAlliot Lobby \nJoin us in the Alliot Lobby every Thursday from September 5 through October 2 to check out what SMC Farm produce we have available for purchase! Our Farm Crew student will staff the Farm Stand from 12:30pm to 5:00pm. Purchases can be made with cash\, credit/debit card\, Knight Card\, or CSA credit.
URL:https://www.smcvt.edu/event/in-person-farm-stand-2/2024-10-03/
LOCATION:Lobby\, Alliot Student Center
CATEGORIES:The Patrick '61 and Marcelle Leahy Institute for the Environment
ATTACH;FMTTYPE=image/jpeg:https://www.smcvt.edu/wp-content/uploads/2024/09/IMG_3866-1-1.jpg
END:VEVENT
BEGIN:VEVENT
DTSTART;TZID=America/New_York:20241003T170000
DTEND;TZID=America/New_York:20241003T180000
DTSTAMP:20260425T070305
CREATED:20240924T202047Z
LAST-MODIFIED:20240924T202047Z
UID:10001161-1727974800-1727978400@www.smcvt.edu
SUMMARY:Voter Awareness Series: Living Room Conversation - Becoming an Informed Voter
DESCRIPTION:Voter Awareness Series: Living Room Conversation – Becoming an Informed Voter \nThursday\, October 3\, from 5 to 6 p.m.\nCenter for Women and Gender \nThis will be an informal event where two Political Science professors will be discussing ways of being an informed voter; this talk will also bring up local elections.
URL:https://www.smcvt.edu/event/voter-awareness-series-living-room-conversation-becoming-an-informed-voter/
LOCATION:Center for Women and Gender
CATEGORIES:Academic Affairs,MOVE
ATTACH;FMTTYPE=image/jpeg:https://www.smcvt.edu/wp-content/uploads/2024/09/Voter-Awareness-Series-Poster-2024-scaled.jpg
END:VEVENT
END:VCALENDAR