BEGIN:VCALENDAR
VERSION:2.0
PRODID:-//Saint Michael&#039;s College - ECPv6.15.14//NONSGML v1.0//EN
CALSCALE:GREGORIAN
METHOD:PUBLISH
X-WR-CALNAME:Saint Michael&#039;s College
X-ORIGINAL-URL:https://www.smcvt.edu
X-WR-CALDESC:Events for Saint Michael&#039;s College
REFRESH-INTERVAL;VALUE=DURATION:PT1H
X-Robots-Tag:noindex
X-PUBLISHED-TTL:PT1H
BEGIN:VTIMEZONE
TZID:America/New_York
BEGIN:DAYLIGHT
TZOFFSETFROM:-0500
TZOFFSETTO:-0400
TZNAME:EDT
DTSTART:20230312T070000
END:DAYLIGHT
BEGIN:STANDARD
TZOFFSETFROM:-0400
TZOFFSETTO:-0500
TZNAME:EST
DTSTART:20231105T060000
END:STANDARD
BEGIN:DAYLIGHT
TZOFFSETFROM:-0500
TZOFFSETTO:-0400
TZNAME:EDT
DTSTART:20240310T070000
END:DAYLIGHT
BEGIN:STANDARD
TZOFFSETFROM:-0400
TZOFFSETTO:-0500
TZNAME:EST
DTSTART:20241103T060000
END:STANDARD
BEGIN:DAYLIGHT
TZOFFSETFROM:-0500
TZOFFSETTO:-0400
TZNAME:EDT
DTSTART:20250309T070000
END:DAYLIGHT
BEGIN:STANDARD
TZOFFSETFROM:-0400
TZOFFSETTO:-0500
TZNAME:EST
DTSTART:20251102T060000
END:STANDARD
END:VTIMEZONE
BEGIN:VEVENT
DTSTART;TZID=America/New_York:20241008T120000
DTEND;TZID=America/New_York:20241008T130000
DTSTAMP:20260425T070315
CREATED:20240916T195051Z
LAST-MODIFIED:20240916T195209Z
UID:10001066-1728388800-1728392400@www.smcvt.edu
SUMMARY:Book Discussion Group: Leadership from the Inside Out by Kevin Cashman
DESCRIPTION:Book Discussion Group: Leadership from the Inside Out by Kevin Cashman \nTuesdays from noon to 1 p.m.\nZoom meeting – Click here to register \nJoin Rebecca Schubert\, GMHEC Employee Well-being Program Coordinator for a discussion of the book\, “Leadership from the Inside Out: Becoming a Leader for Life”\, by Kevin Cashman. Develop eight mastery areas that foster heightened awareness\, courage\, character\, authenticity\, purpose\, agility\, service and contribution that will enhance your growth as a person and as a leader.\n\nClick here to register
URL:https://www.smcvt.edu/event/book-discussion-group-leadership-from-the-inside-out-by-kevin-cashman/2024-10-08/
LOCATION:Zoom\, Virtual Event
CATEGORIES:GMHEC
ATTACH;FMTTYPE=image/jpeg:https://www.smcvt.edu/wp-content/uploads/2024/09/Leadership-from-the-Inside-Out-promo-flyer.jpg
END:VEVENT
BEGIN:VEVENT
DTSTART;TZID=America/New_York:20241008T120000
DTEND;TZID=America/New_York:20241008T130000
DTSTAMP:20260425T070315
CREATED:20240920T153333Z
LAST-MODIFIED:20240920T153333Z
UID:10001085-1728388800-1728392400@www.smcvt.edu
SUMMARY:Online Information Session- Graduate Education
DESCRIPTION:Online Information Session- Graduate Education\n\nTuesday\, October 8\, at noon\nZoom\n\nWith work\, family\, and other obligations\, we know scheduling a trip to campus to learn more about our Graduate Programs can be difficult. That’s why we’re committed to offering a variety of events\, both online and in-person\, to help ensure you receive the information you want in a way that works for you. For more information and to register\, visit www.smcvt.edu/gradevents.\n\nRegister Now
URL:https://www.smcvt.edu/event/online-information-session-graduate-education-2/
LOCATION:Zoom\, Virtual Event
CATEGORIES:Graduate Education
ATTACH;FMTTYPE=image/jpeg:https://www.smcvt.edu/wp-content/uploads/2024/09/Info-Sessions-2024-1.jpg
END:VEVENT
BEGIN:VEVENT
DTSTART;TZID=America/New_York:20241008T170000
DTEND;TZID=America/New_York:20241008T190000
DTSTAMP:20260425T070315
CREATED:20240906T201130Z
LAST-MODIFIED:20241002T141605Z
UID:10000553-1728406800-1728414000@www.smcvt.edu
SUMMARY:Freeman Foundation International Internship Student Panel
DESCRIPTION:Freeman Foundation International Internship Student Panel \nOctober 8\, 2024\n5:00-7:00 p.m.\nFarrell Room\, Saint Edmund’s Hall \nStudents will be sharing insights on the acquisition of global citizenship\, inter-cultural competency and workplace skills as part of their eight-week Freeman Foundation-supported international internship program in Seoul\, South Korea and Ho Chi Minh\, Vietnam from this past summer 2024.  There will be an opportunity to ask questions and learn more about the application process for the upcoming summer 2025 international internship program.
URL:https://www.smcvt.edu/event/freeman-foundation-international-internship-student-panel/
LOCATION:Farrell Room\, Saint Edmund’s Hall
CATEGORIES:Institute for Global Engagement
ATTACH;FMTTYPE=image/jpeg:https://www.smcvt.edu/wp-content/uploads/2024/09/2024-Freeman-Panel-2.jpg
END:VEVENT
BEGIN:VEVENT
DTSTART;TZID=America/New_York:20241008T170000
DTEND;TZID=America/New_York:20241008T200000
DTSTAMP:20260425T070315
CREATED:20240916T140737Z
LAST-MODIFIED:20250312T225757Z
UID:10000998-1728406800-1728417600@www.smcvt.edu
SUMMARY:Field Hockey at Bentley
DESCRIPTION:Field Hockey at Bentley Waltham\, MA
URL:https://www.smcvt.edu/event/field-hockey-at-bentley/
LOCATION:CT
CATEGORIES:Athletics,uploadathletics
ATTACH;FMTTYPE=image/png:https://www.smcvt.edu/wp-content/uploads/2024/09/logo-athletics-1.png
END:VEVENT
BEGIN:VEVENT
DTSTART;TZID=America/New_York:20241008T190000
DTEND;TZID=America/New_York:20241008T220000
DTSTAMP:20260425T070315
CREATED:20240916T140738Z
LAST-MODIFIED:20250312T225756Z
UID:10000999-1728414000-1728424800@www.smcvt.edu
SUMMARY:Women's Volleyball at Southern New Hampshire
DESCRIPTION:Women’s Volleyball at Southern New Hampshire Manchester\, NH
URL:https://www.smcvt.edu/event/womens-volleyball-at-southern-new-hampshire/
LOCATION:CT
CATEGORIES:Athletics,uploadathletics
ATTACH;FMTTYPE=image/png:https://www.smcvt.edu/wp-content/uploads/2024/09/logo-athletics-1.png
END:VEVENT
END:VCALENDAR