BEGIN:VCALENDAR
VERSION:2.0
PRODID:-//Saint Michael&#039;s College - ECPv6.15.14//NONSGML v1.0//EN
CALSCALE:GREGORIAN
METHOD:PUBLISH
X-WR-CALNAME:Saint Michael&#039;s College
X-ORIGINAL-URL:https://www.smcvt.edu
X-WR-CALDESC:Events for Saint Michael&#039;s College
REFRESH-INTERVAL;VALUE=DURATION:PT1H
X-Robots-Tag:noindex
X-PUBLISHED-TTL:PT1H
BEGIN:VTIMEZONE
TZID:America/New_York
BEGIN:DAYLIGHT
TZOFFSETFROM:-0500
TZOFFSETTO:-0400
TZNAME:EDT
DTSTART:20230312T070000
END:DAYLIGHT
BEGIN:STANDARD
TZOFFSETFROM:-0400
TZOFFSETTO:-0500
TZNAME:EST
DTSTART:20231105T060000
END:STANDARD
BEGIN:DAYLIGHT
TZOFFSETFROM:-0500
TZOFFSETTO:-0400
TZNAME:EDT
DTSTART:20240310T070000
END:DAYLIGHT
BEGIN:STANDARD
TZOFFSETFROM:-0400
TZOFFSETTO:-0500
TZNAME:EST
DTSTART:20241103T060000
END:STANDARD
BEGIN:DAYLIGHT
TZOFFSETFROM:-0500
TZOFFSETTO:-0400
TZNAME:EDT
DTSTART:20250309T070000
END:DAYLIGHT
BEGIN:STANDARD
TZOFFSETFROM:-0400
TZOFFSETTO:-0500
TZNAME:EST
DTSTART:20251102T060000
END:STANDARD
END:VTIMEZONE
BEGIN:VEVENT
DTSTART;TZID=America/New_York:20241009T090000
DTEND;TZID=America/New_York:20241009T120000
DTSTAMP:20260425T070302
CREATED:20240906T132839Z
LAST-MODIFIED:20240906T133331Z
UID:10000546-1728464400-1728475200@www.smcvt.edu
SUMMARY:NEACAC College Fair
DESCRIPTION:NEACAC College Fair \nWednesday\, October 9\n9 a.m. to noon and 6 to 8 p.m.\nTarrant Recreation Center \nWe’re proud to once again host the NEACAC College Fair on Oct. 9th from 9:00am-12:00pm and 6:00pm-8:00pm. There will be 100 college and universities represented! High school students need not register. However\, counselors interested in bringing a group\, please register here: https://admission.smcvt.edu/register/?id=d937a3da-cc6f-4da2-8a5e-327fab1e786a
URL:https://www.smcvt.edu/event/neacac-college-fair/2024-10-09/1/
LOCATION:Tarrant Recreation Center
CATEGORIES:Admission
ATTACH;FMTTYPE=image/jpeg:https://www.smcvt.edu/wp-content/uploads/2023/10/college_fair-e1770309475479.jpg
END:VEVENT
BEGIN:VEVENT
DTSTART;TZID=America/New_York:20241009T090000
DTEND;TZID=America/New_York:20241009T200000
DTSTAMP:20260425T070302
CREATED:20241007T181209Z
LAST-MODIFIED:20241007T181209Z
UID:10001208-1728464400-1728504000@www.smcvt.edu
SUMMARY:NEACAC COLLEGE FAIR
DESCRIPTION:NEACAC COLLEGE FAIR\n\nWednesday\, October 9\, from 9 a.m. to 8 p.m.\nRoss Sports Center\n\nNEACAC New England College Fair hosted by St. Mike’s. Hundreds of students attend the NEACAC college fair to connect with over 100 colleges. Students will be on campus throughout the day on Wednesday (10/9). After attending the college fair in Tarrant\, they may tour our beautiful campus + dine in the Green Mountain Dining Room.
URL:https://www.smcvt.edu/event/neacac-college-fair-2/
LOCATION:Ross Sports Center
CATEGORIES:Admission
ATTACH;FMTTYPE=image/jpeg:https://www.smcvt.edu/wp-content/uploads/2022/09/AerialView450.jpg
END:VEVENT
BEGIN:VEVENT
DTSTART;TZID=America/New_York:20241009T180000
DTEND;TZID=America/New_York:20241009T200000
DTSTAMP:20260425T070302
CREATED:20240906T132839Z
LAST-MODIFIED:20240906T133331Z
UID:10000547-1728496800-1728504000@www.smcvt.edu
SUMMARY:NEACAC College Fair
DESCRIPTION:NEACAC College Fair \nWednesday\, October 9\n9 a.m. to noon and 6 to 8 p.m.\nTarrant Recreation Center \nWe’re proud to once again host the NEACAC College Fair on Oct. 9th from 9:00am-12:00pm and 6:00pm-8:00pm. There will be 100 college and universities represented! High school students need not register. However\, counselors interested in bringing a group\, please register here: https://admission.smcvt.edu/register/?id=d937a3da-cc6f-4da2-8a5e-327fab1e786a
URL:https://www.smcvt.edu/event/neacac-college-fair/2024-10-09/2/
LOCATION:Tarrant Recreation Center
CATEGORIES:Admission
ATTACH;FMTTYPE=image/jpeg:https://www.smcvt.edu/wp-content/uploads/2023/10/college_fair-e1770309475479.jpg
END:VEVENT
BEGIN:VEVENT
DTSTART;TZID=America/New_York:20241009T190000
DTEND;TZID=America/New_York:20241009T220000
DTSTAMP:20260425T070302
CREATED:20240916T140739Z
LAST-MODIFIED:20250312T225755Z
UID:10001000-1728500400-1728511200@www.smcvt.edu
SUMMARY:Women's Soccer at Southern New Hampshire
DESCRIPTION:Women’s Soccer at Southern New Hampshire Manchester\, NH
URL:https://www.smcvt.edu/event/womens-soccer-at-southern-new-hampshire/
LOCATION:CT
CATEGORIES:Athletics,uploadathletics
ATTACH;FMTTYPE=image/png:https://www.smcvt.edu/wp-content/uploads/2024/09/logo-athletics-1.png
END:VEVENT
END:VCALENDAR