BEGIN:VCALENDAR
VERSION:2.0
PRODID:-//Saint Michael&#039;s College - ECPv6.15.14//NONSGML v1.0//EN
CALSCALE:GREGORIAN
METHOD:PUBLISH
X-WR-CALNAME:Saint Michael&#039;s College
X-ORIGINAL-URL:https://www.smcvt.edu
X-WR-CALDESC:Events for Saint Michael&#039;s College
REFRESH-INTERVAL;VALUE=DURATION:PT1H
X-Robots-Tag:noindex
X-PUBLISHED-TTL:PT1H
BEGIN:VTIMEZONE
TZID:America/New_York
BEGIN:DAYLIGHT
TZOFFSETFROM:-0500
TZOFFSETTO:-0400
TZNAME:EDT
DTSTART:20230312T070000
END:DAYLIGHT
BEGIN:STANDARD
TZOFFSETFROM:-0400
TZOFFSETTO:-0500
TZNAME:EST
DTSTART:20231105T060000
END:STANDARD
BEGIN:DAYLIGHT
TZOFFSETFROM:-0500
TZOFFSETTO:-0400
TZNAME:EDT
DTSTART:20240310T070000
END:DAYLIGHT
BEGIN:STANDARD
TZOFFSETFROM:-0400
TZOFFSETTO:-0500
TZNAME:EST
DTSTART:20241103T060000
END:STANDARD
BEGIN:DAYLIGHT
TZOFFSETFROM:-0500
TZOFFSETTO:-0400
TZNAME:EDT
DTSTART:20250309T070000
END:DAYLIGHT
BEGIN:STANDARD
TZOFFSETFROM:-0400
TZOFFSETTO:-0500
TZNAME:EST
DTSTART:20251102T060000
END:STANDARD
END:VTIMEZONE
BEGIN:VEVENT
DTSTART;TZID=America/New_York:20241015T120000
DTEND;TZID=America/New_York:20241015T130000
DTSTAMP:20260425T070304
CREATED:20240916T195051Z
LAST-MODIFIED:20240916T195209Z
UID:10001067-1728993600-1728997200@www.smcvt.edu
SUMMARY:Book Discussion Group: Leadership from the Inside Out by Kevin Cashman
DESCRIPTION:Book Discussion Group: Leadership from the Inside Out by Kevin Cashman \nTuesdays from noon to 1 p.m.\nZoom meeting – Click here to register \nJoin Rebecca Schubert\, GMHEC Employee Well-being Program Coordinator for a discussion of the book\, “Leadership from the Inside Out: Becoming a Leader for Life”\, by Kevin Cashman. Develop eight mastery areas that foster heightened awareness\, courage\, character\, authenticity\, purpose\, agility\, service and contribution that will enhance your growth as a person and as a leader.\n\nClick here to register
URL:https://www.smcvt.edu/event/book-discussion-group-leadership-from-the-inside-out-by-kevin-cashman/2024-10-15/
LOCATION:Zoom\, Virtual Event
CATEGORIES:GMHEC
ATTACH;FMTTYPE=image/jpeg:https://www.smcvt.edu/wp-content/uploads/2024/09/Leadership-from-the-Inside-Out-promo-flyer.jpg
END:VEVENT
BEGIN:VEVENT
DTSTART;TZID=America/New_York:20241015T150000
DTEND;TZID=America/New_York:20241015T180000
DTSTAMP:20260425T070304
CREATED:20240916T141039Z
LAST-MODIFIED:20250312T225749Z
UID:10001009-1729004400-1729015200@www.smcvt.edu
SUMMARY:Men's Soccer vs Roberts Wesleyan
DESCRIPTION:Men’s Soccer vs Roberts Wesleyan Colchester\, VT
URL:https://www.smcvt.edu/event/mens-soccer-vs-roberts-wesleyan/
LOCATION:CT
CATEGORIES:Athletics,uploadathletics
ATTACH;FMTTYPE=image/png:https://www.smcvt.edu/wp-content/uploads/2024/09/logo-athletics-1.png
END:VEVENT
BEGIN:VEVENT
DTSTART;TZID=America/New_York:20241015T170000
DTEND;TZID=America/New_York:20241015T183000
DTSTAMP:20260425T070304
CREATED:20240924T202638Z
LAST-MODIFIED:20240924T202638Z
UID:10001163-1729011600-1729017000@www.smcvt.edu
SUMMARY:Voter Awareness Series: Who Will Be Our Country's Next President?
DESCRIPTION:Voter Awareness Series: Who Will Be Our Country’s Next President? \nTuesday\, October 15\, from 5 to 6:30 p.m.\nSaint Edmund’s Hall\, Room 102 \nDiscussion featuring speaker Geoffrey Skelley\, who covers US politics and elections from the viewpoint of a Data Analyst.
URL:https://www.smcvt.edu/event/voter-awareness-series-who-will-be-our-countrys-next-president/
LOCATION:Saint Edmund’s Hall\, One Winooski Park\, Colchester\, VT\, 05439\, United States
CATEGORIES:Academic Affairs,Marketing & Communications
ATTACH;FMTTYPE=image/jpeg:https://www.smcvt.edu/wp-content/uploads/2024/09/Voter-Awareness-Series-Poster-2024-scaled.jpg
END:VEVENT
BEGIN:VEVENT
DTSTART;TZID=America/New_York:20241015T170000
DTEND;TZID=America/New_York:20241015T200000
DTSTAMP:20260425T070304
CREATED:20240916T141040Z
LAST-MODIFIED:20250312T225748Z
UID:10001010-1729011600-1729022400@www.smcvt.edu
SUMMARY:Women's Volleyball vs Southern Connecticut State
DESCRIPTION:Women’s Volleyball vs Southern Connecticut State Colchester\, VT
URL:https://www.smcvt.edu/event/womens-volleyball-vs-southern-connecticut-state/
LOCATION:CT
CATEGORIES:Athletics,uploadathletics
ATTACH;FMTTYPE=image/png:https://www.smcvt.edu/wp-content/uploads/2024/09/logo-athletics-1.png
END:VEVENT
BEGIN:VEVENT
DTSTART;TZID=America/New_York:20241015T180000
DTEND;TZID=America/New_York:20241015T200000
DTSTAMP:20260425T070304
CREATED:20240920T190251Z
LAST-MODIFIED:20241001T164842Z
UID:10001089-1729015200-1729022400@www.smcvt.edu
SUMMARY:MAT Workshop: Common Read Educator Panel with Address by Mascot Author Traci Sorell
DESCRIPTION:MAT Workshop: Common Read Educator Panel with Address by Mascot Author Traci Sorell \nTuesday\, October 15\, from 6 to 8 p.m.\nMcCarthy Arts Center Recital Hall \nThe author of MASCOT\, Traci Sorell\, will deliver a virtual keynote address at our panel event with local educators and administrators. This event will be an opportunity for dialogue\, learning\, and perspective sharing regarding the issue of harmful and racist mascots. We will also examine the curricular and pedagogical implications of the many themes throughout the book including racism\, identity\, tradition\, sports culture\, activism\, family dynamics\, power\, multiculturalism\, and teacher practices. This is a UPLIFT event!
URL:https://www.smcvt.edu/event/mat-workshop-common-read-educator-panel-with-address-by-mascot-author-traci-sorell/
LOCATION:Recital Hall\, McCarthy Arts Center
CATEGORIES:Graduate Education
ATTACH;FMTTYPE=image/png:https://www.smcvt.edu/wp-content/uploads/2024/09/Screenshot-2024-09-30-at-3.21.16 PM.png
END:VEVENT
BEGIN:VEVENT
DTSTART;TZID=America/New_York:20241015T180000
DTEND;TZID=America/New_York:20241015T210000
DTSTAMP:20260425T070304
CREATED:20240916T141042Z
LAST-MODIFIED:20250312T225747Z
UID:10001011-1729015200-1729026000@www.smcvt.edu
SUMMARY:Field Hockey vs Saint Anselm
DESCRIPTION:Field Hockey vs Saint Anselm Colchester\, VT
URL:https://www.smcvt.edu/event/field-hockey-vs-saint-anselm/
LOCATION:CT
CATEGORIES:Athletics,uploadathletics
ATTACH;FMTTYPE=image/png:https://www.smcvt.edu/wp-content/uploads/2024/09/logo-athletics-1.png
END:VEVENT
END:VCALENDAR