BEGIN:VCALENDAR
VERSION:2.0
PRODID:-//Saint Michael&#039;s College - ECPv6.15.14//NONSGML v1.0//EN
CALSCALE:GREGORIAN
METHOD:PUBLISH
X-WR-CALNAME:Saint Michael&#039;s College
X-ORIGINAL-URL:https://www.smcvt.edu
X-WR-CALDESC:Events for Saint Michael&#039;s College
REFRESH-INTERVAL;VALUE=DURATION:PT1H
X-Robots-Tag:noindex
X-PUBLISHED-TTL:PT1H
BEGIN:VTIMEZONE
TZID:America/New_York
BEGIN:DAYLIGHT
TZOFFSETFROM:-0500
TZOFFSETTO:-0400
TZNAME:EDT
DTSTART:20230312T070000
END:DAYLIGHT
BEGIN:STANDARD
TZOFFSETFROM:-0400
TZOFFSETTO:-0500
TZNAME:EST
DTSTART:20231105T060000
END:STANDARD
BEGIN:DAYLIGHT
TZOFFSETFROM:-0500
TZOFFSETTO:-0400
TZNAME:EDT
DTSTART:20240310T070000
END:DAYLIGHT
BEGIN:STANDARD
TZOFFSETFROM:-0400
TZOFFSETTO:-0500
TZNAME:EST
DTSTART:20241103T060000
END:STANDARD
BEGIN:DAYLIGHT
TZOFFSETFROM:-0500
TZOFFSETTO:-0400
TZNAME:EDT
DTSTART:20250309T070000
END:DAYLIGHT
BEGIN:STANDARD
TZOFFSETFROM:-0400
TZOFFSETTO:-0500
TZNAME:EST
DTSTART:20251102T060000
END:STANDARD
END:VTIMEZONE
BEGIN:VEVENT
DTSTART;TZID=America/New_York:20241016T080000
DTEND;TZID=America/New_York:20241016T180000
DTSTAMP:20260425T002543
CREATED:20241009T170002Z
LAST-MODIFIED:20241009T170002Z
UID:10001213-1729065600-1729101600@www.smcvt.edu
SUMMARY:Student Trip to REV2024 Conference
DESCRIPTION:Student Trip to REV2024 Conference\n\nWednesday\, October 16\, from 8 a.m. to 6 p.m.\n\nCurrent SMC students will travel together with a staff member of the Patrick ’61 and Marcelle Leahy Institute for the Environment to attend the annual Renewable Energy Conference 2024 in Burlington\, VT. Admission for SMC students has been waived. REV2024 is the largest comprehensive renewable energy gathering in the region for business leaders\, policymakers\, regulators\, and others working to build a path for a 100% renewable energy future.
URL:https://www.smcvt.edu/event/student-trip-to-rev2024-conference/
LOCATION:Burlington\, Vermont
CATEGORIES:Environmental Science and Environmental Studies,The Patrick '61 and Marcelle Leahy Institute for the Environment
ATTACH;FMTTYPE=image/png:https://www.smcvt.edu/wp-content/uploads/2024/10/REV-Conference.png
END:VEVENT
BEGIN:VEVENT
DTSTART;TZID=America/New_York:20241016T160000
DTEND;TZID=America/New_York:20241016T190000
DTSTAMP:20260425T002543
CREATED:20240916T141043Z
LAST-MODIFIED:20250312T225746Z
UID:10001012-1729094400-1729105200@www.smcvt.edu
SUMMARY:Women's Soccer vs Daemen
DESCRIPTION:Women’s Soccer vs Daemen Colchester\, VT
URL:https://www.smcvt.edu/event/womens-soccer-vs-daemen/
LOCATION:CT
CATEGORIES:Athletics,uploadathletics
ATTACH;FMTTYPE=image/png:https://www.smcvt.edu/wp-content/uploads/2024/09/logo-athletics-1.png
END:VEVENT
BEGIN:VEVENT
DTSTART;TZID=America/New_York:20241016T170000
DTEND;TZID=America/New_York:20241016T180000
DTSTAMP:20260425T002543
CREATED:20240916T144842Z
LAST-MODIFIED:20240916T144842Z
UID:10001055-1729098000-1729101600@www.smcvt.edu
SUMMARY:Therapy Dogs and Tabling for SVA
DESCRIPTION:Therapy Dogs and Tabling for Student Veterans of America\n\nWednesday\, October 16\, from 5 to 6 p.m.\nAlliot Student Center Lobby
URL:https://www.smcvt.edu/event/therapy-dogs-and-tabling-for-sva/
LOCATION:Lobby\, Alliot Student Center
CATEGORIES:Veteran and Military Services
END:VEVENT
BEGIN:VEVENT
DTSTART;TZID=America/New_York:20241016T170000
DTEND;TZID=America/New_York:20241016T180000
DTSTAMP:20260425T002543
CREATED:20241015T195354Z
LAST-MODIFIED:20241015T200324Z
UID:10001216-1729098000-1729101600@www.smcvt.edu
SUMMARY:Spanish Internship (Summer 2025) – Information Session
DESCRIPTION:Spanish Internship (Summer 2025) – Information Session\n\nWednesday\, October 16\, at 5 p.m.\nCheray Science Hall 111\n\n\nCome learn about Spanish Internship program in Madrid\, Spain for summer 2025 (mid-May to mid-July)\, sponsored by the SMC Spanish program and Institute for Global Engagement.\n\nThis Spanish immersion program include an internship\, coursework (1 class)\, and homestay.\n\nGenerous financial support from the Institute covers nearly all expenses for accepted applicants: program fee\, travel\, lodging\, food stipend\, and academic credits – an incredible opportunity!\nPROGRAM HIGHLIGHTS: Improve your Spanish language skills by immersion in an intensive learning environment. Take a course\, live with a host family\, and complete a supervised internship.\n\nAPPLICATION DEADLINE: Friday\, November 15\n\nCONTACT: Prof. Peter Vantine (pvantine@smcvt.edu) or Prof. Rafa Osuna-Montanez (rosunamontan@smcvt.edu).
URL:https://www.smcvt.edu/event/spanish-internship-summer-2025-information-session/
LOCATION:Cheray Science Hall\, VT
CATEGORIES:Institute for Global Engagement,Study Abroad
ATTACH;FMTTYPE=image/jpeg:https://www.smcvt.edu/wp-content/uploads/2024/10/BU-Madrid-Poster-2025-marketing-1.jpg
END:VEVENT
BEGIN:VEVENT
DTSTART;TZID=America/New_York:20241016T170000
DTEND;TZID=America/New_York:20241016T180000
DTSTAMP:20260425T002543
CREATED:20241015T195655Z
LAST-MODIFIED:20241015T195655Z
UID:10001217-1729098000-1729101600@www.smcvt.edu
SUMMARY:French Internship (Summer 2025) – Information Session
DESCRIPTION:French Internship (Summer 2025) – Information Session \nWednesday\, October 16\, at 5 p.m.\nCheray Science Hall 111 \nCome learn about French Internship program in Paris\, France for summer 2025 (mid-May to mid-July)\, sponsored by the SMC French program and Institute for Global Engagement.\n\nThis French immersion program include an internship\, coursework (1 class)\, and homestay.\n\nGenerous financial support from the Institute covers nearly all expenses for accepted applicants: program fee\, travel\, lodging\, food stipend\, and academic credits – an incredible opportunity!\nPROGRAM HIGHLIGHTS: Improve your French language skills by immersion in an intensive learning environment. Take a course\, live with a host family\, and complete a supervised internship.\n\nAPPLICATION DEADLINE: Friday\, November 15\n\nCONTACT: Prof. Peter Vantine (pvantine@smcvt.edu).
URL:https://www.smcvt.edu/event/french-internship-summer-2025-information-session/
LOCATION:Cheray Science Hall\, VT
CATEGORIES:Institute for Global Engagement,Study Abroad
ATTACH;FMTTYPE=image/jpeg:https://www.smcvt.edu/wp-content/uploads/2024/10/BU-Paris-Poster-2025-marketing-1.jpg
END:VEVENT
END:VCALENDAR