BEGIN:VCALENDAR
VERSION:2.0
PRODID:-//Saint Michael&#039;s College - ECPv6.15.14//NONSGML v1.0//EN
CALSCALE:GREGORIAN
METHOD:PUBLISH
X-WR-CALNAME:Saint Michael&#039;s College
X-ORIGINAL-URL:https://www.smcvt.edu
X-WR-CALDESC:Events for Saint Michael&#039;s College
REFRESH-INTERVAL;VALUE=DURATION:PT1H
X-Robots-Tag:noindex
X-PUBLISHED-TTL:PT1H
BEGIN:VTIMEZONE
TZID:America/New_York
BEGIN:DAYLIGHT
TZOFFSETFROM:-0500
TZOFFSETTO:-0400
TZNAME:EDT
DTSTART:20230312T070000
END:DAYLIGHT
BEGIN:STANDARD
TZOFFSETFROM:-0400
TZOFFSETTO:-0500
TZNAME:EST
DTSTART:20231105T060000
END:STANDARD
BEGIN:DAYLIGHT
TZOFFSETFROM:-0500
TZOFFSETTO:-0400
TZNAME:EDT
DTSTART:20240310T070000
END:DAYLIGHT
BEGIN:STANDARD
TZOFFSETFROM:-0400
TZOFFSETTO:-0500
TZNAME:EST
DTSTART:20241103T060000
END:STANDARD
BEGIN:DAYLIGHT
TZOFFSETFROM:-0500
TZOFFSETTO:-0400
TZNAME:EDT
DTSTART:20250309T070000
END:DAYLIGHT
BEGIN:STANDARD
TZOFFSETFROM:-0400
TZOFFSETTO:-0500
TZNAME:EST
DTSTART:20251102T060000
END:STANDARD
END:VTIMEZONE
BEGIN:VEVENT
DTSTART;TZID=America/New_York:20241017T160000
DTEND;TZID=America/New_York:20241017T180000
DTSTAMP:20260425T070318
CREATED:20240920T184447Z
LAST-MODIFIED:20241003T154112Z
UID:10001087-1729180800-1729188000@www.smcvt.edu
SUMMARY:Annual Humanities Center Lecture – Philosopher Myisha Cherry
DESCRIPTION:Annual Humanities Center Lecture – Philosopher Myisha Cherry\n “Forgiveness: What We Get Wrong and How to Do Better” \nThursday\, October 17\, at 4 p.m.\nMcCarthy Arts Center Recital Hall \n\nPlease join us for “Failures of Forgiveness: What We Get Wrong and How to Do Better\,” a lecture by Myisha Cherry\, PhD\, who is an Associate Professor of Philosophy at the University of California (Riverside) and Director of the Emotion and Society Lab.\n\nSages from Cicero to Oprah have told us that forgiveness requires us to let go of negative emotions and that it has a unique power to heal our wounds. Dr. Cherry argues that these beliefs couldn’t be more wrong—and that the ways we think about and use forgiveness\, personally and as a society\, can often do more harm than good. In this talk\, Cherry presents a new and healthier understanding of forgiveness—one that gives us a better chance to recover from wrongdoing and move toward “radical repair.” She also addresses how writing her latest book\, Failures of Forgiveness\, led her to her current research on how we approach love.\n\nDr. Cherry’s books include: How to Love (forthcoming\, Riverhead/Basic)\, Failures of Forgiveness (Princeton\, 2023)\, The Case for Rage: Why Anger is Essential to Anti-racist Struggle (2021\, Oxford)\, UnMuted: Conversations on Prejudice\, Oppression\, and Social Justice (Oxford\, 2019)\, and The Moral Psychology of Anger (Rowman & Littlefield\, 2017)\, co-edited with Owen Flanagan. Her work on emotions and race has appeared in The Atlantic\, Boston Review\, Los Angeles Times\, Salon\, Huffington Post\, WomanKind\, and New Philosopher Magazine. She is also the host of the UnMute Podcast\, where she interviews philosophers about the social and political issues of our day.\n\nDr. Cherry’s visit is generously supported by: The Humanities Center\, the Vice-President of Academic Affairs\, the Department of Philosophy and Ethics\, the Center for Faith and Culture\, the Institute for Equity and Justice\, and the UVM Philosophy Department.
URL:https://www.smcvt.edu/event/annual-humanities-center-lecture-forgiveness-what-we-get-wrong-and-how-to-do-better/
LOCATION:Recital Hall\, McCarthy Arts Center
CATEGORIES:Academic Affairs
ATTACH;FMTTYPE=image/jpeg:https://www.smcvt.edu/wp-content/uploads/2024/09/headshot.jpg
END:VEVENT
END:VCALENDAR