BEGIN:VCALENDAR
VERSION:2.0
PRODID:-//Saint Michael&#039;s College - ECPv6.15.14//NONSGML v1.0//EN
CALSCALE:GREGORIAN
METHOD:PUBLISH
X-WR-CALNAME:Saint Michael&#039;s College
X-ORIGINAL-URL:https://www.smcvt.edu
X-WR-CALDESC:Events for Saint Michael&#039;s College
REFRESH-INTERVAL;VALUE=DURATION:PT1H
X-Robots-Tag:noindex
X-PUBLISHED-TTL:PT1H
BEGIN:VTIMEZONE
TZID:America/New_York
BEGIN:DAYLIGHT
TZOFFSETFROM:-0500
TZOFFSETTO:-0400
TZNAME:EDT
DTSTART:20230312T070000
END:DAYLIGHT
BEGIN:STANDARD
TZOFFSETFROM:-0400
TZOFFSETTO:-0500
TZNAME:EST
DTSTART:20231105T060000
END:STANDARD
BEGIN:DAYLIGHT
TZOFFSETFROM:-0500
TZOFFSETTO:-0400
TZNAME:EDT
DTSTART:20240310T070000
END:DAYLIGHT
BEGIN:STANDARD
TZOFFSETFROM:-0400
TZOFFSETTO:-0500
TZNAME:EST
DTSTART:20241103T060000
END:STANDARD
BEGIN:DAYLIGHT
TZOFFSETFROM:-0500
TZOFFSETTO:-0400
TZNAME:EDT
DTSTART:20250309T070000
END:DAYLIGHT
BEGIN:STANDARD
TZOFFSETFROM:-0400
TZOFFSETTO:-0500
TZNAME:EST
DTSTART:20251102T060000
END:STANDARD
END:VTIMEZONE
BEGIN:VEVENT
DTSTART;VALUE=DATE:20241030
DTEND;VALUE=DATE:20241115
DTSTAMP:20260425T070312
CREATED:20241004T140506Z
LAST-MODIFIED:20241004T152046Z
UID:10001204-1730246400-1731628799@www.smcvt.edu
SUMMARY:On the Margins of Europe: War Before the War (Photography Exhibit)
DESCRIPTION:On the Margins of Europe: War Before the War (Photography Exhibit) \nWednesday\, Oct. 30\, through Thursday\, November 14\nRoy Room\, Dion Family Student Center \nDmitri Beliakov\, is a freelance photojournalist originally from Moscow\, Russia. For five years\, from 2014-2019 he covered events in the east of Ukraine where he explored the fanaticism that is driving the largest war in Europe in a generation; the transformative effects of the conflict on both the pro-Ukrainian government fighters and Moscow-backed armed separatists; and the tragedy of the most vulnerable: the elderly\, the ill and the poor of the region. Over 50 of his moving photographs will be on display.
URL:https://www.smcvt.edu/event/on-the-margins-of-europe-war-before-the-war-photography-exhibit/
LOCATION:Roy Room\, Dion Family Student Center
CATEGORIES:Institute for Global Engagement
ATTACH;FMTTYPE=image/jpeg:https://www.smcvt.edu/wp-content/uploads/2024/10/Exhibit-2.jpg
END:VEVENT
BEGIN:VEVENT
DTSTART;TZID=America/New_York:20241101T140000
DTEND;TZID=America/New_York:20241101T170000
DTSTAMP:20260425T070312
CREATED:20240828T162137Z
LAST-MODIFIED:20240906T145405Z
UID:10000468-1730469600-1730480400@www.smcvt.edu
SUMMARY:OVE Farm Fridays
DESCRIPTION:Outdoor Volunteer Efforts\, one of MOVE’s CORE programs\, and the Institute for the Environment co-sponsor a free volunteer event for anyone in the SMC community to spend time getting their hands dirty at the Farm!
URL:https://www.smcvt.edu/event/ove-farm-fridays-7/2024-11-01/
LOCATION:The Farm
CATEGORIES:MOVE,The Patrick '61 and Marcelle Leahy Institute for the Environment
ATTACH;FMTTYPE=image/jpeg:https://www.smcvt.edu/wp-content/uploads/2020/09/The-Farm-working.jpg
END:VEVENT
BEGIN:VEVENT
DTSTART;TZID=America/New_York:20241101T150000
DTEND;TZID=America/New_York:20241101T180000
DTSTAMP:20260425T070312
CREATED:20240904T163533Z
LAST-MODIFIED:20240906T133442Z
UID:10000541-1730473200-1730484000@www.smcvt.edu
SUMMARY:Math-Statistics Colloquium
DESCRIPTION:Math-Statistics Colloquium \nFriday\, November 1\, 2024\n3:00 PM – 6:00 PM (ET)\nCheray Science Hall 101 \nDr. Mac Edmondson ’16 will give a talk about his role as a Senior Scientist at Merck working in Early Development Statistics within the Biostatistics and Research Decision Sciences (BARDS) department\, after earning a Ph.D. in Biostatistics from the University of Pennsylvania.
URL:https://www.smcvt.edu/event/math-statistics-colloquium/
LOCATION:Cheray 101\, Cheray Science Hall
CATEGORIES:Math
ATTACH;FMTTYPE=image/jpeg:https://www.smcvt.edu/wp-content/uploads/2020/01/Events-Cheray.jpg
END:VEVENT
END:VCALENDAR