BEGIN:VCALENDAR
VERSION:2.0
PRODID:-//Saint Michael&#039;s College - ECPv6.15.14//NONSGML v1.0//EN
CALSCALE:GREGORIAN
METHOD:PUBLISH
X-ORIGINAL-URL:https://www.smcvt.edu
X-WR-CALDESC:Events for Saint Michael&#039;s College
REFRESH-INTERVAL;VALUE=DURATION:PT1H
X-Robots-Tag:noindex
X-PUBLISHED-TTL:PT1H
BEGIN:VTIMEZONE
TZID:America/New_York
BEGIN:DAYLIGHT
TZOFFSETFROM:-0500
TZOFFSETTO:-0400
TZNAME:EDT
DTSTART:20230312T070000
END:DAYLIGHT
BEGIN:STANDARD
TZOFFSETFROM:-0400
TZOFFSETTO:-0500
TZNAME:EST
DTSTART:20231105T060000
END:STANDARD
BEGIN:DAYLIGHT
TZOFFSETFROM:-0500
TZOFFSETTO:-0400
TZNAME:EDT
DTSTART:20240310T070000
END:DAYLIGHT
BEGIN:STANDARD
TZOFFSETFROM:-0400
TZOFFSETTO:-0500
TZNAME:EST
DTSTART:20241103T060000
END:STANDARD
BEGIN:DAYLIGHT
TZOFFSETFROM:-0500
TZOFFSETTO:-0400
TZNAME:EDT
DTSTART:20250309T070000
END:DAYLIGHT
BEGIN:STANDARD
TZOFFSETFROM:-0400
TZOFFSETTO:-0500
TZNAME:EST
DTSTART:20251102T060000
END:STANDARD
END:VTIMEZONE
BEGIN:VEVENT
DTSTART;VALUE=DATE:20241030
DTEND;VALUE=DATE:20241115
DTSTAMP:20260425T152302
CREATED:20241004T140506Z
LAST-MODIFIED:20241004T152046Z
UID:10001204-1730246400-1731628799@www.smcvt.edu
SUMMARY:On the Margins of Europe: War Before the War (Photography Exhibit)
DESCRIPTION:On the Margins of Europe: War Before the War (Photography Exhibit) \nWednesday\, Oct. 30\, through Thursday\, November 14\nRoy Room\, Dion Family Student Center \nDmitri Beliakov\, is a freelance photojournalist originally from Moscow\, Russia. For five years\, from 2014-2019 he covered events in the east of Ukraine where he explored the fanaticism that is driving the largest war in Europe in a generation; the transformative effects of the conflict on both the pro-Ukrainian government fighters and Moscow-backed armed separatists; and the tragedy of the most vulnerable: the elderly\, the ill and the poor of the region. Over 50 of his moving photographs will be on display.
URL:https://www.smcvt.edu/event/on-the-margins-of-europe-war-before-the-war-photography-exhibit/
LOCATION:Roy Room\, Dion Family Student Center
CATEGORIES:Institute for Global Engagement
ATTACH;FMTTYPE=image/jpeg:https://www.smcvt.edu/wp-content/uploads/2024/10/Exhibit-2.jpg
END:VEVENT
BEGIN:VEVENT
DTSTART;TZID=America/New_York:20241106T160000
DTEND;TZID=America/New_York:20241106T190000
DTSTAMP:20260425T152302
CREATED:20240916T142247Z
LAST-MODIFIED:20250312T225733Z
UID:10001033-1730908800-1730919600@www.smcvt.edu
SUMMARY:Women's Soccer vs Assumption
DESCRIPTION:Women’s Soccer vs Assumption Colchester\, VT
URL:https://www.smcvt.edu/event/womens-soccer-vs-assumption/
LOCATION:CT
CATEGORIES:Athletics,uploadathletics
ATTACH;FMTTYPE=image/png:https://www.smcvt.edu/wp-content/uploads/2024/09/logo-athletics-1.png
END:VEVENT
BEGIN:VEVENT
DTSTART;TZID=America/New_York:20241106T180000
DTEND;TZID=America/New_York:20241106T190000
DTSTAMP:20260425T152302
CREATED:20240920T152841Z
LAST-MODIFIED:20240920T152907Z
UID:10001083-1730916000-1730919600@www.smcvt.edu
SUMMARY:Online Information Session: Graduate Education
DESCRIPTION:Online Information Session: Graduate Education\n\nWednesday\, November 6\, at 6 p.m.\nOnline\n\nWith work\, family\, and other obligations\, we know scheduling a trip to campus to learn more about our Graduate Programs can be difficult. That’s why we’re committed to offering a variety of events\, both online and in-person\, to help ensure you receive the information you want in a way that works for you. For more information and to register\, visit www.smcvt.edu/gradevents.\n\nRegister Now
URL:https://www.smcvt.edu/event/online-information-session-graduate-education/
LOCATION:Zoom\, Virtual Event
CATEGORIES:Graduate Education
ATTACH;FMTTYPE=image/jpeg:https://www.smcvt.edu/wp-content/uploads/2024/09/Info-Sessions-2024-1.jpg
END:VEVENT
BEGIN:VEVENT
DTSTART;TZID=America/New_York:20241106T190000
DTEND;TZID=America/New_York:20241106T220000
DTSTAMP:20260425T152302
CREATED:20240916T142249Z
LAST-MODIFIED:20250312T225732Z
UID:10001034-1730919600-1730930400@www.smcvt.edu
SUMMARY:Men's Soccer vs Bentley
DESCRIPTION:Men’s Soccer vs Bentley Colchester\, VT
URL:https://www.smcvt.edu/event/mens-soccer-vs-bentley/
LOCATION:CT
CATEGORIES:Athletics,uploadathletics
ATTACH;FMTTYPE=image/png:https://www.smcvt.edu/wp-content/uploads/2024/09/logo-athletics-1.png
END:VEVENT
BEGIN:VEVENT
DTSTART;TZID=America/New_York:20241106T190000
DTEND;TZID=America/New_York:20241109T203000
DTSTAMP:20260425T152302
CREATED:20240916T144619Z
LAST-MODIFIED:20241107T205841Z
UID:10001054-1730919600-1731184200@www.smcvt.edu
SUMMARY:"A Taste of Freedom" by Sadie Chamberlain '25
DESCRIPTION:“A Taste of Freedom” by Sadie Chamberlain ’25\n\nWednesday\, November 6\, at 7 p.m.\nMcCarthy Arts Center Theater\n\n\nThe Fall Mainstage Theatre production is “A Taste of Freedom” written by Sadie Chamberlain\, SMC Class of 2025.\n\nThe play uses the power of the human imagination to explore the internal complexities of life as a disabled person. The Maiden\, who finds solace away from her physical limits by escaping to a bygone age\, entrusts all of her deepest frustrations to The Siren\, who uses her vocal prowess to keep The Maiden entertained and a local farmer enamored. As tensions rise\, The Maiden must decide if this eternal balancing act is worth the aggravation.
URL:https://www.smcvt.edu/event/a-taste-of-freedom-by-sadie-chamberlain-25/
LOCATION:Recital Hall\, McCarthy Arts Center
CATEGORIES:Theatre
ATTACH;FMTTYPE=image/jpeg:https://www.smcvt.edu/wp-content/uploads/2024/10/A-Taste-of-Freedom-Poster-002-scaled.jpg
END:VEVENT
END:VCALENDAR