BEGIN:VCALENDAR
VERSION:2.0
PRODID:-//Saint Michael&#039;s College - ECPv6.15.14//NONSGML v1.0//EN
CALSCALE:GREGORIAN
METHOD:PUBLISH
X-ORIGINAL-URL:https://www.smcvt.edu
X-WR-CALDESC:Events for Saint Michael&#039;s College
REFRESH-INTERVAL;VALUE=DURATION:PT1H
X-Robots-Tag:noindex
X-PUBLISHED-TTL:PT1H
BEGIN:VTIMEZONE
TZID:America/New_York
BEGIN:DAYLIGHT
TZOFFSETFROM:-0500
TZOFFSETTO:-0400
TZNAME:EDT
DTSTART:20230312T070000
END:DAYLIGHT
BEGIN:STANDARD
TZOFFSETFROM:-0400
TZOFFSETTO:-0500
TZNAME:EST
DTSTART:20231105T060000
END:STANDARD
BEGIN:DAYLIGHT
TZOFFSETFROM:-0500
TZOFFSETTO:-0400
TZNAME:EDT
DTSTART:20240310T070000
END:DAYLIGHT
BEGIN:STANDARD
TZOFFSETFROM:-0400
TZOFFSETTO:-0500
TZNAME:EST
DTSTART:20241103T060000
END:STANDARD
BEGIN:DAYLIGHT
TZOFFSETFROM:-0500
TZOFFSETTO:-0400
TZNAME:EDT
DTSTART:20250309T070000
END:DAYLIGHT
BEGIN:STANDARD
TZOFFSETFROM:-0400
TZOFFSETTO:-0500
TZNAME:EST
DTSTART:20251102T060000
END:STANDARD
END:VTIMEZONE
BEGIN:VEVENT
DTSTART;VALUE=DATE:20241030
DTEND;VALUE=DATE:20241115
DTSTAMP:20260425T114817
CREATED:20241004T140506Z
LAST-MODIFIED:20241004T152046Z
UID:10001204-1730246400-1731628799@www.smcvt.edu
SUMMARY:On the Margins of Europe: War Before the War (Photography Exhibit)
DESCRIPTION:On the Margins of Europe: War Before the War (Photography Exhibit) \nWednesday\, Oct. 30\, through Thursday\, November 14\nRoy Room\, Dion Family Student Center \nDmitri Beliakov\, is a freelance photojournalist originally from Moscow\, Russia. For five years\, from 2014-2019 he covered events in the east of Ukraine where he explored the fanaticism that is driving the largest war in Europe in a generation; the transformative effects of the conflict on both the pro-Ukrainian government fighters and Moscow-backed armed separatists; and the tragedy of the most vulnerable: the elderly\, the ill and the poor of the region. Over 50 of his moving photographs will be on display.
URL:https://www.smcvt.edu/event/on-the-margins-of-europe-war-before-the-war-photography-exhibit/
LOCATION:Roy Room\, Dion Family Student Center
CATEGORIES:Institute for Global Engagement
ATTACH;FMTTYPE=image/jpeg:https://www.smcvt.edu/wp-content/uploads/2024/10/Exhibit-2.jpg
END:VEVENT
BEGIN:VEVENT
DTSTART;TZID=America/New_York:20241114T120000
DTEND;TZID=America/New_York:20241114T120000
DTSTAMP:20260425T114817
CREATED:20241105T181733Z
LAST-MODIFIED:20241105T181733Z
UID:10001231-1731585600-1731585600@www.smcvt.edu
SUMMARY:Annual Saint Edmund Lecture Sponsored by the Edmundite Center for Faith and Culture
DESCRIPTION:Annual Saint Edmund Lecture \nSponsored by the Edmundite Center for Faith and Culture \nThursday\, November 14\, at 4:30 p.m.\nRoy Room\, Dion Student Center \nDr. Charles Briggs\, PhD\, a professor of medieval history in the Department of History at the University of Vermont\, will deliver the 2024 Annual Saint Edmund Lecture on Thursday\, November 14\, 2024\, at 4:30 p.m. in the Roy Event Center in the Dion Family Student Center (third floor). The title of the presentation is: “A Question of Counsel: Edmund of Abingdon’s Speculum religiosorum and Medieval ‘Mirror’ Literature.” \nAfter growing up in New York\, Dr. Briggs majored in history at Grinnell College in Iowa\, before going on to receive his M.Litt. from the University of Edinburgh in Scotland and Ph.D. from the University of North Carolina at Chapel Hill (1993). After a decade and a half of teaching and administration at Georgia Southern University\, where he was Professor of History\, Briggs returned to the more amenable climes and landscape of the Northeast. A specialist in the intellectual and cultural history of Europe in the thirteenth through early sixteenth centuries\, he teaches courses in late medieval and early modern European history\, global history\, historical methods\, and the history of the book. \nSaint Edmund of Abingdon is the patron of the Society of Saint Edmund\, the founding religious community of priests and brothers who established Saint Michael’s College. The Annual Saint Edmund Lecture honors Saint Edmund not only as the patron of the Edmundite but more specifically for his major work\, Speculum religiosorum (The Mirror of Religious)\, which is a significant writing by Saint Edmund of Abingdon\, who was Archbishop of Canterbury in the early 13th century. Written around 1213-1214\, this text serves as a spiritual guide for religious life\, combining catechetical material with contemplative practices. The work draws on the teachings of early Christian authorities like Augustine and Gregory\, as well as mystical writers such as Bernard of Clairvaux. It was originally composed in Latin and later translated into Anglo-Norman French and Middle English\, reflecting its widespread influence and appeal.
URL:https://www.smcvt.edu/event/annual-saint-edmund-lecture-sponsored-by-the-edmundite-center-for-faith-and-culture/
LOCATION:Roy Room\, Dion Family Student Center
CATEGORIES:Edmundite Center for Faith and Culture
ATTACH;FMTTYPE=application/pdf:https://www.smcvt.edu/wp-content/uploads/2024/11/Charles-Briggs-Poster-2024.pdf
END:VEVENT
BEGIN:VEVENT
DTSTART;TZID=America/New_York:20241114T170000
DTEND;TZID=America/New_York:20241114T180000
DTSTAMP:20260425T114817
CREATED:20241105T181542Z
LAST-MODIFIED:20241105T181542Z
UID:10001230-1731603600-1731607200@www.smcvt.edu
SUMMARY:SVA Therapy Dogs
DESCRIPTION:Therapy dogs will be brought to the Alliot lobby for anyone who would like to pet some dogs.
URL:https://www.smcvt.edu/event/sva-therapy-dogs/
LOCATION:Lobby\, Alliot Student Center
CATEGORIES:Veteran and Military Services
ATTACH;FMTTYPE=image/png:https://www.smcvt.edu/wp-content/uploads/2024/11/Vets-Week-2024-2.png
END:VEVENT
BEGIN:VEVENT
DTSTART;TZID=America/New_York:20241114T170000
DTEND;TZID=America/New_York:20241114T200000
DTSTAMP:20260425T114817
CREATED:20240828T163915Z
LAST-MODIFIED:20240904T174748Z
UID:10000525-1731603600-1731614400@www.smcvt.edu
SUMMARY:Sophomore Supper
DESCRIPTION:Purposeful Learning is bringing back Sophomore Supper🍽️This is a time to get together with your classmates\, success advisors\, invited Staff and Faculty\, eat good food\, and talk about things that matter – adjusting and adapting to your second year\, seeking mentorship and advisors\, trying to find your purpose here at SMC and beyond. ✨
URL:https://www.smcvt.edu/event/sophomore-supper/
LOCATION:International Commons
CATEGORIES:Purposeful Learning
ATTACH;FMTTYPE=image/jpeg:https://www.smcvt.edu/wp-content/uploads/2019/01/DinnerTalker600.jpg
END:VEVENT
END:VCALENDAR