BEGIN:VCALENDAR
VERSION:2.0
PRODID:-//Saint Michael&#039;s College - ECPv6.15.14//NONSGML v1.0//EN
CALSCALE:GREGORIAN
METHOD:PUBLISH
X-ORIGINAL-URL:https://www.smcvt.edu
X-WR-CALDESC:Events for Saint Michael&#039;s College
REFRESH-INTERVAL;VALUE=DURATION:PT1H
X-Robots-Tag:noindex
X-PUBLISHED-TTL:PT1H
BEGIN:VTIMEZONE
TZID:America/New_York
BEGIN:DAYLIGHT
TZOFFSETFROM:-0500
TZOFFSETTO:-0400
TZNAME:EDT
DTSTART:20230312T070000
END:DAYLIGHT
BEGIN:STANDARD
TZOFFSETFROM:-0400
TZOFFSETTO:-0500
TZNAME:EST
DTSTART:20231105T060000
END:STANDARD
BEGIN:DAYLIGHT
TZOFFSETFROM:-0500
TZOFFSETTO:-0400
TZNAME:EDT
DTSTART:20240310T070000
END:DAYLIGHT
BEGIN:STANDARD
TZOFFSETFROM:-0400
TZOFFSETTO:-0500
TZNAME:EST
DTSTART:20241103T060000
END:STANDARD
BEGIN:DAYLIGHT
TZOFFSETFROM:-0500
TZOFFSETTO:-0400
TZNAME:EDT
DTSTART:20250309T070000
END:DAYLIGHT
BEGIN:STANDARD
TZOFFSETFROM:-0400
TZOFFSETTO:-0500
TZNAME:EST
DTSTART:20251102T060000
END:STANDARD
END:VTIMEZONE
BEGIN:VEVENT
DTSTART;TZID=America/New_York:20241116T120000
DTEND;TZID=America/New_York:20241123T150000
DTSTAMP:20260425T114810
CREATED:20241118T181822Z
LAST-MODIFIED:20241118T181822Z
UID:10001245-1731758400-1732374000@www.smcvt.edu
SUMMARY:Athletics Food Drive November 16-23rd
DESCRIPTION:Athletics Food Drive\nNovember 16-23rd \nJoin in MOVE’s commemoration of National Hunger & Homelessness Awareness Week November 16-23\, 2024. All students\, faculty\, staff\, and alumni are invited to attend SMC athletics home games and bring an item or two for donation to support our campus community through the college’s food pantry\, THRIVE. THRIVE is in need of cat & dog food for campus pets\, and non-perishable food items: vegetarian foods\, gluten-free foods\, non-perishable types of protein\, and hygiene items. \nSee the attached poster for a list of home game dates & times.
URL:https://www.smcvt.edu/event/athletics-food-drive-november-16-23rd/
LOCATION:CT
CATEGORIES:MOVE
ATTACH;FMTTYPE=application/pdf:https://www.smcvt.edu/wp-content/uploads/2024/11/FEED-Cause-for-Paws-Athletics-Food-Drive-Poster.pdf
END:VEVENT
BEGIN:VEVENT
DTSTART;TZID=America/New_York:20241118T090000
DTEND;TZID=America/New_York:20241121T170000
DTSTAMP:20260425T114810
CREATED:20241114T213546Z
LAST-MODIFIED:20241114T213546Z
UID:10001237-1731920400-1732208400@www.smcvt.edu
SUMMARY:International Education Week 2024
DESCRIPTION:Saint Michael’s College and the Institute for Global Engagement celebrate International Education Week 2024\, recognizing the benefits of international education and exchange for all of the members of our extended campus community. There are a variety of great events to choose from if you are on campus or in the greater Burlington\, VT area to share in the IGE’s efforts to advance global citizenship\, cross-cultural understanding and human connection.
URL:https://www.smcvt.edu/event/international-education-week-2024/
LOCATION:CT
CATEGORIES:Institute for Global Engagement
ATTACH;FMTTYPE=image/jpeg:https://www.smcvt.edu/wp-content/uploads/2024/11/IEW-Poster-2024-scaled.jpg
END:VEVENT
BEGIN:VEVENT
DTSTART;TZID=America/New_York:20241118T121500
DTEND;TZID=America/New_York:20241118T131500
DTSTAMP:20260425T114810
CREATED:20241107T140954Z
LAST-MODIFIED:20241107T140954Z
UID:10001233-1731932100-1731935700@www.smcvt.edu
SUMMARY:Info Session on Fellowships\, Internships\, and Career Opportunities with the U.S. Department of State
DESCRIPTION:Come to an info session on fellowships\, internships\, and career opportunities with the US Department of State\, featuring Michelle Kayser (SMC ’08). \nMonday\, November 18th\nJEM 375\n12:15-1:15 PM \nInformation table in Alliot Lobby: 10 AM – Noon
URL:https://www.smcvt.edu/event/info-session-on-fellowships-internships-and-career-opportunities-with-the-u-s-department-of-state/
LOCATION:Jeanmarie Hall
CATEGORIES:Center for Global Engagement
ATTACH;FMTTYPE=application/pdf:https://www.smcvt.edu/wp-content/uploads/2024/11/Dept-of-State_Michelle-Kayser.pdf
END:VEVENT
BEGIN:VEVENT
DTSTART;TZID=America/New_York:20241118T121500
DTEND;TZID=America/New_York:20241118T132000
DTSTAMP:20260425T114810
CREATED:20241118T180650Z
LAST-MODIFIED:20241118T180650Z
UID:10001238-1731932100-1731936000@www.smcvt.edu
SUMMARY:Guest Speaker Lecture\, COTS Director of Development Rebekah Mott
DESCRIPTION:Join MOVE’s commemoration of National Hunger & Homelessness Awareness Week during November 16-23\, 2024. Staff\, faculty\, students\, and alumni are welcome to attend a lecture by Rebekah Mott\, Director of Development at COTS (Committee on Temporary Shelter).
URL:https://www.smcvt.edu/event/guest-speaker-lecture-cots-director-of-development-rebekah-mott/
LOCATION:Eddie’s Student Lounge\, Alliot Student Center
CATEGORIES:MOVE
END:VEVENT
BEGIN:VEVENT
DTSTART;TZID=America/New_York:20241118T170000
DTEND;TZID=America/New_York:20241118T190000
DTSTAMP:20260425T114810
CREATED:20240919T153903Z
LAST-MODIFIED:20240923T143151Z
UID:10001081-1731949200-1731956400@www.smcvt.edu
SUMMARY:Second Annual IGE Global Issues Lecture Series - Amy Hepburn
DESCRIPTION:Second Annual IGE Global Issues Lecture Series – Amy Hepburn \nMonday\, November 18\, at 5 p.m.\nRoy Room\, Dion Family Student Center \nAmy Hepburn\, a globally recognized expert on social and climate impact\, and sustainable finance\, with a focus on private capital mobilization\, intersectional gender equality and inclusion\, and climate finance\, will serve as the speaker for the second annual Center for Global Engagement Global Issues Lecture Series. The presentation\, delivered in fireside chat format\, is entitled “Innovative Solutions to Persistent Global Issues\,” and will take place on Monday\, November 18th at 5 p.m. in the Roy Room. Margrethe Froland ’25\, a double major in Economics and International Relations and an international student from Norway\, will engage in an informal question and answer with Amy followed by discussion with the audience.
URL:https://www.smcvt.edu/event/second-annual-ige-global-issues-lecture-series-amy-hepburn/
LOCATION:Roy Room\, Dion Family Student Center
CATEGORIES:Institute for Global Engagement
ATTACH;FMTTYPE=image/png:https://www.smcvt.edu/wp-content/uploads/2024/09/Amy-Hepburn.png
END:VEVENT
BEGIN:VEVENT
DTSTART;TZID=America/New_York:20241118T183000
DTEND;TZID=America/New_York:20241118T203000
DTSTAMP:20260425T114810
CREATED:20241112T155352Z
LAST-MODIFIED:20241112T155352Z
UID:10001234-1731954600-1731961800@www.smcvt.edu
SUMMARY:Just Getting By
DESCRIPTION:Just Getting By – Film Showing and Discussion \nMonday\, November 18\, at 6:30 p.m.\nFarrell Room\, Saint Edmund’s Hall \nJoin us for Just Getting By\, a new documentary film by Vermont film writer\, Bess O’Brien. The film offers a “sweeping\, and yet intimate look at the lives of Vermonters who are struggling with food and housing insecurity.” \nWatch the film and participate in a Q and A with the film writer to help us start off national Hunger and Homelessness Awareness Week with MOVE. Nonperishable food drive to benefit THRIVE@SMC at the film showing. Join us for an important conversation about the realities in our state.
URL:https://www.smcvt.edu/event/just-getting-by/
LOCATION:Farrell Room\, Saint Edmund’s Hall
CATEGORIES:MOVE
ATTACH;FMTTYPE=application/pdf:https://www.smcvt.edu/wp-content/uploads/2024/11/Just-Getting-By-Poster-2024_reduced-file-size.pdf
END:VEVENT
END:VCALENDAR