BEGIN:VCALENDAR
VERSION:2.0
PRODID:-//Saint Michael&#039;s College - ECPv6.15.14//NONSGML v1.0//EN
CALSCALE:GREGORIAN
METHOD:PUBLISH
X-ORIGINAL-URL:https://www.smcvt.edu
X-WR-CALDESC:Events for Saint Michael&#039;s College
REFRESH-INTERVAL;VALUE=DURATION:PT1H
X-Robots-Tag:noindex
X-PUBLISHED-TTL:PT1H
BEGIN:VTIMEZONE
TZID:America/New_York
BEGIN:DAYLIGHT
TZOFFSETFROM:-0500
TZOFFSETTO:-0400
TZNAME:EDT
DTSTART:20240310T070000
END:DAYLIGHT
BEGIN:STANDARD
TZOFFSETFROM:-0400
TZOFFSETTO:-0500
TZNAME:EST
DTSTART:20241103T060000
END:STANDARD
BEGIN:DAYLIGHT
TZOFFSETFROM:-0500
TZOFFSETTO:-0400
TZNAME:EDT
DTSTART:20250309T070000
END:DAYLIGHT
BEGIN:STANDARD
TZOFFSETFROM:-0400
TZOFFSETTO:-0500
TZNAME:EST
DTSTART:20251102T060000
END:STANDARD
BEGIN:DAYLIGHT
TZOFFSETFROM:-0500
TZOFFSETTO:-0400
TZNAME:EDT
DTSTART:20260308T070000
END:DAYLIGHT
BEGIN:STANDARD
TZOFFSETFROM:-0400
TZOFFSETTO:-0500
TZNAME:EST
DTSTART:20261101T060000
END:STANDARD
END:VTIMEZONE
BEGIN:VEVENT
DTSTART;TZID=America/New_York:20250113T080000
DTEND;TZID=America/New_York:20250118T170000
DTSTAMP:20260425T171715
CREATED:20250102T204730Z
LAST-MODIFIED:20250102T204730Z
UID:10001271-1736755200-1737219600@www.smcvt.edu
SUMMARY:Senior Art Exhibition: Christianna Bostley
DESCRIPTION:Senior Art Exhibition \nChristianna Bostley \n“Fatal Foods” \nJanuary 13 – January 18 \nReception\, Wednesday\, Jan. 15\, 6-7PM
URL:https://www.smcvt.edu/event/senior-art-exhibition-christianna-bostley/
LOCATION:Gallery\, McCarthy Arts Center
CATEGORIES:Art & Design,Art and Design,McCarthy Art Gallery
ATTACH;FMTTYPE=image/jpeg:https://www.smcvt.edu/wp-content/uploads/2025/01/cbostley-poster.jpg
END:VEVENT
BEGIN:VEVENT
DTSTART;TZID=America/New_York:20250118T070000
DTEND;TZID=America/New_York:20250118T170000
DTSTAMP:20260425T171715
CREATED:20250114T173419Z
LAST-MODIFIED:20250114T173419Z
UID:10001278-1737183600-1737219600@www.smcvt.edu
SUMMARY:Fundamentals of Ice Climbing
DESCRIPTION:Fundamentals of Ice Climbing \nSaturday\, January 18\nAll Day \nTake a trip to beautiful Smugglers Notch and experience this incredible sport. We’ll start with lower angle terrain and transition to more difficult climbs as your skills and comfort level build. No experience is necessary and all needed clothing and equipment is provided\, as well as transportation and instruction.
URL:https://www.smcvt.edu/event/fundamentals-of-ice-climbing/
LOCATION:Saint Michael’s College\, One Winooski Park\, Colchester\, VT\, 05439\, United States
CATEGORIES:Adventure Sports Center
ATTACH;FMTTYPE=image/jpeg:https://www.smcvt.edu/wp-content/uploads/2025/01/ice-2-1.jpeg
END:VEVENT
BEGIN:VEVENT
DTSTART;TZID=America/New_York:20250118T090000
DTEND;TZID=America/New_York:20250118T160000
DTSTAMP:20260425T171715
CREATED:20250114T174011Z
LAST-MODIFIED:20250114T174011Z
UID:10001280-1737190800-1737216000@www.smcvt.edu
SUMMARY:Sugarbush Van
DESCRIPTION:Sugarbush Van \nSaturday\, January 18\nAll Day \nLooking for a free ride to the Mountain? The Adventure Sports Center sponsors a bus or van almost every weekend. Prior registration at the Adventure Sports Center to sign up is required.
URL:https://www.smcvt.edu/event/sugarbush-van/
LOCATION:Saint Michael’s College\, One Winooski Park\, Colchester\, VT\, 05439\, United States
CATEGORIES:Adventure Sports Center
ATTACH;FMTTYPE=image/jpeg:https://www.smcvt.edu/wp-content/uploads/2025/01/Mt-Ellen-JEB-4-2100x1397-6b8eb21a-5b8f-4b25-8f72-f5e3a4ec38c7.jpeg
END:VEVENT
BEGIN:VEVENT
DTSTART;TZID=America/New_York:20250118T130000
DTEND;TZID=America/New_York:20250118T160000
DTSTAMP:20260425T171715
CREATED:20240916T142755Z
LAST-MODIFIED:20250312T225719Z
UID:10001050-1737205200-1737216000@www.smcvt.edu
SUMMARY:Men's Swimming & Diving vs Assumption
DESCRIPTION:Men’s Swimming & Diving vs Assumption Colchester\, VT
URL:https://www.smcvt.edu/event/mens-swimming-diving-vs-assumption/
LOCATION:CT
CATEGORIES:Athletics,uploadathletics
ATTACH;FMTTYPE=image/png:https://www.smcvt.edu/wp-content/uploads/2024/09/logo-athletics-1.png
END:VEVENT
BEGIN:VEVENT
DTSTART;TZID=America/New_York:20250118T130000
DTEND;TZID=America/New_York:20250118T160000
DTSTAMP:20260425T171715
CREATED:20240916T142757Z
LAST-MODIFIED:20250312T225718Z
UID:10001051-1737205200-1737216000@www.smcvt.edu
SUMMARY:Women's Swimming & Diving vs Assumption
DESCRIPTION:Women’s Swimming & Diving vs Assumption Colchester\, VT
URL:https://www.smcvt.edu/event/womens-swimming-diving-vs-assumption/
LOCATION:CT
CATEGORIES:Athletics,uploadathletics
ATTACH;FMTTYPE=image/png:https://www.smcvt.edu/wp-content/uploads/2024/09/logo-athletics-1.png
END:VEVENT
END:VCALENDAR