BEGIN:VCALENDAR
VERSION:2.0
PRODID:-//Saint Michael&#039;s College - ECPv6.15.14//NONSGML v1.0//EN
CALSCALE:GREGORIAN
METHOD:PUBLISH
X-ORIGINAL-URL:https://www.smcvt.edu
X-WR-CALDESC:Events for Saint Michael&#039;s College
REFRESH-INTERVAL;VALUE=DURATION:PT1H
X-Robots-Tag:noindex
X-PUBLISHED-TTL:PT1H
BEGIN:VTIMEZONE
TZID:America/New_York
BEGIN:DAYLIGHT
TZOFFSETFROM:-0500
TZOFFSETTO:-0400
TZNAME:EDT
DTSTART:20240310T070000
END:DAYLIGHT
BEGIN:STANDARD
TZOFFSETFROM:-0400
TZOFFSETTO:-0500
TZNAME:EST
DTSTART:20241103T060000
END:STANDARD
BEGIN:DAYLIGHT
TZOFFSETFROM:-0500
TZOFFSETTO:-0400
TZNAME:EDT
DTSTART:20250309T070000
END:DAYLIGHT
BEGIN:STANDARD
TZOFFSETFROM:-0400
TZOFFSETTO:-0500
TZNAME:EST
DTSTART:20251102T060000
END:STANDARD
BEGIN:DAYLIGHT
TZOFFSETFROM:-0500
TZOFFSETTO:-0400
TZNAME:EDT
DTSTART:20260308T070000
END:DAYLIGHT
BEGIN:STANDARD
TZOFFSETFROM:-0400
TZOFFSETTO:-0500
TZNAME:EST
DTSTART:20261101T060000
END:STANDARD
END:VTIMEZONE
BEGIN:VEVENT
DTSTART;TZID=America/New_York:20250120T080000
DTEND;TZID=America/New_York:20250125T170000
DTSTAMP:20260425T064231
CREATED:20250102T205227Z
LAST-MODIFIED:20250102T205227Z
UID:10001272-1737360000-1737824400@www.smcvt.edu
SUMMARY:Senior Art Exhibition: Gaby Tribelli
DESCRIPTION:Senior Art Exhibition \nGaby Tribelli \n“La Nostalgia” \nJanuary 20 – January 25 \nReception\, Wednesday\, Jan. 22\, 6-7PM
URL:https://www.smcvt.edu/event/senior-art-exhibition-gaby-tribelli/
LOCATION:Gallery\, McCarthy Arts Center
CATEGORIES:Art & Design,Art and Design,McCarthy Art Gallery
ATTACH;FMTTYPE=image/jpeg:https://www.smcvt.edu/wp-content/uploads/2025/01/gtribelli-poster.jpg
END:VEVENT
BEGIN:VEVENT
DTSTART;TZID=America/New_York:20250120T091500
DTEND;TZID=America/New_York:20250120T151500
DTSTAMP:20260425T064231
CREATED:20241220T143201Z
LAST-MODIFIED:20241220T143201Z
UID:10001269-1737364500-1737386100@www.smcvt.edu
SUMMARY:Post Election - Moving Forward Together - Gallery Walk
DESCRIPTION:Post Election – Moving Forward Together – Gallery Walk \nMonday\, January 20\, at 9:15 a.m.\nFarrell Room\, Saint Edmund’s Hall \nOnce all the campaigning and voting is over\, we are left to process the results and prepare for the newly elected to take office. When these results aren’t what we hoped for\, the prevailing narrative that we are divided can feel true and the future can seem less hopeful. There is another option– we can seek understanding and move forward together as a nation. Faculty\, staff\, & students are invited to the gallery walk to quietly reflect on questions such as: What do the outcomes of the election mean to you and your community? How are you planning to move forward? What is your experience interacting or staying connected to others you care about who feel differently about the election? What common ground solutions would you like to explore regardless of election results? \nProfessors\, if you would like to have your class participate in the gallery walk\, please sign up using the link (https://tinyurl.com/3djswwbw). There will be journals and pens available in the Farrell Room. \nSponsored by Be Well\, Bergeron Counseling\, and the Institute for Equity & Justice.
URL:https://www.smcvt.edu/event/post-election-moving-forward-together-gallery-walk/
LOCATION:Farrell Room\, Saint Edmund’s Hall
CATEGORIES:Annual Dr. Martin Luther King, Jr. Convocation,Be Well,Bergeron Wellness Center,Institute for Equity and Justice
END:VEVENT
BEGIN:VEVENT
DTSTART;TZID=America/New_York:20250120T110000
DTEND;TZID=America/New_York:20250120T163000
DTSTAMP:20260425T064231
CREATED:20241205T160747Z
LAST-MODIFIED:20241205T165555Z
UID:10001252-1737370800-1737390600@www.smcvt.edu
SUMMARY:Radical Empathy Community Mural
DESCRIPTION:Dr. Martin Luther King\, Jr. Convocation \nMonday\, January 20\nAlliot Student Center\, First Floor Lounge\n11 a.m. – 4:30 p.m. \nJoin SMC Creative Commons art club and help paint the MLK Radical Empathy mural   \n  \n 
URL:https://www.smcvt.edu/event/radical-empathy-community-mural/
LOCATION:Alliot Student Center
CATEGORIES:Annual Dr. Martin Luther King, Jr. Convocation
ATTACH;FMTTYPE=image/jpeg:https://www.smcvt.edu/wp-content/uploads/2024/01/MLK_2024093-scaled.jpg
END:VEVENT
END:VCALENDAR