BEGIN:VCALENDAR
VERSION:2.0
PRODID:-//Saint Michael&#039;s College - ECPv6.15.14//NONSGML v1.0//EN
CALSCALE:GREGORIAN
METHOD:PUBLISH
X-ORIGINAL-URL:https://www.smcvt.edu
X-WR-CALDESC:Events for Saint Michael&#039;s College
REFRESH-INTERVAL;VALUE=DURATION:PT1H
X-Robots-Tag:noindex
X-PUBLISHED-TTL:PT1H
BEGIN:VTIMEZONE
TZID:America/New_York
BEGIN:DAYLIGHT
TZOFFSETFROM:-0500
TZOFFSETTO:-0400
TZNAME:EDT
DTSTART:20240310T070000
END:DAYLIGHT
BEGIN:STANDARD
TZOFFSETFROM:-0400
TZOFFSETTO:-0500
TZNAME:EST
DTSTART:20241103T060000
END:STANDARD
BEGIN:DAYLIGHT
TZOFFSETFROM:-0500
TZOFFSETTO:-0400
TZNAME:EDT
DTSTART:20250309T070000
END:DAYLIGHT
BEGIN:STANDARD
TZOFFSETFROM:-0400
TZOFFSETTO:-0500
TZNAME:EST
DTSTART:20251102T060000
END:STANDARD
BEGIN:DAYLIGHT
TZOFFSETFROM:-0500
TZOFFSETTO:-0400
TZNAME:EDT
DTSTART:20260308T070000
END:DAYLIGHT
BEGIN:STANDARD
TZOFFSETFROM:-0400
TZOFFSETTO:-0500
TZNAME:EST
DTSTART:20261101T060000
END:STANDARD
END:VTIMEZONE
BEGIN:VEVENT
DTSTART;TZID=America/New_York:20250120T080000
DTEND;TZID=America/New_York:20250125T170000
DTSTAMP:20260425T064220
CREATED:20250102T205227Z
LAST-MODIFIED:20250102T205227Z
UID:10001272-1737360000-1737824400@www.smcvt.edu
SUMMARY:Senior Art Exhibition: Gaby Tribelli
DESCRIPTION:Senior Art Exhibition \nGaby Tribelli \n“La Nostalgia” \nJanuary 20 – January 25 \nReception\, Wednesday\, Jan. 22\, 6-7PM
URL:https://www.smcvt.edu/event/senior-art-exhibition-gaby-tribelli/
LOCATION:Gallery\, McCarthy Arts Center
CATEGORIES:Art & Design,Art and Design,McCarthy Art Gallery
ATTACH;FMTTYPE=image/jpeg:https://www.smcvt.edu/wp-content/uploads/2025/01/gtribelli-poster.jpg
END:VEVENT
BEGIN:VEVENT
DTSTART;TZID=America/New_York:20250122T143000
DTEND;TZID=America/New_York:20250122T153000
DTSTAMP:20260425T064220
CREATED:20241206T164220Z
LAST-MODIFIED:20250701T122943Z
UID:10001267-1737556200-1737559800@www.smcvt.edu
SUMMARY:Radicalize Your Wardrobe
DESCRIPTION:Radicalize Your Wardrobe \nWednesday\, January 22\n2:30 to 3:30 p.m.\nFirst Floor Lounge\, Alliot Student Center \nScreenprinting with Prof. Becca Gurney’s Silkscreen Printmaking class. Screenprint your own Radical Empathy shirt. Shirts are available (while supplies last) or bring your own piece of clothing to silkscreen print this year’s design. 
URL:https://www.smcvt.edu/event/radicalize-your-wardrobe/
LOCATION:First Floor Lounge\, Dion Family Student Center
CATEGORIES:Annual Dr. Martin Luther King, Jr. Convocation
END:VEVENT
BEGIN:VEVENT
DTSTART;TZID=America/New_York:20250122T160000
DTEND;TZID=America/New_York:20250122T180000
DTSTAMP:20260425T064220
CREATED:20240828T164234Z
LAST-MODIFIED:20241205T162236Z
UID:10000527-1737561600-1737568800@www.smcvt.edu
SUMMARY:Radical Empathy: Taking Action/Bridging Divides - Annual Sutherland Lecture Series
DESCRIPTION:Radical Empathy: Taking Action/Bridging Divides\nAnnual Sutherland Lecture Series  \nWednesday\, January 22\n4 p.m.\nRecital Hall\, McCarthy Arts Center \nTerri Givens is a Professor of Political Science at the University of British Columbia in Vancouver. She was the Provost’s Advisor on the Strategy to Address Anti-Black Racism at McGill University from 2021-2024\, where she supported the provost’s offices work to increase the hiring of and support for Black faculty\, staff and students. She is formerly the CEO of the Center for Higher Education Leadership and has worked with a variety of colleges\, universities and ed tech companies on issues related to innovation and excellence in higher education. As the author of the book “Radical Empathy: Finding a Path to Bridging Racial Divides\,” she is a sought after consultant and speaker on issues related to leadership and inclusion. She has more than 30 years of experience in higher education\, politics\, international affairs\, and nonprofits. She is an accomplished speaker and uses her platform to develop leaders with an understanding of the importance of diversity and inclusion\, while encouraging personal growth through empathy. \nTerri is the author/editor of books and articles on immigration policy\, European politics and right-wing politics. Her most recent published books are Radical Empathy: Finding a Path to Bridging Racial Divides\, from Policy Press and The Roots of Racism: The Politics of White Supremacy in the US and Europe\, published by Bristol University Press. Her book\, Reckoning: Creating Positive Change through Radical Empathy is forthcoming in 2025.
URL:https://www.smcvt.edu/event/annual-sutherland-lecture-series-radical-empathy-taking-action-bridging-divides/
LOCATION:Recital Hall\, McCarthy Arts Center
CATEGORIES:Academic Affairs,Annual Dr. Martin Luther King, Jr. Convocation
ATTACH;FMTTYPE=image/jpeg:https://www.smcvt.edu/wp-content/uploads/2024/08/Terri-E-Givens.jpg
END:VEVENT
BEGIN:VEVENT
DTSTART;TZID=America/New_York:20250122T173000
DTEND;TZID=America/New_York:20250122T183000
DTSTAMP:20260425T064220
CREATED:20250114T174823Z
LAST-MODIFIED:20250114T174823Z
UID:10001284-1737567000-1737570600@www.smcvt.edu
SUMMARY:How to Apply for Federal Jobs: Using the USAJobs Portal
DESCRIPTION:How to Apply for Federal Jobs: Using the USAJobs Portal \nWednesday\, January 22\n5:30 to 6:30 p.m. \nAre you a student looking to jumpstart your career or for a stable job within an ever-changing employment landscape? Attend the 1-hour workshop led by representatives from U.S. Fish & Wildlife Service\, Julie Butler and David Minkoff\, to learn tips and tricks for finding federal jobs. With so many departments\, offices\, and agencies\, a career with the federal government could be the perfect fit for YOU! Join us in STE 104 on January 22\, 2025 from 5:30pm – 6:30pm.
URL:https://www.smcvt.edu/event/how-to-apply-for-federal-jobs-using-the-usajobs-portal/
LOCATION:Saint Edmund’s Hall
CATEGORIES:The Patrick '61 and Marcelle Leahy Institute for the Environment
ATTACH;FMTTYPE=image/png:https://www.smcvt.edu/wp-content/uploads/2025/01/Screenshot_HowToApplyFedJobs_2025.png
END:VEVENT
END:VCALENDAR