BEGIN:VCALENDAR
VERSION:2.0
PRODID:-//Saint Michael&#039;s College - ECPv6.15.14//NONSGML v1.0//EN
CALSCALE:GREGORIAN
METHOD:PUBLISH
X-WR-CALNAME:Saint Michael&#039;s College
X-ORIGINAL-URL:https://www.smcvt.edu
X-WR-CALDESC:Events for Saint Michael&#039;s College
REFRESH-INTERVAL;VALUE=DURATION:PT1H
X-Robots-Tag:noindex
X-PUBLISHED-TTL:PT1H
BEGIN:VTIMEZONE
TZID:America/New_York
BEGIN:DAYLIGHT
TZOFFSETFROM:-0500
TZOFFSETTO:-0400
TZNAME:EDT
DTSTART:20240310T070000
END:DAYLIGHT
BEGIN:STANDARD
TZOFFSETFROM:-0400
TZOFFSETTO:-0500
TZNAME:EST
DTSTART:20241103T060000
END:STANDARD
BEGIN:DAYLIGHT
TZOFFSETFROM:-0500
TZOFFSETTO:-0400
TZNAME:EDT
DTSTART:20250309T070000
END:DAYLIGHT
BEGIN:STANDARD
TZOFFSETFROM:-0400
TZOFFSETTO:-0500
TZNAME:EST
DTSTART:20251102T060000
END:STANDARD
BEGIN:DAYLIGHT
TZOFFSETFROM:-0500
TZOFFSETTO:-0400
TZNAME:EDT
DTSTART:20260308T070000
END:DAYLIGHT
BEGIN:STANDARD
TZOFFSETFROM:-0400
TZOFFSETTO:-0500
TZNAME:EST
DTSTART:20261101T060000
END:STANDARD
END:VTIMEZONE
BEGIN:VEVENT
DTSTART;TZID=America/New_York:20250120T080000
DTEND;TZID=America/New_York:20250125T170000
DTSTAMP:20260425T171530
CREATED:20250102T205227Z
LAST-MODIFIED:20250102T205227Z
UID:10001272-1737360000-1737824400@www.smcvt.edu
SUMMARY:Senior Art Exhibition: Gaby Tribelli
DESCRIPTION:Senior Art Exhibition \nGaby Tribelli \n“La Nostalgia” \nJanuary 20 – January 25 \nReception\, Wednesday\, Jan. 22\, 6-7PM
URL:https://www.smcvt.edu/event/senior-art-exhibition-gaby-tribelli/
LOCATION:Gallery\, McCarthy Arts Center
CATEGORIES:Art & Design,Art and Design,McCarthy Art Gallery
ATTACH;FMTTYPE=image/jpeg:https://www.smcvt.edu/wp-content/uploads/2025/01/gtribelli-poster.jpg
END:VEVENT
BEGIN:VEVENT
DTSTART;TZID=America/New_York:20250125T080000
DTEND;TZID=America/New_York:20250125T150000
DTSTAMP:20260425T171530
CREATED:20250114T174428Z
LAST-MODIFIED:20250114T174428Z
UID:10001283-1737792000-1737817200@www.smcvt.edu
SUMMARY:Stowe Pinnacle Snowshoe Hike
DESCRIPTION:Stowe Pinnacle Snowshoe Hike \nSaturday\, January 25\n8 a.m. to 3 p.m. \nThis iconic Stowe hike overlooks the Waterbury Valley to the quintessential trails of Mount Mansfield. Pinnacle is a student favorite in any time of year- whether foliage\, snowy\, or a lush summer day- this hike attracts plenty of cute dogs and makes plenty of memories! No experience is necessary and all needed clothing and equipment is provided\, as well as transportation and instruction.
URL:https://www.smcvt.edu/event/stowe-pinnacle-snowshoe-hike/
LOCATION:Saint Michael’s College\, One Winooski Park\, Colchester\, VT\, 05439\, United States
CATEGORIES:Adventure Sports Center
ATTACH;FMTTYPE=image/jpeg:https://www.smcvt.edu/wp-content/uploads/2025/01/snowhoe-2.jpeg
END:VEVENT
BEGIN:VEVENT
DTSTART;TZID=America/New_York:20250125T120000
DTEND;TZID=America/New_York:20250125T150000
DTSTAMP:20260425T171530
CREATED:20240916T142758Z
LAST-MODIFIED:20250312T225718Z
UID:10001052-1737806400-1737817200@www.smcvt.edu
SUMMARY:Men's Swimming & Diving at Southern Connecticut State
DESCRIPTION:Men’s Swimming & Diving at Southern Connecticut State New Haven\, CT
URL:https://www.smcvt.edu/event/mens-swimming-diving-at-southern-connecticut-state/
LOCATION:CT
CATEGORIES:Athletics,uploadathletics
ATTACH;FMTTYPE=image/png:https://www.smcvt.edu/wp-content/uploads/2024/09/logo-athletics-1.png
END:VEVENT
BEGIN:VEVENT
DTSTART;TZID=America/New_York:20250125T120000
DTEND;TZID=America/New_York:20250125T150000
DTSTAMP:20260425T171530
CREATED:20240916T142952Z
LAST-MODIFIED:20250312T225716Z
UID:10001053-1737806400-1737817200@www.smcvt.edu
SUMMARY:Women's Swimming & Diving at Southern Connecticut State
DESCRIPTION:Women’s Swimming & Diving at Southern Connecticut State New Haven\, CT
URL:https://www.smcvt.edu/event/womens-swimming-diving-at-southern-connecticut-state/
LOCATION:CT
CATEGORIES:Athletics,uploadathletics
ATTACH;FMTTYPE=image/png:https://www.smcvt.edu/wp-content/uploads/2024/09/logo-athletics-1.png
END:VEVENT
END:VCALENDAR