BEGIN:VCALENDAR
VERSION:2.0
PRODID:-//Saint Michael&#039;s College - ECPv6.15.14//NONSGML v1.0//EN
CALSCALE:GREGORIAN
METHOD:PUBLISH
X-ORIGINAL-URL:https://www.smcvt.edu
X-WR-CALDESC:Events for Saint Michael&#039;s College
REFRESH-INTERVAL;VALUE=DURATION:PT1H
X-Robots-Tag:noindex
X-PUBLISHED-TTL:PT1H
BEGIN:VTIMEZONE
TZID:America/New_York
BEGIN:DAYLIGHT
TZOFFSETFROM:-0500
TZOFFSETTO:-0400
TZNAME:EDT
DTSTART:20240310T070000
END:DAYLIGHT
BEGIN:STANDARD
TZOFFSETFROM:-0400
TZOFFSETTO:-0500
TZNAME:EST
DTSTART:20241103T060000
END:STANDARD
BEGIN:DAYLIGHT
TZOFFSETFROM:-0500
TZOFFSETTO:-0400
TZNAME:EDT
DTSTART:20250309T070000
END:DAYLIGHT
BEGIN:STANDARD
TZOFFSETFROM:-0400
TZOFFSETTO:-0500
TZNAME:EST
DTSTART:20251102T060000
END:STANDARD
BEGIN:DAYLIGHT
TZOFFSETFROM:-0500
TZOFFSETTO:-0400
TZNAME:EDT
DTSTART:20260308T070000
END:DAYLIGHT
BEGIN:STANDARD
TZOFFSETFROM:-0400
TZOFFSETTO:-0500
TZNAME:EST
DTSTART:20261101T060000
END:STANDARD
END:VTIMEZONE
BEGIN:VEVENT
DTSTART;TZID=America/New_York:20250218T080000
DTEND;TZID=America/New_York:20250221T170000
DTSTAMP:20260425T102048
CREATED:20250131T185141Z
LAST-MODIFIED:20250131T185141Z
UID:10001302-1739865600-1740157200@www.smcvt.edu
SUMMARY:Senior Art Exhibition: Emerette O'Keefe
DESCRIPTION:Senior Art Exhibition \nEmerette O’Keefe \n“Smile Girl” \nFebruary 18 through February 21\nReception\, Friday\, February 21\, from 5-6 p.m.
URL:https://www.smcvt.edu/event/senior-art-exhibition-emerette-okeefe/
LOCATION:Gallery\, McCarthy Arts Center
CATEGORIES:Art & Design,Art and Design
ATTACH;FMTTYPE=image/jpeg:https://www.smcvt.edu/wp-content/uploads/2025/01/eokeefe-poster.jpg
END:VEVENT
BEGIN:VEVENT
DTSTART;VALUE=DATE:20250218
DTEND;VALUE=DATE:20250221
DTSTAMP:20260425T102048
CREATED:20250204T182214Z
LAST-MODIFIED:20250218T151313Z
UID:10001321-1739869200-1740070800@www.smcvt.edu
SUMMARY:2025-2026 Leahy Scholarship Program Applications Open
DESCRIPTION:2025-2026 Leahy Scholarship Program Applications Open \nTuesday\, February 18th \nsmcvt.edu/academics/institute-for-the-environment/student-opportunities/ \nThis scholarship program is part of a $6.5 million federal appropriation that seeks to establish Saint Michael’s as a lighthouse for the institutional models needed to span the educational and workforce development continuum for coordinated\, systemic action. \nApplications for the AY 2025–2026 are open starting Tuesday\, February 18th at 9am and will be due by Tuesday\, April 1st by 5pm. Read more about the program by visiting smcvt.edu/academics/institute-for-the-environment/student-opportunities/.
URL:https://www.smcvt.edu/event/2025-2026-leahy-scholarship-program-applications-open/
LOCATION:CT
CATEGORIES:The Patrick '61 and Marcelle Leahy Institute for the Environment
ATTACH;FMTTYPE=image/png:https://www.smcvt.edu/wp-content/uploads/2025/02/scholarship_thumbnail.png
END:VEVENT
BEGIN:VEVENT
DTSTART;TZID=America/New_York:20250219T101500
DTEND;TZID=America/New_York:20250219T173000
DTSTAMP:20260425T102048
CREATED:20250123T163705Z
LAST-MODIFIED:20250123T163705Z
UID:10001288-1739960100-1739986200@www.smcvt.edu
SUMMARY:MOVE's Special Events Blood Drive
DESCRIPTION:MOVE’s Special Events Blood Drive \nWednesday\, February 19\nRoy Room\, Dion Family Student Center \nMOVE is partnering with the American Red Cross on Wednesday\, February 19th\, 2025\, from 12:00 PM to 5:30 PM\, to host a blood drive in the Roy Room in the Dion Student Center. We are looking for volunteers and donors. \nFor Donors:\nWe are encouraging students\, faculty\, staff\, and community members to donate blood at this blood drive. Please consider donating blood and positively impacting the health of many in the midst of this blood crisis.\nDonors can sign up here: https://www.redcrossblood.org/give.html/drive-results?zipSponsor=SMC \nFor Volunteers:\nWe are looking for students\, faculty\, and staff to help volunteer at the Blood Drive between 10:15AM and 5:30PM with a variety of different tasks (set up\, registration\, etc.).\nVolunteers can sign up on the MOVE Bulletin Board in Alliot Hall.
URL:https://www.smcvt.edu/event/moves-special-events-blood-drive/
LOCATION:Roy Room\, Dion Family Student Center
CATEGORIES:MOVE
ATTACH;FMTTYPE=application/pdf:https://www.smcvt.edu/wp-content/uploads/2025/01/Red-Cross-Donor-Poster.pdf
END:VEVENT
BEGIN:VEVENT
DTSTART;TZID=America/New_York:20250219T180000
DTEND;TZID=America/New_York:20250219T184500
DTSTAMP:20260425T102048
CREATED:20250214T201659Z
LAST-MODIFIED:20250214T201659Z
UID:10001335-1739988000-1739990700@www.smcvt.edu
SUMMARY:The Ethics Exchange
DESCRIPTION:The Ethics Exchange \nWednesday\, February 19\, at 6 p.m.\nGreen Mountain Dining Room\, Alliot Student Center \nHosted by the Phil-Ethics Lab\, the Ethics Exchange is a casual venue for shared ethical inquiry and dialogue across differences. Look for us in Alliot every other Wednesday at 6 PM. Grab your meal\, come alone or grab a friend\, and share your ideas with other interested\, interesting\, and open-minded people. This week’s topic: IDENTITY. What is identity? What’s your ‘true’ identity? What keeps you from showing it? Facilitated by juniors Bethany Hayes and Samantha Donahue. All students are welcome.
URL:https://www.smcvt.edu/event/the-ethics-exchange-2/
LOCATION:Alliot Student Center
CATEGORIES:Philosophy and Ethics
ATTACH;FMTTYPE=image/png:https://www.smcvt.edu/wp-content/uploads/2025/02/Ethics-exchange-2-option.-2-1-Flyer-size-image.png
END:VEVENT
END:VCALENDAR