BEGIN:VCALENDAR
VERSION:2.0
PRODID:-//Saint Michael&#039;s College - ECPv6.15.14//NONSGML v1.0//EN
CALSCALE:GREGORIAN
METHOD:PUBLISH
X-WR-CALNAME:Saint Michael&#039;s College
X-ORIGINAL-URL:https://www.smcvt.edu
X-WR-CALDESC:Events for Saint Michael&#039;s College
REFRESH-INTERVAL;VALUE=DURATION:PT1H
X-Robots-Tag:noindex
X-PUBLISHED-TTL:PT1H
BEGIN:VTIMEZONE
TZID:America/New_York
BEGIN:DAYLIGHT
TZOFFSETFROM:-0500
TZOFFSETTO:-0400
TZNAME:EDT
DTSTART:20240310T070000
END:DAYLIGHT
BEGIN:STANDARD
TZOFFSETFROM:-0400
TZOFFSETTO:-0500
TZNAME:EST
DTSTART:20241103T060000
END:STANDARD
BEGIN:DAYLIGHT
TZOFFSETFROM:-0500
TZOFFSETTO:-0400
TZNAME:EDT
DTSTART:20250309T070000
END:DAYLIGHT
BEGIN:STANDARD
TZOFFSETFROM:-0400
TZOFFSETTO:-0500
TZNAME:EST
DTSTART:20251102T060000
END:STANDARD
BEGIN:DAYLIGHT
TZOFFSETFROM:-0500
TZOFFSETTO:-0400
TZNAME:EDT
DTSTART:20260308T070000
END:DAYLIGHT
BEGIN:STANDARD
TZOFFSETFROM:-0400
TZOFFSETTO:-0500
TZNAME:EST
DTSTART:20261101T060000
END:STANDARD
END:VTIMEZONE
BEGIN:VEVENT
DTSTART;TZID=America/New_York:20250314T090000
DTEND;TZID=America/New_York:20250314T120000
DTSTAMP:20260424T150030
CREATED:20250312T230439Z
LAST-MODIFIED:20250312T230439Z
UID:10001354-1741942800-1741953600@www.smcvt.edu
SUMMARY:Softball vs Indiana (PA)
DESCRIPTION:Softball vs Indiana (PA) Clermont\, FL / Legends Way
URL:https://www.smcvt.edu/event/softball-vs-indiana-pa/
LOCATION:CT
CATEGORIES:Athletics,Upload 2025 Spring
END:VEVENT
BEGIN:VEVENT
DTSTART;TZID=America/New_York:20250314T100000
DTEND;TZID=America/New_York:20250314T110000
DTSTAMP:20260424T150030
CREATED:20250306T202905Z
LAST-MODIFIED:20250306T202905Z
UID:10001353-1741946400-1741950000@www.smcvt.edu
SUMMARY:It's Planning Week
DESCRIPTION:It’s Planning Week \nFriday\, March 14 from 10 to 11 a.m.\nStudent Success Center \nAcademic advising and class registration are right around the corner! Stop by the Student Success Center (Top floor of Library) this week for planning assistance and to get your registration questions answered.
URL:https://www.smcvt.edu/event/its-planning-week-5/
LOCATION:Student Success Center
CATEGORIES:Student Success Center
ATTACH;FMTTYPE=image/png:https://www.smcvt.edu/wp-content/uploads/2025/03/Its-planning-week-8.5-x-11-4.png
END:VEVENT
BEGIN:VEVENT
DTSTART;TZID=America/New_York:20250314T113000
DTEND;TZID=America/New_York:20250314T143000
DTSTAMP:20260424T150030
CREATED:20250312T230440Z
LAST-MODIFIED:20250312T230440Z
UID:10001355-1741951800-1741962600@www.smcvt.edu
SUMMARY:Softball vs Shepherd
DESCRIPTION:Softball vs Shepherd Clermont\, FL / Legends Way
URL:https://www.smcvt.edu/event/softball-vs-shepherd/
LOCATION:CT
CATEGORIES:Athletics,Upload 2025 Spring
END:VEVENT
BEGIN:VEVENT
DTSTART;TZID=America/New_York:20250314T150000
DTEND;TZID=America/New_York:20250314T180000
DTSTAMP:20260424T150030
CREATED:20250312T230442Z
LAST-MODIFIED:20250312T230442Z
UID:10001356-1741964400-1741975200@www.smcvt.edu
SUMMARY:Men's Tennis at Colby
DESCRIPTION:Men’s Tennis at Colby Waterville\, ME
URL:https://www.smcvt.edu/event/mens-tennis-at-colby/
LOCATION:CT
CATEGORIES:Athletics,Upload 2025 Spring
END:VEVENT
END:VCALENDAR