BEGIN:VCALENDAR
VERSION:2.0
PRODID:-//Saint Michael&#039;s College - ECPv6.15.14//NONSGML v1.0//EN
CALSCALE:GREGORIAN
METHOD:PUBLISH
X-ORIGINAL-URL:https://www.smcvt.edu
X-WR-CALDESC:Events for Saint Michael&#039;s College
REFRESH-INTERVAL;VALUE=DURATION:PT1H
X-Robots-Tag:noindex
X-PUBLISHED-TTL:PT1H
BEGIN:VTIMEZONE
TZID:America/New_York
BEGIN:DAYLIGHT
TZOFFSETFROM:-0500
TZOFFSETTO:-0400
TZNAME:EDT
DTSTART:20240310T070000
END:DAYLIGHT
BEGIN:STANDARD
TZOFFSETFROM:-0400
TZOFFSETTO:-0500
TZNAME:EST
DTSTART:20241103T060000
END:STANDARD
BEGIN:DAYLIGHT
TZOFFSETFROM:-0500
TZOFFSETTO:-0400
TZNAME:EDT
DTSTART:20250309T070000
END:DAYLIGHT
BEGIN:STANDARD
TZOFFSETFROM:-0400
TZOFFSETTO:-0500
TZNAME:EST
DTSTART:20251102T060000
END:STANDARD
BEGIN:DAYLIGHT
TZOFFSETFROM:-0500
TZOFFSETTO:-0400
TZNAME:EDT
DTSTART:20260308T070000
END:DAYLIGHT
BEGIN:STANDARD
TZOFFSETFROM:-0400
TZOFFSETTO:-0500
TZNAME:EST
DTSTART:20261101T060000
END:STANDARD
END:VTIMEZONE
BEGIN:VEVENT
DTSTART;TZID=America/New_York:20250425T090000
DTEND;TZID=America/New_York:20250425T170000
DTSTAMP:20260425T100700
CREATED:20250411T144316Z
LAST-MODIFIED:20250411T144316Z
UID:10001940-1745571600-1745600400@www.smcvt.edu
SUMMARY:Academic Symposium
DESCRIPTION:Academic Symposium \nFriday\, April 25th and Saturday\, April 26th \nAcademic Symposium – an annual celebration of the work of Saint Michael’s College students – will be held on Friday\, April 25th and Saturday\, April 26th. \nOral presentations will be held on Friday\, April 25th from 9 a.m. to 5 p.m. and Saturday\, April 26th\, from 11 a.m. to 12 p.m. \nThe Poster Presentations will be on Saturday\, April 26th from 11 a.m. to 1 p.m. in the Dion Family Student Center.
URL:https://www.smcvt.edu/event/academic-symposium/
LOCATION:CT
CATEGORIES:Academic Affairs
END:VEVENT
BEGIN:VEVENT
DTSTART;TZID=America/New_York:20250425T140000
DTEND;TZID=America/New_York:20250425T170000
DTSTAMP:20260425T100700
CREATED:20250204T191227Z
LAST-MODIFIED:20250207T172132Z
UID:10001325-1745589600-1745600400@www.smcvt.edu
SUMMARY:OVE Farm Friday: Earth Week and Sophomore Salad Day
DESCRIPTION:OVE Farm Friday: Earth Week and Sophomore Salad Day \nFriday\, April 25 from 2 to 5 p.m.\nThe Farm at Saint Michael’s College \nAre you looking for an excuse to get outside\, a distraction from stress\, or a chance to meet some of your community members? Then come on down to the SMC Farm (located across Route 15 behind the Public Safety building) from 2pm – 5pm on Friday\, April 11th! The SMC Farm Crew will be leading the volunteers in a variety of farm tasks\, from weeding to bed preparation. \nToday is a special celebration targeted toward alumni\, those who choose to celebrate Earth Week with us\, and Sophomores; however\, any member of the SMC community is welcome! We will be hosting work parties from 2-4pm\, and having a FREE farm-fresh salad from 4-5pm. \nSign up is not required\, but highly encouraged for planning purposes! linktr.ee/farm.smcvt
URL:https://www.smcvt.edu/event/ove-farm-friday-earth-week-and-sophomore-salad-day/
LOCATION:The Farm at Saint Michael’s College\, One Winooski Park\, Colchester\, VT\, 05439\, United States
CATEGORIES:The Patrick '61 and Marcelle Leahy Institute for the Environment
ATTACH;FMTTYPE=image/jpeg:https://www.smcvt.edu/wp-content/uploads/2025/02/Spring-2025-Flyers-1.jpg
END:VEVENT
BEGIN:VEVENT
DTSTART;TZID=America/New_York:20250425T150000
DTEND;TZID=America/New_York:20250425T180000
DTSTAMP:20260425T100700
CREATED:20250312T232722Z
LAST-MODIFIED:20250312T232722Z
UID:10001446-1745593200-1745604000@www.smcvt.edu
SUMMARY:Softball at New Haven
DESCRIPTION:Softball at New Haven West Haven\, CT
URL:https://www.smcvt.edu/event/softball-at-new-haven/
LOCATION:CT
CATEGORIES:Athletics,Upload 2025 Spring
END:VEVENT
BEGIN:VEVENT
DTSTART;TZID=America/New_York:20250425T160000
DTEND;TZID=America/New_York:20250425T180000
DTSTAMP:20260425T100700
CREATED:20250415T173024Z
LAST-MODIFIED:20250415T173024Z
UID:10001951-1745596800-1745604000@www.smcvt.edu
SUMMARY:Get "Stoned"
DESCRIPTION:Get “Stoned” \nFriday\, April 25\, from 4 to 6 p.m.\n300’s Field \nCome join Be Well to Paint Rocks as we spark conversation on the good\, the bad\, and the ugly of cannabis. T-Break Guides and other resources available. This year\, we will also be featuring Borg trivia. Stop by as you prep for P-Day. \n4/25 on the 3’s field\n4:00 pm – 6:00 pm \nPizza and cosmic brownies provided!
URL:https://www.smcvt.edu/event/get-stoned/
LOCATION:300’s Field
CATEGORIES:Be Well
ATTACH;FMTTYPE=application/pdf:https://www.smcvt.edu/wp-content/uploads/2025/04/Get-Stoned-420-event-3.pdf
END:VEVENT
BEGIN:VEVENT
DTSTART;TZID=America/New_York:20250425T170000
DTEND;TZID=America/New_York:20250425T200000
DTSTAMP:20260425T100700
CREATED:20250312T232723Z
LAST-MODIFIED:20250312T232723Z
UID:10001447-1745600400-1745611200@www.smcvt.edu
SUMMARY:Softball at New Haven
DESCRIPTION:Softball at New Haven West Haven\, CT
URL:https://www.smcvt.edu/event/softball-at-new-haven-2/
LOCATION:CT
CATEGORIES:Athletics,Upload 2025 Spring
END:VEVENT
BEGIN:VEVENT
DTSTART;TZID=America/New_York:20250425T180000
DTEND;TZID=America/New_York:20250425T200000
DTSTAMP:20260425T100700
CREATED:20250414T205001Z
LAST-MODIFIED:20250414T205001Z
UID:10001946-1745604000-1745611200@www.smcvt.edu
SUMMARY:International Festival
DESCRIPTION:International Festival \nFriday\, April 25\, from 6 to 8 p.m.\nEddie’s Lounge \nDiversity Coalition’s 21st annual International Festival is on Friday\, April 25th. \nThis year’s International Festival is all about representation of your country and we can’t wait to see you in your cultural attire. The celebration will have cultural food\, music\, and performances. \n 
URL:https://www.smcvt.edu/event/international-festival/
LOCATION:Eddie’s Student Lounge\, Alliot Student Center
CATEGORIES:Diversity Coalition
END:VEVENT
BEGIN:VEVENT
DTSTART;TZID=America/New_York:20250425T190000
DTEND;TZID=America/New_York:20250425T220000
DTSTAMP:20260425T100700
CREATED:20250415T134102Z
LAST-MODIFIED:20250415T134102Z
UID:10001948-1745607600-1745618400@www.smcvt.edu
SUMMARY:Arctic Ascent Film Screening
DESCRIPTION:Arctic Ascent Film Screening \nFriday\, April 25\, at 7 p.m.\nCheray 101\, Cheray Science Hall \nJoin us for a viewing of Arctic Ascent featuring rock climber\, Alex Hannold and watch as he ventures into Greenland’s remote wilderness to scale unclimbed peaks while exploring the impact of climate change on the rapidly melting Arctic landscape with a team of climate researchers. Q & A to follow with Northeast regional educators and researchers.
URL:https://www.smcvt.edu/event/arctic-ascent-film-screening/
LOCATION:Cheray 101\, Cheray Science Hall
CATEGORIES:The Patrick '61 and Marcelle Leahy Institute for the Environment
ATTACH;FMTTYPE=application/pdf:https://www.smcvt.edu/wp-content/uploads/2025/04/I4E-Arctic-Ascent-Event-Poster.pdf
END:VEVENT
END:VCALENDAR