BEGIN:VCALENDAR
VERSION:2.0
PRODID:-//Saint Michael&#039;s College - ECPv6.15.14//NONSGML v1.0//EN
CALSCALE:GREGORIAN
METHOD:PUBLISH
X-WR-CALNAME:Saint Michael&#039;s College
X-ORIGINAL-URL:https://www.smcvt.edu
X-WR-CALDESC:Events for Saint Michael&#039;s College
REFRESH-INTERVAL;VALUE=DURATION:PT1H
X-Robots-Tag:noindex
X-PUBLISHED-TTL:PT1H
BEGIN:VTIMEZONE
TZID:America/New_York
BEGIN:DAYLIGHT
TZOFFSETFROM:-0500
TZOFFSETTO:-0400
TZNAME:EDT
DTSTART:20240310T070000
END:DAYLIGHT
BEGIN:STANDARD
TZOFFSETFROM:-0400
TZOFFSETTO:-0500
TZNAME:EST
DTSTART:20241103T060000
END:STANDARD
BEGIN:DAYLIGHT
TZOFFSETFROM:-0500
TZOFFSETTO:-0400
TZNAME:EDT
DTSTART:20250309T070000
END:DAYLIGHT
BEGIN:STANDARD
TZOFFSETFROM:-0400
TZOFFSETTO:-0500
TZNAME:EST
DTSTART:20251102T060000
END:STANDARD
BEGIN:DAYLIGHT
TZOFFSETFROM:-0500
TZOFFSETTO:-0400
TZNAME:EDT
DTSTART:20260308T070000
END:DAYLIGHT
BEGIN:STANDARD
TZOFFSETFROM:-0400
TZOFFSETTO:-0500
TZNAME:EST
DTSTART:20261101T060000
END:STANDARD
END:VTIMEZONE
BEGIN:VEVENT
DTSTART;TZID=America/New_York:20250903T150000
DTEND;TZID=America/New_York:20250903T180000
DTSTAMP:20260423T095742
CREATED:20250828T155821Z
LAST-MODIFIED:20250918T140554Z
UID:10002007-1756911600-1756922400@www.smcvt.edu
SUMMARY:Women's Tennis at Colby-Sawyer
DESCRIPTION:Women’s Tennis at Colby-Sawyer New London\, NH
URL:https://www.smcvt.edu/event/womens-tennis-at-colby-sawyer-2/
CATEGORIES:Athletics,Upload 2025 Fall
END:VEVENT
BEGIN:VEVENT
DTSTART;TZID=America/New_York:20250903T160000
DTEND;TZID=America/New_York:20250903T180000
DTSTAMP:20260423T095742
CREATED:20250903T121512Z
LAST-MODIFIED:20250903T121605Z
UID:10002176-1756915200-1756922400@www.smcvt.edu
SUMMARY:Student Disability Advocacy Alliance (SDAA) First Meeting of the Semester
DESCRIPTION:Join the Student Disability Advocacy Alliance (SDAA) for our first meeting of the semester! SDAA is a student-led group committed to promoting disability justice\, accessibility\, and inclusion on campus. Whether you identify as disabled\, chronically ill\, neurodivergent\, an ally\, or are just curious to learn more\, everyone is welcome. Come meet other students\, learn about our goals for the year\, and help shape our advocacy and community-building efforts.
URL:https://www.smcvt.edu/event/student-disability-advocacy-alliance-sdaa-first-meeting-of-the-semester/
LOCATION:Alliot Student Center
CATEGORIES:Student Disability Advocacy Alliance (SDAA)
ATTACH;FMTTYPE=image/jpeg:https://www.smcvt.edu/wp-content/uploads/2025/09/411E6FB7-54A1-41B9-AACC-E2C03CB68805.jpg
END:VEVENT
BEGIN:VEVENT
DTSTART;TZID=America/New_York:20250903T190000
DTEND;TZID=America/New_York:20250903T210000
DTSTAMP:20260423T095742
CREATED:20250825T115634Z
LAST-MODIFIED:20250825T115858Z
UID:10002000-1756926000-1756933200@www.smcvt.edu
SUMMARY:Fire & Rescue Info Sessions
DESCRIPTION:Event for students who are interested in learning about Saint Michael’s Fire and Rescue to hear from the members. \nTwo sessions to be held: \n\n9/3/25 from 7-9pm\n9/4/25 from 7-9pm
URL:https://www.smcvt.edu/event/fire-rescue-info-sessions/2025-09-03/
LOCATION:Saint Edmund’s Hall
CATEGORIES:Fire and Rescue
ATTACH;FMTTYPE=image/jpeg:https://www.smcvt.edu/wp-content/uploads/2025/08/IMG_3915.jpeg
END:VEVENT
END:VCALENDAR