BEGIN:VCALENDAR
VERSION:2.0
PRODID:-//Saint Michael&#039;s College - ECPv6.15.14//NONSGML v1.0//EN
CALSCALE:GREGORIAN
METHOD:PUBLISH
X-ORIGINAL-URL:https://www.smcvt.edu
X-WR-CALDESC:Events for Saint Michael&#039;s College
REFRESH-INTERVAL;VALUE=DURATION:PT1H
X-Robots-Tag:noindex
X-PUBLISHED-TTL:PT1H
BEGIN:VTIMEZONE
TZID:America/New_York
BEGIN:DAYLIGHT
TZOFFSETFROM:-0500
TZOFFSETTO:-0400
TZNAME:EDT
DTSTART:20240310T070000
END:DAYLIGHT
BEGIN:STANDARD
TZOFFSETFROM:-0400
TZOFFSETTO:-0500
TZNAME:EST
DTSTART:20241103T060000
END:STANDARD
BEGIN:DAYLIGHT
TZOFFSETFROM:-0500
TZOFFSETTO:-0400
TZNAME:EDT
DTSTART:20250309T070000
END:DAYLIGHT
BEGIN:STANDARD
TZOFFSETFROM:-0400
TZOFFSETTO:-0500
TZNAME:EST
DTSTART:20251102T060000
END:STANDARD
BEGIN:DAYLIGHT
TZOFFSETFROM:-0500
TZOFFSETTO:-0400
TZNAME:EDT
DTSTART:20260308T070000
END:DAYLIGHT
BEGIN:STANDARD
TZOFFSETFROM:-0400
TZOFFSETTO:-0500
TZNAME:EST
DTSTART:20261101T060000
END:STANDARD
END:VTIMEZONE
BEGIN:VEVENT
DTSTART;TZID=America/New_York:20250904T120000
DTEND;TZID=America/New_York:20250904T150000
DTSTAMP:20260423T095818
CREATED:20250828T155822Z
LAST-MODIFIED:20250918T140555Z
UID:10002008-1756987200-1756998000@www.smcvt.edu
SUMMARY:Women's Soccer vs Millersville
DESCRIPTION:Women’s Soccer vs Millersville Madison\, NJ / Fairleigh Dickinson University-Florham
URL:https://www.smcvt.edu/event/womens-soccer-vs-millersville/
CATEGORIES:Athletics,Upload 2025 Fall
END:VEVENT
BEGIN:VEVENT
DTSTART;TZID=America/New_York:20250904T130000
DTEND;TZID=America/New_York:20250904T160000
DTSTAMP:20260423T095818
CREATED:20250828T155823Z
LAST-MODIFIED:20250918T140555Z
UID:10002009-1756990800-1757001600@www.smcvt.edu
SUMMARY:Men's Soccer at Georgian Court
DESCRIPTION:Men’s Soccer at Georgian Court Lakewood\, NJ
URL:https://www.smcvt.edu/event/mens-soccer-at-georgian-court/
CATEGORIES:Athletics,Upload 2025 Fall
END:VEVENT
BEGIN:VEVENT
DTSTART;TZID=America/New_York:20250904T190000
DTEND;TZID=America/New_York:20250904T210000
DTSTAMP:20260423T095818
CREATED:20250825T115634Z
LAST-MODIFIED:20250825T115858Z
UID:10002001-1757012400-1757019600@www.smcvt.edu
SUMMARY:Fire & Rescue Info Sessions
DESCRIPTION:Event for students who are interested in learning about Saint Michael’s Fire and Rescue to hear from the members. \nTwo sessions to be held: \n\n9/3/25 from 7-9pm\n9/4/25 from 7-9pm
URL:https://www.smcvt.edu/event/fire-rescue-info-sessions/2025-09-04/
LOCATION:Saint Edmund’s Hall
CATEGORIES:Fire and Rescue
ATTACH;FMTTYPE=image/jpeg:https://www.smcvt.edu/wp-content/uploads/2025/08/IMG_3915.jpeg
END:VEVENT
END:VCALENDAR