BEGIN:VCALENDAR
VERSION:2.0
PRODID:-//Saint Michael&#039;s College - ECPv6.15.14//NONSGML v1.0//EN
CALSCALE:GREGORIAN
METHOD:PUBLISH
X-WR-CALNAME:Saint Michael&#039;s College
X-ORIGINAL-URL:https://www.smcvt.edu
X-WR-CALDESC:Events for Saint Michael&#039;s College
REFRESH-INTERVAL;VALUE=DURATION:PT1H
X-Robots-Tag:noindex
X-PUBLISHED-TTL:PT1H
BEGIN:VTIMEZONE
TZID:America/New_York
BEGIN:DAYLIGHT
TZOFFSETFROM:-0500
TZOFFSETTO:-0400
TZNAME:EDT
DTSTART:20240310T070000
END:DAYLIGHT
BEGIN:STANDARD
TZOFFSETFROM:-0400
TZOFFSETTO:-0500
TZNAME:EST
DTSTART:20241103T060000
END:STANDARD
BEGIN:DAYLIGHT
TZOFFSETFROM:-0500
TZOFFSETTO:-0400
TZNAME:EDT
DTSTART:20250309T070000
END:DAYLIGHT
BEGIN:STANDARD
TZOFFSETFROM:-0400
TZOFFSETTO:-0500
TZNAME:EST
DTSTART:20251102T060000
END:STANDARD
BEGIN:DAYLIGHT
TZOFFSETFROM:-0500
TZOFFSETTO:-0400
TZNAME:EDT
DTSTART:20260308T070000
END:DAYLIGHT
BEGIN:STANDARD
TZOFFSETFROM:-0400
TZOFFSETTO:-0500
TZNAME:EST
DTSTART:20261101T060000
END:STANDARD
END:VTIMEZONE
BEGIN:VEVENT
DTSTART;TZID=America/New_York:20250910T150000
DTEND;TZID=America/New_York:20250910T180000
DTSTAMP:20260423T095746
CREATED:20250828T160332Z
LAST-MODIFIED:20250918T140952Z
UID:10002030-1757516400-1757527200@www.smcvt.edu
SUMMARY:Men's Tennis at Colby-Sawyer
DESCRIPTION:Men’s Tennis at Colby-Sawyer New London\, NH
URL:https://www.smcvt.edu/event/mens-tennis-at-colby-sawyer/
CATEGORIES:Athletics,Upload 2025 Fall
END:VEVENT
BEGIN:VEVENT
DTSTART;TZID=America/New_York:20250910T150000
DTEND;TZID=America/New_York:20250910T180000
DTSTAMP:20260423T095746
CREATED:20250828T160334Z
LAST-MODIFIED:20250918T140952Z
UID:10002031-1757516400-1757527200@www.smcvt.edu
SUMMARY:Men's Soccer vs Daemen
DESCRIPTION:Men’s Soccer vs Daemen Colchester\, VT
URL:https://www.smcvt.edu/event/mens-soccer-vs-daemen/
CATEGORIES:Athletics,Upload 2025 Fall
END:VEVENT
BEGIN:VEVENT
DTSTART;TZID=America/New_York:20250910T170000
DTEND;TZID=America/New_York:20250910T183000
DTSTAMP:20260423T095746
CREATED:20250828T154433Z
LAST-MODIFIED:20250828T154433Z
UID:10002003-1757523600-1757529000@www.smcvt.edu
SUMMARY:Beyond Laudato Si': Ecology\, Theology\, and Everyday Life\, a Lecture by Dr. Christiana Zenner\, PhD\, of Fordham University
DESCRIPTION:Dr. Christiana Zenner\, PhD\, Associate Professor of Theology\, Science\, and Ethics at Fordham University will deliver a lecture on Laudato Si’ on the tenth anniversary year of the publication. Laudato Si’ is Pope Francis’s landmark encyclical that calls both the Catholic Church and the world to an “integral ecology\,” linking care for creation with justice for the poor and urging ecological conversion as a moral and spiritual responsibility for all. Dr. Zenner’s remarks will convey how Laudato Si’ has influenced the contemporary linking of the cry of the Earth and the cry of the poor into one vision of justice.
URL:https://www.smcvt.edu/event/beyond-laudato-si-ecology-theology-and-everyday-life-a-lecture-by-dr-christiana-zenner-phd-of-fordham-university/
LOCATION:Roy Room\, Dion Family Student Center
CATEGORIES:Division of Edmundite Mission
END:VEVENT
BEGIN:VEVENT
DTSTART;TZID=America/New_York:20250910T170000
DTEND;TZID=America/New_York:20250910T200000
DTSTAMP:20260423T095746
CREATED:20250828T160335Z
LAST-MODIFIED:20250918T140953Z
UID:10002032-1757523600-1757534400@www.smcvt.edu
SUMMARY:Field Hockey at Franklin Pierce
DESCRIPTION:Field Hockey at Franklin Pierce Rindge\, NH
URL:https://www.smcvt.edu/event/field-hockey-at-franklin-pierce-2/
CATEGORIES:Athletics,Upload 2025 Fall
END:VEVENT
BEGIN:VEVENT
DTSTART;TZID=America/New_York:20250910T190000
DTEND;TZID=America/New_York:20250910T200000
DTSTAMP:20260423T095746
CREATED:20250910T220821Z
LAST-MODIFIED:20250910T221048Z
UID:10002184-1757530800-1757534400@www.smcvt.edu
SUMMARY:Student Investment Fund Meeting
DESCRIPTION:Weekly Student Investment Fund Meeting 7pm in the Student Success Center!
URL:https://www.smcvt.edu/event/student-investment-fund-meeting/
LOCATION:Student Success Center
CATEGORIES:Business Administration and Accounting,Student Investment Fund
ATTACH;FMTTYPE=image/jpeg:https://www.smcvt.edu/wp-content/uploads/2025/09/saint_michael_s_college_student_investment_fund_logo.jpg
END:VEVENT
END:VCALENDAR