BEGIN:VCALENDAR
VERSION:2.0
PRODID:-//Saint Michael&#039;s College - ECPv6.15.14//NONSGML v1.0//EN
CALSCALE:GREGORIAN
METHOD:PUBLISH
X-WR-CALNAME:Saint Michael&#039;s College
X-ORIGINAL-URL:https://www.smcvt.edu
X-WR-CALDESC:Events for Saint Michael&#039;s College
REFRESH-INTERVAL;VALUE=DURATION:PT1H
X-Robots-Tag:noindex
X-PUBLISHED-TTL:PT1H
BEGIN:VTIMEZONE
TZID:America/New_York
BEGIN:DAYLIGHT
TZOFFSETFROM:-0500
TZOFFSETTO:-0400
TZNAME:EDT
DTSTART:20240310T070000
END:DAYLIGHT
BEGIN:STANDARD
TZOFFSETFROM:-0400
TZOFFSETTO:-0500
TZNAME:EST
DTSTART:20241103T060000
END:STANDARD
BEGIN:DAYLIGHT
TZOFFSETFROM:-0500
TZOFFSETTO:-0400
TZNAME:EDT
DTSTART:20250309T070000
END:DAYLIGHT
BEGIN:STANDARD
TZOFFSETFROM:-0400
TZOFFSETTO:-0500
TZNAME:EST
DTSTART:20251102T060000
END:STANDARD
BEGIN:DAYLIGHT
TZOFFSETFROM:-0500
TZOFFSETTO:-0400
TZNAME:EDT
DTSTART:20260308T070000
END:DAYLIGHT
BEGIN:STANDARD
TZOFFSETFROM:-0400
TZOFFSETTO:-0500
TZNAME:EST
DTSTART:20261101T060000
END:STANDARD
END:VTIMEZONE
BEGIN:VEVENT
DTSTART;TZID=America/New_York:20250914T080000
DTEND;TZID=America/New_York:20250914T180000
DTSTAMP:20260423T095747
CREATED:20250818T143049Z
LAST-MODIFIED:20250818T143049Z
UID:10001993-1757836800-1757872800@www.smcvt.edu
SUMMARY:Whitewater/River Kayaking
DESCRIPTION:Vermont’s iconic rivers offer fantastic opportunities for beginners and experienced paddlers alike. You’ll learn how to maneuver in and out of current and paddle through rapids. \nOn any trip you’ll get:\n• An inclusive\, supportive environment for experiencing and learning.\n• State-of-the-sport instruction from student-instructors and working professionals.\n• Top-of-the-line technical equipment and outdoor clothing.\n• Opportunities to challenge yourself.\nSpaces are limited and filled on a first-come\, first-served basis\, and close at noon on the Thursday before the trip. Drop by the Adventure Sports Center on ground floor of Alumni to sign up
URL:https://www.smcvt.edu/event/whitewater-river-kayaking/
LOCATION:Adventure Sports Center\, VT
CATEGORIES:Adventure Sports Center
ATTACH;FMTTYPE=image/jpeg:https://www.smcvt.edu/wp-content/uploads/2025/08/ww1.jpeg
END:VEVENT
BEGIN:VEVENT
DTSTART;TZID=America/New_York:20250914T100000
DTEND;TZID=America/New_York:20250914T130000
DTSTAMP:20260423T095747
CREATED:20250828T160634Z
LAST-MODIFIED:20250918T141052Z
UID:10002040-1757844000-1757854800@www.smcvt.edu
SUMMARY:Women's Tennis at Post
DESCRIPTION:Women’s Tennis at Post Middlebury\, CT / Edgewood Bath & Tennis
URL:https://www.smcvt.edu/event/womens-tennis-at-post/
CATEGORIES:Athletics,Upload 2025 Fall
END:VEVENT
BEGIN:VEVENT
DTSTART;TZID=America/New_York:20250914T110000
DTEND;TZID=America/New_York:20250914T140000
DTSTAMP:20260423T095747
CREATED:20250828T160635Z
LAST-MODIFIED:20250918T141053Z
UID:10002041-1757847600-1757858400@www.smcvt.edu
SUMMARY:Men's Soccer vs D'Youville
DESCRIPTION:Men’s Soccer vs D’Youville Colchester\, VT
URL:https://www.smcvt.edu/event/mens-soccer-vs-dyouville/
CATEGORIES:Athletics,Upload 2025 Fall
END:VEVENT
BEGIN:VEVENT
DTSTART;TZID=America/New_York:20250914T130000
DTEND;TZID=America/New_York:20250914T160000
DTSTAMP:20260423T095747
CREATED:20250828T160637Z
LAST-MODIFIED:20250918T141053Z
UID:10002042-1757854800-1757865600@www.smcvt.edu
SUMMARY:Women's Soccer at D'Youville
DESCRIPTION:Women’s Soccer at D’Youville Buffalo\, NY
URL:https://www.smcvt.edu/event/womens-soccer-at-dyouville/
CATEGORIES:Athletics,Upload 2025 Fall
END:VEVENT
END:VCALENDAR