BEGIN:VCALENDAR
VERSION:2.0
PRODID:-//Saint Michael&#039;s College - ECPv6.15.14//NONSGML v1.0//EN
CALSCALE:GREGORIAN
METHOD:PUBLISH
X-WR-CALNAME:Saint Michael&#039;s College
X-ORIGINAL-URL:https://www.smcvt.edu
X-WR-CALDESC:Events for Saint Michael&#039;s College
REFRESH-INTERVAL;VALUE=DURATION:PT1H
X-Robots-Tag:noindex
X-PUBLISHED-TTL:PT1H
BEGIN:VTIMEZONE
TZID:America/New_York
BEGIN:DAYLIGHT
TZOFFSETFROM:-0500
TZOFFSETTO:-0400
TZNAME:EDT
DTSTART:20240310T070000
END:DAYLIGHT
BEGIN:STANDARD
TZOFFSETFROM:-0400
TZOFFSETTO:-0500
TZNAME:EST
DTSTART:20241103T060000
END:STANDARD
BEGIN:DAYLIGHT
TZOFFSETFROM:-0500
TZOFFSETTO:-0400
TZNAME:EDT
DTSTART:20250309T070000
END:DAYLIGHT
BEGIN:STANDARD
TZOFFSETFROM:-0400
TZOFFSETTO:-0500
TZNAME:EST
DTSTART:20251102T060000
END:STANDARD
BEGIN:DAYLIGHT
TZOFFSETFROM:-0500
TZOFFSETTO:-0400
TZNAME:EDT
DTSTART:20260308T070000
END:DAYLIGHT
BEGIN:STANDARD
TZOFFSETFROM:-0400
TZOFFSETTO:-0500
TZNAME:EST
DTSTART:20261101T060000
END:STANDARD
END:VTIMEZONE
BEGIN:VEVENT
DTSTART;VALUE=DATE:20250919
DTEND;VALUE=DATE:20250922
DTSTAMP:20260423T095748
CREATED:20250724T172629Z
LAST-MODIFIED:20250911T183940Z
UID:10001976-1758240000-1758499199@www.smcvt.edu
SUMMARY:Alumni & Family Weekend 2025
DESCRIPTION:It’s official: Alumni and Family Weekend 2025 is on the books for Friday\, September 19th through Sunday\, September 21st. We are proud to welcome alumni\, current SMC families\, and families of alumni to celebrate the weekend of programming on and off campus. Head over to smcvt.edu/fallweekend for more info and the schedule!
URL:https://www.smcvt.edu/event/alumni-family-weekend-2025/
LOCATION:Saint Michael’s College\, One Winooski Park\, Colchester\, VT\, 05439\, United States
CATEGORIES:Alumni Events
ATTACH;FMTTYPE=image/png:https://www.smcvt.edu/wp-content/uploads/2023/07/Saint-Michaels-College-Logo.png
END:VEVENT
BEGIN:VEVENT
DTSTART;TZID=America/New_York:20250920T080000
DTEND;TZID=America/New_York:20250920T140000
DTSTAMP:20260423T095748
CREATED:20250818T150232Z
LAST-MODIFIED:20250818T150232Z
UID:10001994-1758355200-1758376800@www.smcvt.edu
SUMMARY:Butler Lodge Hike
DESCRIPTION:Take a half day hike on the side of Mt Mansfield to a cabin with amazing views.\nOn any trip you’ll get:\n• An inclusive\, supportive environment for experiencing and learning.\n• State-of-the-sport instruction from student-instructors and working professionals.\n• Top-of-the-line technical equipment and outdoor clothing.\n• Opportunities to challenge yourself.\nSpaces are limited and filled on a first-come\, first-served basis\, and close at noon on the Thursday before the trip. Drop by the Adventure Sports Center on ground floor of Alumni to sign up
URL:https://www.smcvt.edu/event/butler-lodge-hike/
LOCATION:Adventure Sports Center\, VT
CATEGORIES:Adventure Sports Center
ATTACH;FMTTYPE=image/jpeg:https://www.smcvt.edu/wp-content/uploads/2025/08/hike-foliage.jpeg
END:VEVENT
BEGIN:VEVENT
DTSTART;TZID=America/New_York:20250920T110000
DTEND;TZID=America/New_York:20250920T140000
DTSTAMP:20260423T095748
CREATED:20250828T160837Z
LAST-MODIFIED:20250918T141148Z
UID:10002048-1758366000-1758376800@www.smcvt.edu
SUMMARY:Women's Tennis vs Bentley
DESCRIPTION:Women’s Tennis vs Bentley Colchester\, VT
URL:https://www.smcvt.edu/event/womens-tennis-vs-bentley/
CATEGORIES:Athletics,Upload 2025 Fall
END:VEVENT
BEGIN:VEVENT
DTSTART;TZID=America/New_York:20250920T110000
DTEND;TZID=America/New_York:20250920T140000
DTSTAMP:20260423T095748
CREATED:20250828T160838Z
LAST-MODIFIED:20250918T141149Z
UID:10002049-1758366000-1758376800@www.smcvt.edu
SUMMARY:Field Hockey vs Southern Connecticut State
DESCRIPTION:Field Hockey vs Southern Connecticut State Colchester\, VT
URL:https://www.smcvt.edu/event/field-hockey-vs-southern-connecticut-state/
CATEGORIES:Athletics,Upload 2025 Fall
END:VEVENT
BEGIN:VEVENT
DTSTART;TZID=America/New_York:20250920T110000
DTEND;TZID=America/New_York:20250920T140000
DTSTAMP:20260423T095748
CREATED:20250828T170234Z
LAST-MODIFIED:20250918T141154Z
UID:10002050-1758366000-1758376800@www.smcvt.edu
SUMMARY:Women's Volleyball at Post
DESCRIPTION:Women’s Volleyball at Post Waterbury\, CT
URL:https://www.smcvt.edu/event/womens-volleyball-at-post/
CATEGORIES:Athletics,Upload 2025 Fall
END:VEVENT
BEGIN:VEVENT
DTSTART;TZID=America/New_York:20250920T130000
DTEND;TZID=America/New_York:20250920T160000
DTSTAMP:20260423T095748
CREATED:20250828T170235Z
LAST-MODIFIED:20250918T141155Z
UID:10002051-1758373200-1758384000@www.smcvt.edu
SUMMARY:Women's Volleyball vs Saint Thomas Aquinas
DESCRIPTION:Women’s Volleyball vs Saint Thomas Aquinas Waterbury\, CT / Post University
URL:https://www.smcvt.edu/event/womens-volleyball-vs-saint-thomas-aquinas/
CATEGORIES:Athletics,Upload 2025 Fall
END:VEVENT
BEGIN:VEVENT
DTSTART;TZID=America/New_York:20250920T140000
DTEND;TZID=America/New_York:20250920T170000
DTSTAMP:20260423T095748
CREATED:20250828T170236Z
LAST-MODIFIED:20250918T141156Z
UID:10002052-1758376800-1758387600@www.smcvt.edu
SUMMARY:Men's Tennis vs Bentley
DESCRIPTION:Men’s Tennis vs Bentley Colchester\, VT
URL:https://www.smcvt.edu/event/mens-tennis-vs-bentley-2/
CATEGORIES:Athletics,Upload 2025 Fall
END:VEVENT
BEGIN:VEVENT
DTSTART;TZID=America/New_York:20250920T140000
DTEND;TZID=America/New_York:20250920T170000
DTSTAMP:20260423T095748
CREATED:20250828T170237Z
LAST-MODIFIED:20250918T141157Z
UID:10002053-1758376800-1758387600@www.smcvt.edu
SUMMARY:Men's Soccer vs Assumption
DESCRIPTION:Men’s Soccer vs Assumption Colchester\, VT
URL:https://www.smcvt.edu/event/mens-soccer-vs-assumption/
CATEGORIES:Athletics,Upload 2025 Fall
END:VEVENT
BEGIN:VEVENT
DTSTART;TZID=America/New_York:20250920T140000
DTEND;TZID=America/New_York:20250920T170000
DTSTAMP:20260423T095748
CREATED:20250828T170238Z
LAST-MODIFIED:20250918T141159Z
UID:10002054-1758376800-1758387600@www.smcvt.edu
SUMMARY:Women's Ice Hockey at Vermont
DESCRIPTION:Women’s Ice Hockey at Vermont Burlington\, VT / Gutterson Fieldhouse
URL:https://www.smcvt.edu/event/womens-ice-hockey-at-vermont/
CATEGORIES:Athletics,Upload 2025 Fall
END:VEVENT
BEGIN:VEVENT
DTSTART;TZID=America/New_York:20250920T180000
DTEND;TZID=America/New_York:20250920T210000
DTSTAMP:20260423T095748
CREATED:20250828T170316Z
LAST-MODIFIED:20250918T141308Z
UID:10002055-1758391200-1758402000@www.smcvt.edu
SUMMARY:Women's Soccer vs Bentley
DESCRIPTION:Women’s Soccer vs Bentley Colchester\, VT
URL:https://www.smcvt.edu/event/womens-soccer-vs-bentley/
CATEGORIES:Athletics,Upload 2025 Fall
END:VEVENT
END:VCALENDAR