BEGIN:VCALENDAR
VERSION:2.0
PRODID:-//Saint Michael&#039;s College - ECPv6.15.14//NONSGML v1.0//EN
CALSCALE:GREGORIAN
METHOD:PUBLISH
X-ORIGINAL-URL:https://www.smcvt.edu
X-WR-CALDESC:Events for Saint Michael&#039;s College
REFRESH-INTERVAL;VALUE=DURATION:PT1H
X-Robots-Tag:noindex
X-PUBLISHED-TTL:PT1H
BEGIN:VTIMEZONE
TZID:America/New_York
BEGIN:DAYLIGHT
TZOFFSETFROM:-0500
TZOFFSETTO:-0400
TZNAME:EDT
DTSTART:20240310T070000
END:DAYLIGHT
BEGIN:STANDARD
TZOFFSETFROM:-0400
TZOFFSETTO:-0500
TZNAME:EST
DTSTART:20241103T060000
END:STANDARD
BEGIN:DAYLIGHT
TZOFFSETFROM:-0500
TZOFFSETTO:-0400
TZNAME:EDT
DTSTART:20250309T070000
END:DAYLIGHT
BEGIN:STANDARD
TZOFFSETFROM:-0400
TZOFFSETTO:-0500
TZNAME:EST
DTSTART:20251102T060000
END:STANDARD
BEGIN:DAYLIGHT
TZOFFSETFROM:-0500
TZOFFSETTO:-0400
TZNAME:EDT
DTSTART:20260308T070000
END:DAYLIGHT
BEGIN:STANDARD
TZOFFSETFROM:-0400
TZOFFSETTO:-0500
TZNAME:EST
DTSTART:20261101T060000
END:STANDARD
END:VTIMEZONE
BEGIN:VEVENT
DTSTART;TZID=America/New_York:20250926T140000
DTEND;TZID=America/New_York:20250926T170000
DTSTAMP:20260423T095801
CREATED:20250827T160319Z
LAST-MODIFIED:20250827T160319Z
UID:10002002-1758895200-1758906000@www.smcvt.edu
SUMMARY:Extra Special OVE Farm Friday - Salad Day!
DESCRIPTION:Join us for an extra special OVE Farm Friday!\n2pm: Volunteer Projects Kick Off \n3pm: “Speed Friending” hosted in partnership with BeWell and Random Acts of Kindness will allow us to continue tackling volunteer projects while meeting new friends! \n4pm: Take a break from work to enjoy a Salad Day hosted in partnership with the Student Success Center!\n(Don’t forget to bring your own bowl & utensils!) Can’t wait to see you there!
URL:https://www.smcvt.edu/event/extra-special-ove-farm-friday-salad-day/
LOCATION:The Farm
CATEGORIES:The Patrick '61 and Marcelle Leahy Institute for the Environment
ATTACH;FMTTYPE=image/png:https://www.smcvt.edu/wp-content/uploads/2025/08/Salad-Day-Digital-Signage-1.png
END:VEVENT
BEGIN:VEVENT
DTSTART;TZID=America/New_York:20250926T170000
DTEND;TZID=America/New_York:20250926T200000
DTSTAMP:20260423T095801
CREATED:20250828T170331Z
LAST-MODIFIED:20250918T141311Z
UID:10002063-1758906000-1758916800@www.smcvt.edu
SUMMARY:Women's Volleyball at Saint Anselm
DESCRIPTION:Women’s Volleyball at Saint Anselm Manchester\, NH
URL:https://www.smcvt.edu/event/womens-volleyball-at-saint-anselm-3/
CATEGORIES:Athletics,Upload 2025 Fall
END:VEVENT
BEGIN:VEVENT
DTSTART;TZID=America/New_York:20250926T190000
DTEND;TZID=America/New_York:20250926T220000
DTSTAMP:20260423T095801
CREATED:20250828T170333Z
LAST-MODIFIED:20250918T141349Z
UID:10002064-1758913200-1758924000@www.smcvt.edu
SUMMARY:Women's Ice Hockey at Saint Anselm
DESCRIPTION:Women’s Ice Hockey at Saint Anselm Manchester\, NH / Sullivan Arena
URL:https://www.smcvt.edu/event/womens-ice-hockey-at-saint-anselm/
CATEGORIES:Athletics,Upload 2025 Fall
END:VEVENT
END:VCALENDAR