BEGIN:VCALENDAR
VERSION:2.0
PRODID:-//Saint Michael&#039;s College - ECPv6.15.14//NONSGML v1.0//EN
CALSCALE:GREGORIAN
METHOD:PUBLISH
X-ORIGINAL-URL:https://www.smcvt.edu
X-WR-CALDESC:Events for Saint Michael&#039;s College
REFRESH-INTERVAL;VALUE=DURATION:PT1H
X-Robots-Tag:noindex
X-PUBLISHED-TTL:PT1H
BEGIN:VTIMEZONE
TZID:America/New_York
BEGIN:DAYLIGHT
TZOFFSETFROM:-0500
TZOFFSETTO:-0400
TZNAME:EDT
DTSTART:20240310T070000
END:DAYLIGHT
BEGIN:STANDARD
TZOFFSETFROM:-0400
TZOFFSETTO:-0500
TZNAME:EST
DTSTART:20241103T060000
END:STANDARD
BEGIN:DAYLIGHT
TZOFFSETFROM:-0500
TZOFFSETTO:-0400
TZNAME:EDT
DTSTART:20250309T070000
END:DAYLIGHT
BEGIN:STANDARD
TZOFFSETFROM:-0400
TZOFFSETTO:-0500
TZNAME:EST
DTSTART:20251102T060000
END:STANDARD
BEGIN:DAYLIGHT
TZOFFSETFROM:-0500
TZOFFSETTO:-0400
TZNAME:EDT
DTSTART:20260308T070000
END:DAYLIGHT
BEGIN:STANDARD
TZOFFSETFROM:-0400
TZOFFSETTO:-0500
TZNAME:EST
DTSTART:20261101T060000
END:STANDARD
END:VTIMEZONE
BEGIN:VEVENT
DTSTART;TZID=America/New_York:20250930T113000
DTEND;TZID=America/New_York:20250930T130000
DTSTAMP:20260422T203150
CREATED:20250923T115949Z
LAST-MODIFIED:20250923T115949Z
UID:10002331-1759231800-1759237200@www.smcvt.edu
SUMMARY:Info Table - Shakespeare in Performance\, Academic Study Trip\, Summer 2026
DESCRIPTION:A 2-credit On Stage (EN337) course will be taught in England in SU2026. The course will focus on five plays: two performed by the Royal Shakespeare Company in Stratford-upon-Avon\, and three others performed in London (Globe Theatre) or other venues in England. The course will be based at Wroxton Abbey outside of Banbury\, north of London. A 4-credit spring course (Shakespeare 335) must be taken in order to be considered for the summer program. \nAn INFORMATION SESSION will also be held on 9/30\, 5-6pm\, JEM 377.
URL:https://www.smcvt.edu/event/info-table-shakespeare-in-performance-academic-study-trip-summer-2026/
LOCATION:Alliot Student Center
CATEGORIES:Study Abroad
ATTACH;FMTTYPE=image/jpeg:https://www.smcvt.edu/wp-content/uploads/2025/09/Wroxton-College-300x169-1.jpg
END:VEVENT
BEGIN:VEVENT
DTSTART;TZID=America/New_York:20250930T170000
DTEND;TZID=America/New_York:20250930T180000
DTSTAMP:20260422T203150
CREATED:20250923T120331Z
LAST-MODIFIED:20250923T120331Z
UID:10002332-1759251600-1759255200@www.smcvt.edu
SUMMARY:Info Session- Shakespeare in Performance\, Academic Study Trip\, Summer 2026
DESCRIPTION:A 2-credit On Stage (EN337) course will be taught in England in SU2026. The course will focus on five plays: two performed by the Royal Shakespeare Company in Stratford-upon-Avon\, and three others performed in London (Globe Theatre) or other venues in England. The course will be based at Wroxton Abbey outside of Banbury\, north of London. A 4-credit spring course (Shakespeare 335) must be taken in order to be considered for the summer program. \nAn INFORMATION TABLE will also be held on 9/30\, 11:30-1:00pm.
URL:https://www.smcvt.edu/event/info-session-shakespeare-in-performance-academic-study-trip-summer-2026/
LOCATION:Jeanmarie Hall
CATEGORIES:Study Abroad
ATTACH;FMTTYPE=image/jpeg:https://www.smcvt.edu/wp-content/uploads/2025/09/Wroxton-College-300x169-1.jpg
END:VEVENT
BEGIN:VEVENT
DTSTART;TZID=America/New_York:20250930T170000
DTEND;TZID=America/New_York:20250930T200000
DTSTAMP:20260422T203150
CREATED:20250828T170428Z
LAST-MODIFIED:20250918T141457Z
UID:10002078-1759251600-1759262400@www.smcvt.edu
SUMMARY:Field Hockey at Saint Anselm
DESCRIPTION:Field Hockey at Saint Anselm Manchester\, NH
URL:https://www.smcvt.edu/event/field-hockey-at-saint-anselm-2/
CATEGORIES:Athletics,Upload 2025 Fall
END:VEVENT
BEGIN:VEVENT
DTSTART;TZID=America/New_York:20250930T180000
DTEND;TZID=America/New_York:20250930T193000
DTSTAMP:20260422T203150
CREATED:20250912T182113Z
LAST-MODIFIED:20250912T182113Z
UID:10002187-1759255200-1759260600@www.smcvt.edu
SUMMARY:The White Peril: A Conversation with Omo Moses
DESCRIPTION:Omo was born in 1972 in Tanzania\, where his parents had fled to escape targeted harassment by the US government. He did not encounter white supremacy until the family moved back to America when he was 4. Here he learned what it meant to be Black. He came of age in a Black enclave of Cambridge\, Massachusetts\, became a passionate basketball player\, lived in the shadow of his father’s Civil Rights work but did not feel like a part of it until his college basketball career came to an unceremonious end. Unsure what to do next\, he took up his father’s offer to go with him to Mississippi and teach math to Algebra Project students. Omo didn’t know it yet\, but it was among those young people that he would find his purpose.\n\nIn The White Peril\, Omo Moses deftly interweaves his own life story with excerpts from both his great-grandfather’s sermons and the writings of his father\, the civil rights activist Bob Moses. The result is a powerful chorus of voices that spans 3 generations of an African American family\, all shining a light on the Black experience\, all calling fiercely for racial justice.\n\nThis book is at once a coming-of-age story\, a multigenerational family memoir\, an epic father-son road trip\, a searing account of the Black male experience\, and a work that powerfully revives Rev. Moses’s demand for liberation.
URL:https://www.smcvt.edu/event/the-white-peril-a-conversation-with-omo-moses/
LOCATION:Recital Hall\, McCarthy Arts Center
CATEGORIES:History,Institute for Equity and Justice
ATTACH;FMTTYPE=image/png:https://www.smcvt.edu/wp-content/uploads/2025/09/Omo-Moses-Poster.png
END:VEVENT
END:VCALENDAR