BEGIN:VCALENDAR
VERSION:2.0
PRODID:-//Saint Michael&#039;s College - ECPv6.15.14//NONSGML v1.0//EN
CALSCALE:GREGORIAN
METHOD:PUBLISH
X-ORIGINAL-URL:https://www.smcvt.edu
X-WR-CALDESC:Events for Saint Michael&#039;s College
REFRESH-INTERVAL;VALUE=DURATION:PT1H
X-Robots-Tag:noindex
X-PUBLISHED-TTL:PT1H
BEGIN:VTIMEZONE
TZID:America/New_York
BEGIN:DAYLIGHT
TZOFFSETFROM:-0500
TZOFFSETTO:-0400
TZNAME:EDT
DTSTART:20240310T070000
END:DAYLIGHT
BEGIN:STANDARD
TZOFFSETFROM:-0400
TZOFFSETTO:-0500
TZNAME:EST
DTSTART:20241103T060000
END:STANDARD
BEGIN:DAYLIGHT
TZOFFSETFROM:-0500
TZOFFSETTO:-0400
TZNAME:EDT
DTSTART:20250309T070000
END:DAYLIGHT
BEGIN:STANDARD
TZOFFSETFROM:-0400
TZOFFSETTO:-0500
TZNAME:EST
DTSTART:20251102T060000
END:STANDARD
BEGIN:DAYLIGHT
TZOFFSETFROM:-0500
TZOFFSETTO:-0400
TZNAME:EDT
DTSTART:20260308T070000
END:DAYLIGHT
BEGIN:STANDARD
TZOFFSETFROM:-0400
TZOFFSETTO:-0500
TZNAME:EST
DTSTART:20261101T060000
END:STANDARD
END:VTIMEZONE
BEGIN:VEVENT
DTSTART;TZID=America/New_York:20251003T093000
DTEND;TZID=America/New_York:20251003T123000
DTSTAMP:20260423T095200
CREATED:20250828T170450Z
LAST-MODIFIED:20250918T141551Z
UID:10002080-1759483800-1759494600@www.smcvt.edu
SUMMARY:Women's Cross Country  Paul Short Invitational
DESCRIPTION:Women’s Cross Country  Paul Short Invitational Bethlehem\, PA / Lehigh University
URL:https://www.smcvt.edu/event/womens-cross-country-paul-short-invitational/
CATEGORIES:Athletics,Upload 2025 Fall
END:VEVENT
BEGIN:VEVENT
DTSTART;TZID=America/New_York:20251003T093000
DTEND;TZID=America/New_York:20251003T123000
DTSTAMP:20260423T095200
CREATED:20250828T170451Z
LAST-MODIFIED:20250918T141552Z
UID:10002081-1759483800-1759494600@www.smcvt.edu
SUMMARY:Men's Cross Country  Paul Short Invitational
DESCRIPTION:Men’s Cross Country  Paul Short Invitational Bethlehem\, PA / Lehigh University
URL:https://www.smcvt.edu/event/mens-cross-country-paul-short-invitational/
CATEGORIES:Athletics,Upload 2025 Fall
END:VEVENT
BEGIN:VEVENT
DTSTART;TZID=America/New_York:20251003T190000
DTEND;TZID=America/New_York:20251003T220000
DTSTAMP:20260423T095200
CREATED:20250828T170452Z
LAST-MODIFIED:20250918T141553Z
UID:10002082-1759518000-1759528800@www.smcvt.edu
SUMMARY:Women's Volleyball at Universite du Quebec a Montreal
DESCRIPTION:Women’s Volleyball at Universite du Quebec a Montreal Montreal\, Quebec
URL:https://www.smcvt.edu/event/womens-volleyball-at-universite-du-quebec-a-montreal/
CATEGORIES:Athletics,Upload 2025 Fall
END:VEVENT
END:VCALENDAR