BEGIN:VCALENDAR
VERSION:2.0
PRODID:-//Saint Michael&#039;s College - ECPv6.15.14//NONSGML v1.0//EN
CALSCALE:GREGORIAN
METHOD:PUBLISH
X-ORIGINAL-URL:https://www.smcvt.edu
X-WR-CALDESC:Events for Saint Michael&#039;s College
REFRESH-INTERVAL;VALUE=DURATION:PT1H
X-Robots-Tag:noindex
X-PUBLISHED-TTL:PT1H
BEGIN:VTIMEZONE
TZID:America/New_York
BEGIN:DAYLIGHT
TZOFFSETFROM:-0500
TZOFFSETTO:-0400
TZNAME:EDT
DTSTART:20240310T070000
END:DAYLIGHT
BEGIN:STANDARD
TZOFFSETFROM:-0400
TZOFFSETTO:-0500
TZNAME:EST
DTSTART:20241103T060000
END:STANDARD
BEGIN:DAYLIGHT
TZOFFSETFROM:-0500
TZOFFSETTO:-0400
TZNAME:EDT
DTSTART:20250309T070000
END:DAYLIGHT
BEGIN:STANDARD
TZOFFSETFROM:-0400
TZOFFSETTO:-0500
TZNAME:EST
DTSTART:20251102T060000
END:STANDARD
BEGIN:DAYLIGHT
TZOFFSETFROM:-0500
TZOFFSETTO:-0400
TZNAME:EDT
DTSTART:20260308T070000
END:DAYLIGHT
BEGIN:STANDARD
TZOFFSETFROM:-0400
TZOFFSETTO:-0500
TZNAME:EST
DTSTART:20261101T060000
END:STANDARD
END:VTIMEZONE
BEGIN:VEVENT
DTSTART;TZID=America/New_York:20251108T130000
DTEND;TZID=America/New_York:20251108T160000
DTSTAMP:20260423T020133
CREATED:20250828T170924Z
LAST-MODIFIED:20250918T142147Z
UID:10002154-1762606800-1762617600@www.smcvt.edu
SUMMARY:Women's Volleyball at Adelphi
DESCRIPTION:Women’s Volleyball at Adelphi Garden City\, NY
URL:https://www.smcvt.edu/event/womens-volleyball-at-adelphi/
CATEGORIES:Athletics,Upload 2025 Fall
END:VEVENT
BEGIN:VEVENT
DTSTART;TZID=America/New_York:20251108T130000
DTEND;TZID=America/New_York:20251108T160000
DTSTAMP:20260423T020133
CREATED:20250828T170930Z
LAST-MODIFIED:20250918T142147Z
UID:10002155-1762606800-1762617600@www.smcvt.edu
SUMMARY:Men's Swimming & Diving vs Clarkson
DESCRIPTION:Men’s Swimming & Diving vs Clarkson Colchester\, VT
URL:https://www.smcvt.edu/event/mens-swimming-diving-vs-clarkson/
CATEGORIES:Athletics,Upload 2025 Fall
END:VEVENT
BEGIN:VEVENT
DTSTART;TZID=America/New_York:20251108T130000
DTEND;TZID=America/New_York:20251108T160000
DTSTAMP:20260423T020133
CREATED:20250828T170931Z
LAST-MODIFIED:20250918T142148Z
UID:10002156-1762606800-1762617600@www.smcvt.edu
SUMMARY:Women's Swimming & Diving vs Clarkson
DESCRIPTION:Women’s Swimming & Diving vs Clarkson Colchester\, VT
URL:https://www.smcvt.edu/event/womens-swimming-diving-vs-clarkson/
CATEGORIES:Athletics,Upload 2025 Fall
END:VEVENT
BEGIN:VEVENT
DTSTART;TZID=America/New_York:20251108T150000
DTEND;TZID=America/New_York:20251108T180000
DTSTAMP:20260423T020133
CREATED:20250828T170933Z
LAST-MODIFIED:20250918T142148Z
UID:10002157-1762614000-1762624800@www.smcvt.edu
SUMMARY:Men's Ice Hockey at Saint Anselm
DESCRIPTION:Men’s Ice Hockey at Saint Anselm Manchester\, NH / Sullivan Arena
URL:https://www.smcvt.edu/event/mens-ice-hockey-at-saint-anselm-2/
CATEGORIES:Athletics,Upload 2025 Fall
END:VEVENT
BEGIN:VEVENT
DTSTART;TZID=America/New_York:20251108T190000
DTEND;TZID=America/New_York:20251108T203000
DTSTAMP:20260423T020133
CREATED:20251020T174601Z
LAST-MODIFIED:20251020T182217Z
UID:10002351-1762628400-1762633800@www.smcvt.edu
SUMMARY:Fall Mainstage Theatre Production: "Mill Girls"
DESCRIPTION:The Saint Michael’s College fall Mainstage Theatre Production is “Mill Girls\,” compiled and created by Fine Arts Professor Peter Harrigan and local musician Tom Cleary\, with scenery and lighting designed by Fine Arts Professor John Paul Devlin. \nThe play tells the hidden stories of women and girls who worked in mills in the 19th century\, in their own words. Harrigan drew inspiration from the Champlain Mills and other industrial structures that remain part of the local architectural landscape. His research on the American Woolen Company and collaboration with then-history Professor Susan Ouellete led him to learn some of the stories of young women who worked in the mills in Winooski\, as well as those in many other towns\, including Lowell\, Massachusetts. The play explores how these women contributed to the world but also challenged it while advocating for themselves and others. \nAll performances are free and open to the public\, but tickets must be reserved using the EventBrite link below.
URL:https://www.smcvt.edu/event/fall-mainstage-theatre-production-mill-girls/2025-11-08/
LOCATION:Theater\, McCarthy Arts Center
CATEGORIES:Theatre
ATTACH;FMTTYPE=image/jpeg:https://www.smcvt.edu/wp-content/uploads/2025/10/558A5257SMALL.jpg
END:VEVENT
END:VCALENDAR