BEGIN:VCALENDAR
VERSION:2.0
PRODID:-//Saint Michael&#039;s College - ECPv6.15.14//NONSGML v1.0//EN
CALSCALE:GREGORIAN
METHOD:PUBLISH
X-WR-CALNAME:Saint Michael&#039;s College
X-ORIGINAL-URL:https://www.smcvt.edu
X-WR-CALDESC:Events for Saint Michael&#039;s College
REFRESH-INTERVAL;VALUE=DURATION:PT1H
X-Robots-Tag:noindex
X-PUBLISHED-TTL:PT1H
BEGIN:VTIMEZONE
TZID:America/New_York
BEGIN:DAYLIGHT
TZOFFSETFROM:-0500
TZOFFSETTO:-0400
TZNAME:EDT
DTSTART:20240310T070000
END:DAYLIGHT
BEGIN:STANDARD
TZOFFSETFROM:-0400
TZOFFSETTO:-0500
TZNAME:EST
DTSTART:20241103T060000
END:STANDARD
BEGIN:DAYLIGHT
TZOFFSETFROM:-0500
TZOFFSETTO:-0400
TZNAME:EDT
DTSTART:20250309T070000
END:DAYLIGHT
BEGIN:STANDARD
TZOFFSETFROM:-0400
TZOFFSETTO:-0500
TZNAME:EST
DTSTART:20251102T060000
END:STANDARD
BEGIN:DAYLIGHT
TZOFFSETFROM:-0500
TZOFFSETTO:-0400
TZNAME:EDT
DTSTART:20260308T070000
END:DAYLIGHT
BEGIN:STANDARD
TZOFFSETFROM:-0400
TZOFFSETTO:-0500
TZNAME:EST
DTSTART:20261101T060000
END:STANDARD
END:VTIMEZONE
BEGIN:VEVENT
DTSTART;TZID=America/New_York:20251118T170000
DTEND;TZID=America/New_York:20251118T183000
DTSTAMP:20260423T001720
CREATED:20251028T143653Z
LAST-MODIFIED:20251028T143653Z
UID:10002721-1763485200-1763490600@www.smcvt.edu
SUMMARY:Annual Saint Edmund Lecture Sponsored by the Edmundite Center for Faith and Culture
DESCRIPTION:Rev. William R. Donaldson\, retired chaplain of Saint Edmund Hall at Oxford University\, will deliver a presentation on the legacy of Saint Edmund at Saint Edmund Hall\, the college established by Saint Edmund during his tenure as Master of Arts teacher at Oxford University.  Saint Edmund Hall claims to be the oldest surviving academic society to house and educate undergraduates in any university and was the last surviving medieval academic hall at Oxford University. The lecture commemorates the patron of the Society of Saint Edmund\, the founding religious community of Saint Michael’s College.
URL:https://www.smcvt.edu/event/annual-saint-edmund-lecture-sponsored-by-the-edmundite-center-for-faith-and-culture-2/
LOCATION:Roy Room\, Dion Family Student Center
CATEGORIES:Edmundite Center for Faith and Culture
ATTACH;FMTTYPE=image/jpeg:https://www.smcvt.edu/wp-content/uploads/2025/10/St_Edmund_Hall_Front_Quad_2018.jpg
END:VEVENT
BEGIN:VEVENT
DTSTART;TZID=America/New_York:20251118T170000
DTEND;TZID=America/New_York:20251118T190000
DTSTAMP:20260423T001720
CREATED:20251117T162615Z
LAST-MODIFIED:20251117T162615Z
UID:10002750-1763485200-1763492400@www.smcvt.edu
SUMMARY:David Orr Lecture
DESCRIPTION:Environmental Studies and Politics Professor Emeritus David Orr\, in collaboration with the Institute for Global Engagement\, will reflect broadly in a global context on his new book “Democracy in a Hotter Time.”
URL:https://www.smcvt.edu/event/david-orr-lecture/
LOCATION:Farrell Room\, Saint Edmund’s Hall
CATEGORIES:Center for Global Engagement
END:VEVENT
BEGIN:VEVENT
DTSTART;TZID=America/New_York:20251118T190000
DTEND;TZID=America/New_York:20251118T200000
DTSTAMP:20260423T001720
CREATED:20251117T170104Z
LAST-MODIFIED:20251117T170104Z
UID:10002759-1763492400-1763496000@www.smcvt.edu
SUMMARY:Student Government Association Senate Meeting
DESCRIPTION:Open to all students\, faculty and staff!
URL:https://www.smcvt.edu/event/student-government-association-senate-meeting/
LOCATION:Cheray 101\, Cheray Science Hall
CATEGORIES:Student Government Association
END:VEVENT
END:VCALENDAR