BEGIN:VCALENDAR
VERSION:2.0
PRODID:-//Saint Michael&#039;s College - ECPv6.15.14//NONSGML v1.0//EN
CALSCALE:GREGORIAN
METHOD:PUBLISH
X-WR-CALNAME:Saint Michael&#039;s College
X-ORIGINAL-URL:https://www.smcvt.edu
X-WR-CALDESC:Events for Saint Michael&#039;s College
REFRESH-INTERVAL;VALUE=DURATION:PT1H
X-Robots-Tag:noindex
X-PUBLISHED-TTL:PT1H
BEGIN:VTIMEZONE
TZID:America/New_York
BEGIN:DAYLIGHT
TZOFFSETFROM:-0500
TZOFFSETTO:-0400
TZNAME:EDT
DTSTART:20240310T070000
END:DAYLIGHT
BEGIN:STANDARD
TZOFFSETFROM:-0400
TZOFFSETTO:-0500
TZNAME:EST
DTSTART:20241103T060000
END:STANDARD
BEGIN:DAYLIGHT
TZOFFSETFROM:-0500
TZOFFSETTO:-0400
TZNAME:EDT
DTSTART:20250309T070000
END:DAYLIGHT
BEGIN:STANDARD
TZOFFSETFROM:-0400
TZOFFSETTO:-0500
TZNAME:EST
DTSTART:20251102T060000
END:STANDARD
BEGIN:DAYLIGHT
TZOFFSETFROM:-0500
TZOFFSETTO:-0400
TZNAME:EDT
DTSTART:20260308T070000
END:DAYLIGHT
BEGIN:STANDARD
TZOFFSETFROM:-0400
TZOFFSETTO:-0500
TZNAME:EST
DTSTART:20261101T060000
END:STANDARD
END:VTIMEZONE
BEGIN:VEVENT
DTSTART;TZID=America/New_York:20250409T160000
DTEND;TZID=America/New_York:20250409T170000
DTSTAMP:20260422T055723
CREATED:20250407T185118Z
LAST-MODIFIED:20250407T185118Z
UID:10001936-1744214400-1744218000@www.smcvt.edu
SUMMARY:Deliberative Democracy Series: Democracy May Be Dying\, But At Least the Economy Will Collapse
DESCRIPTION:Deliberative Democracy Series\nDemocracy May Be Dying\, But At Least the Economy Will Collapse \nWednesday\, April 9\, from 4 to 5 p.m.\nSaint Edmund’s Hall\, 104 \nPolitical Science professor Trish Siplon and Economics professor Patrick Walsh discuss the impacts of the current administration on the rule of law\, civil rights\, the U.S. economy\, and the international trading system.
URL:https://www.smcvt.edu/event/deliberative-democracy-series-democracy-may-be-dying-but-at-least-the-economy-will-collapse/
LOCATION:Saint Edmund’s Hall
CATEGORIES:Academic Affairs
ATTACH;FMTTYPE=image/png:https://www.smcvt.edu/wp-content/uploads/2025/04/DD-poster-4-7-2025.png
END:VEVENT
BEGIN:VEVENT
DTSTART;TZID=America/New_York:20250409T170000
DTEND;TZID=America/New_York:20250409T190000
DTSTAMP:20260422T055723
CREATED:20250321T174835Z
LAST-MODIFIED:20250321T174835Z
UID:10001850-1744218000-1744225200@www.smcvt.edu
SUMMARY:The Transformation of a Rabbi\, a Synagogue and Vermont's Religious Landscape
DESCRIPTION:The Transformation of a Rabbi\, a Synagogue and Vermont’s Religious Landscape\, 1944-1952\nThe Annual Rabbi Max B. Wall Endowment Lecture \nWednesday\, April 9\, at 5 p.m.\nMcCarthy Recital Hall \nThe Annual Rabbi Max B. Wall Endowment Lecture will be presented by local historians Jeff Potash\, Ph.D.\, and Aaron Goldberg\, J.D. on Wednesday\, April 9\, at 5 p.m. in the McCarthy Recital Hall. The talk\, entitled The Transformation of a Rabbi\, a Synagogue and Vermont’s Religious Landscape\, 1944-1952\, will touch on the importance of Max B. Wall and his impact on the local community.
URL:https://www.smcvt.edu/event/the-transformation-of-a-rabbi-a-synagogue-and-vermonts-religious-landscape/
LOCATION:McCarthy Arts Center
CATEGORIES:Academic Affairs
ATTACH;FMTTYPE=image/jpeg:https://www.smcvt.edu/wp-content/uploads/2025/03/Annual-Rabbi-Wall-Poster-2025-scaled.jpg
END:VEVENT
BEGIN:VEVENT
DTSTART;VALUE=DATE:20250411
DTEND;VALUE=DATE:20250413
DTSTAMP:20260422T055723
CREATED:20240828T161436Z
LAST-MODIFIED:20240904T175746Z
UID:10000522-1744329600-1744502399@www.smcvt.edu
SUMMARY:Arts and Honors Weekend
DESCRIPTION:Induction Ceremonies for Honor Societies – contact individual departments for ceremony days and times.
URL:https://www.smcvt.edu/event/arts-and-honors-weekend/
CATEGORIES:Academic Affairs
ATTACH;FMTTYPE=image/jpeg:https://www.smcvt.edu/wp-content/uploads/2019/12/Academics-Honors-2.jpg
END:VEVENT
BEGIN:VEVENT
DTSTART;TZID=America/New_York:20250425T090000
DTEND;TZID=America/New_York:20250425T170000
DTSTAMP:20260422T055723
CREATED:20250411T144316Z
LAST-MODIFIED:20250411T144316Z
UID:10001940-1745571600-1745600400@www.smcvt.edu
SUMMARY:Academic Symposium
DESCRIPTION:Academic Symposium \nFriday\, April 25th and Saturday\, April 26th \nAcademic Symposium – an annual celebration of the work of Saint Michael’s College students – will be held on Friday\, April 25th and Saturday\, April 26th. \nOral presentations will be held on Friday\, April 25th from 9 a.m. to 5 p.m. and Saturday\, April 26th\, from 11 a.m. to 12 p.m. \nThe Poster Presentations will be on Saturday\, April 26th from 11 a.m. to 1 p.m. in the Dion Family Student Center.
URL:https://www.smcvt.edu/event/academic-symposium/
CATEGORIES:Academic Affairs
END:VEVENT
BEGIN:VEVENT
DTSTART;TZID=America/New_York:20250426T110000
DTEND;TZID=America/New_York:20250426T130000
DTSTAMP:20260422T055723
CREATED:20250411T144522Z
LAST-MODIFIED:20250416T172648Z
UID:10001941-1745665200-1745672400@www.smcvt.edu
SUMMARY:Academic Symposium - Poster Presentations
DESCRIPTION:Academic Symposium \nSaturday\, April 26th. 11 a.m. to 1 p.m.\nDion Family Student Center \nAcademic Symposium – an annual celebration of the work of Saint Michael’s College students – will be held on Friday\, April 25th and Saturday\, April 26th. \nThe Poster Presentations will be on Saturday\, April 26th from 11 a.m. to 1 p.m. in the Dion Family Student Center.
URL:https://www.smcvt.edu/event/academic-symposium-poster-presentations/
LOCATION:Dion Family Student Center
CATEGORIES:Academic Affairs
ATTACH;FMTTYPE=image/jpeg:https://www.smcvt.edu/wp-content/uploads/2025/04/Academic-Symposium-header-2025-scaled.jpg
END:VEVENT
END:VCALENDAR