BEGIN:VCALENDAR
VERSION:2.0
PRODID:-//Saint Michael&#039;s College - ECPv6.15.14//NONSGML v1.0//EN
CALSCALE:GREGORIAN
METHOD:PUBLISH
X-ORIGINAL-URL:https://www.smcvt.edu
X-WR-CALDESC:Events for Saint Michael&#039;s College
REFRESH-INTERVAL;VALUE=DURATION:PT1H
X-Robots-Tag:noindex
X-PUBLISHED-TTL:PT1H
BEGIN:VTIMEZONE
TZID:America/New_York
BEGIN:DAYLIGHT
TZOFFSETFROM:-0500
TZOFFSETTO:-0400
TZNAME:EDT
DTSTART:20240310T070000
END:DAYLIGHT
BEGIN:STANDARD
TZOFFSETFROM:-0400
TZOFFSETTO:-0500
TZNAME:EST
DTSTART:20241103T060000
END:STANDARD
BEGIN:DAYLIGHT
TZOFFSETFROM:-0500
TZOFFSETTO:-0400
TZNAME:EDT
DTSTART:20250309T070000
END:DAYLIGHT
BEGIN:STANDARD
TZOFFSETFROM:-0400
TZOFFSETTO:-0500
TZNAME:EST
DTSTART:20251102T060000
END:STANDARD
BEGIN:DAYLIGHT
TZOFFSETFROM:-0500
TZOFFSETTO:-0400
TZNAME:EDT
DTSTART:20260308T070000
END:DAYLIGHT
BEGIN:STANDARD
TZOFFSETFROM:-0400
TZOFFSETTO:-0500
TZNAME:EST
DTSTART:20261101T060000
END:STANDARD
END:VTIMEZONE
BEGIN:VEVENT
DTSTART;TZID=America/New_York:20251109T153000
DTEND;TZID=America/New_York:20251109T173000
DTSTAMP:20260423T035939
CREATED:20251106T160411Z
LAST-MODIFIED:20251106T160411Z
UID:10002726-1762702200-1762709400@www.smcvt.edu
SUMMARY:Wreaths Across America Dodgeball Tournament fundraiser 11/9/25
DESCRIPTION:Managerial Ethics (BU103) is raising money for the non-profit Wreaths Across America. This organization raises money to put wreaths on the headstones of veterans who have passed away. One wreath costs $17. This year\, the goal for Vermont is to get 4\,800 wreaths sponsored by December 13. Our class is organizing a dodgeball tournament on November 9 at 3:30 p.m. in Tarrant to help raise money for the cause. The cost per team is $25\, or $5 per person. We hope to get many people involved and raise money for a good cause!
URL:https://www.smcvt.edu/event/wreaths-across-america-dodgeball-tournament-fundraiser-11-9-25/
LOCATION:Tarrant Recreation Center
CATEGORIES:Business Administration and Accounting
ATTACH;FMTTYPE=image/png:https://www.smcvt.edu/wp-content/uploads/2025/11/Wreathsevent.png
END:VEVENT
END:VCALENDAR