BEGIN:VCALENDAR
VERSION:2.0
PRODID:-//Saint Michael&#039;s College - ECPv6.15.14//NONSGML v1.0//EN
CALSCALE:GREGORIAN
METHOD:PUBLISH
X-WR-CALNAME:Saint Michael&#039;s College
X-ORIGINAL-URL:https://www.smcvt.edu
X-WR-CALDESC:Events for Saint Michael&#039;s College
REFRESH-INTERVAL;VALUE=DURATION:PT1H
X-Robots-Tag:noindex
X-PUBLISHED-TTL:PT1H
BEGIN:VTIMEZONE
TZID:America/New_York
BEGIN:DAYLIGHT
TZOFFSETFROM:-0500
TZOFFSETTO:-0400
TZNAME:EDT
DTSTART:20230312T070000
END:DAYLIGHT
BEGIN:STANDARD
TZOFFSETFROM:-0400
TZOFFSETTO:-0500
TZNAME:EST
DTSTART:20231105T060000
END:STANDARD
BEGIN:DAYLIGHT
TZOFFSETFROM:-0500
TZOFFSETTO:-0400
TZNAME:EDT
DTSTART:20240310T070000
END:DAYLIGHT
BEGIN:STANDARD
TZOFFSETFROM:-0400
TZOFFSETTO:-0500
TZNAME:EST
DTSTART:20241103T060000
END:STANDARD
BEGIN:DAYLIGHT
TZOFFSETFROM:-0500
TZOFFSETTO:-0400
TZNAME:EDT
DTSTART:20250309T070000
END:DAYLIGHT
BEGIN:STANDARD
TZOFFSETFROM:-0400
TZOFFSETTO:-0500
TZNAME:EST
DTSTART:20251102T060000
END:STANDARD
END:VTIMEZONE
BEGIN:VEVENT
DTSTART;TZID=America/New_York:20241005T073000
DTEND;TZID=America/New_York:20241005T160000
DTSTAMP:20260424T063213
CREATED:20240911T192943Z
LAST-MODIFIED:20240911T192943Z
UID:10000821-1728113400-1728144000@www.smcvt.edu
SUMMARY:Fundamentals of Rock Climbing
DESCRIPTION:Fundamentals of Rock Climbing\n\n\nSaturday\, Oct. 5\, from 7:30 a.m. to 4 p.m.\nAdventure Sports Center\n\n\nLast climbing program for the fall. Come join us for a fun day at a local outdoor rock climbing cliff. No experience is necessary and any needed equipment including clothing is provided. Transportation is also provided. Spaces are limited and fill on a first-come\, first-served basis. Drop by the Adventure Sports Center on the ground floor of Alumni Hall between 10 and and 3 pm Monday – Thursday to sign up.
URL:https://www.smcvt.edu/event/fundamentals-of-rock-climbing/
LOCATION:Alumni Hall
CATEGORIES:Adventure Sports Center
ATTACH;FMTTYPE=image/jpeg:https://www.smcvt.edu/wp-content/uploads/2024/09/rock-1.jpg
END:VEVENT
BEGIN:VEVENT
DTSTART;TZID=America/New_York:20241005T080000
DTEND;TZID=America/New_York:20241005T160000
DTSTAMP:20260424T063213
CREATED:20240911T193235Z
LAST-MODIFIED:20240911T193235Z
UID:10000822-1728115200-1728144000@www.smcvt.edu
SUMMARY:Be Well / Adventure Sports Mt Elmore Hike
DESCRIPTION:Be Well / Adventure Sports Mt Elmore Hike\n\nSaturday\, October 5\, from 8 a.m. to 4 p.m.\nAdventure Sports Center\n\nTake a moderate hike up Mt Elmore to a retired fire tower and amazing views on Saturday\, Oct. 5. No experience is necessary and any needed equipment including clothing and boots are provided. Transportation is also provided. Spaces are limited and fill on a first-come\, first-served basis. Drop by the Adventure Sports Center on the ground floor of Alumni Hall between 10 and and 3 pm Monday – Thursday to sign up.
URL:https://www.smcvt.edu/event/be-well-adventure-sports-mt-elmore-hike/
LOCATION:Alumni Hall
CATEGORIES:Adventure Sports Center,Be Well
ATTACH;FMTTYPE=image/jpeg:https://www.smcvt.edu/wp-content/uploads/2024/09/hike-3.jpg
END:VEVENT
BEGIN:VEVENT
DTSTART;TZID=America/New_York:20241006T080000
DTEND;TZID=America/New_York:20241006T160000
DTSTAMP:20260424T063213
CREATED:20240911T192413Z
LAST-MODIFIED:20240911T192500Z
UID:10000820-1728201600-1728230400@www.smcvt.edu
SUMMARY:River Kayaking
DESCRIPTION:River Kayaking \nSunday\, October 6\n8a.m. to 4 p.m.\nAdventure Sports Center \nJoin us for a paddle on a local river on Sunday\, Oct. 6. No experience is necessary and any needed equipment including clothing is provided. Transportation is also provided. Spaces are limited and fill on a first-come\, first-served basis. Drop by the Adventure Sports Center on the ground floor of Alumni Hall between 10 and and 3 pm Monday – Thursday to sign up.
URL:https://www.smcvt.edu/event/river-kayaking/
LOCATION:Alumni Hall
CATEGORIES:Adventure Sports Center
ATTACH;FMTTYPE=image/jpeg:https://www.smcvt.edu/wp-content/uploads/2024/09/whitewater-4.jpeg
END:VEVENT
BEGIN:VEVENT
DTSTART;TZID=America/New_York:20241020T080000
DTEND;TZID=America/New_York:20241020T160000
DTSTAMP:20260424T063214
CREATED:20240924T182503Z
LAST-MODIFIED:20240924T182503Z
UID:10001158-1729411200-1729440000@www.smcvt.edu
SUMMARY:Day Hike to Beaver Meadow Lodge
DESCRIPTION:Day Hike to Beaver Meadow Lodge\n\nSunday\, October 20\, from 8 a.m. to 4 p.m.\nAdventure Sports Center\n\nTake an easy hike to a backcountry lodge in a beautiful valley. No experience is necessary and any needed equipment including clothing and boots are provided. Transportation is also provided. Spaces are limited and fill on a first-come\, first-served basis. Drop by the Adventure Sports Center on the ground floor of Alumni Hall between 10 and 3 pm Monday – Thursday to sign up.
URL:https://www.smcvt.edu/event/day-hike-to-beaver-meadow-lodge/
LOCATION:Alumni Hall
CATEGORIES:Adventure Sports Center
ATTACH;FMTTYPE=image/jpeg:https://www.smcvt.edu/wp-content/uploads/2024/09/hike-5.jpeg
END:VEVENT
BEGIN:VEVENT
DTSTART;TZID=America/New_York:20241026T080000
DTEND;TZID=America/New_York:20241026T160000
DTSTAMP:20260424T063214
CREATED:20240924T182039Z
LAST-MODIFIED:20240924T182039Z
UID:10001156-1729929600-1729958400@www.smcvt.edu
SUMMARY:Whitewater Kayaking
DESCRIPTION:Whitewater Kayaking\n\nSaturday\, October 26\, from 8 a.m. to 4 p.m.\nAdventure Sports Center\n\nJoin us for a paddle on a local river. No experience is necessary and any needed equipment including clothing is provided. Transportation is also provided. Spaces are limited and fill on a first-come\, first-served basis. Drop by the Adventure Sports Center on the ground floor of Alumni Hall between 10 and 3 pm Monday – Thursday to sign up.
URL:https://www.smcvt.edu/event/whitewater-kayaking/
LOCATION:Alumni Hall
CATEGORIES:Adventure Sports Center
ATTACH;FMTTYPE=image/jpeg:https://www.smcvt.edu/wp-content/uploads/2024/09/whitewater-2.jpeg
END:VEVENT
BEGIN:VEVENT
DTSTART;TZID=America/New_York:20241026T080000
DTEND;TZID=America/New_York:20241026T160000
DTSTAMP:20260424T063214
CREATED:20240924T182239Z
LAST-MODIFIED:20240924T182239Z
UID:10001157-1729929600-1729958400@www.smcvt.edu
SUMMARY:Sterling Pond Day Hike
DESCRIPTION:Sterling Pond Day Hike\n\nSaturday\, October 26\, from 8 a.m. to 4 p.m.\nAdventure Sports Center\n\nSterling Pond sits high above Smugglers Notch. Take a moderate hike to amazing views. No experience is necessary and any needed equipment including clothing and boots are provided. Transportation is also provided. Spaces are limited and fill on a first-come\, first-served basis. Drop by the Adventure Sports Center on the ground floor of Alumni Hall between 10 and 3 pm Monday – Thursday to sign up.
URL:https://www.smcvt.edu/event/sterling-pond-day-hike/
LOCATION:Alumni Hall
CATEGORIES:Adventure Sports Center
ATTACH;FMTTYPE=image/jpeg:https://www.smcvt.edu/wp-content/uploads/2024/09/hike7-scaled.jpg
END:VEVENT
BEGIN:VEVENT
DTSTART;TZID=America/New_York:20241030T183000
DTEND;TZID=America/New_York:20241030T200000
DTSTAMP:20260424T063214
CREATED:20240925T150758Z
LAST-MODIFIED:20241105T195046Z
UID:10001167-1730313000-1730318400@www.smcvt.edu
SUMMARY:BRASS 101:  Where Avalanche Safety Begins
DESCRIPTION:BRASS 101: Where Avalanche Safety Begins\n\nWednesday\, October 30\, from 6:30 to 8 p.m.\nMcCarthy Arts Center\n\nJoin members of the Alpine Ski Team and the Adventure Sports Center for a 90 minute presentation by Brad Moskowitz concerning the basics of avalanche awareness. Students attending can win a free Sugarbush Premium Pass for 2024-2025. This is also an UpLIFT event.
URL:https://www.smcvt.edu/event/brass-101-where-avalanche-safety-begins/
LOCATION:McCarthy Arts Center
CATEGORIES:Adventure Sports Center,Athletics
ATTACH;FMTTYPE=image/png:https://www.smcvt.edu/wp-content/uploads/2024/09/BRASS-Avalanche-Horizontal-e1633377166289.png
END:VEVENT
END:VCALENDAR