BEGIN:VCALENDAR
VERSION:2.0
PRODID:-//Saint Michael&#039;s College - ECPv6.15.14//NONSGML v1.0//EN
CALSCALE:GREGORIAN
METHOD:PUBLISH
X-ORIGINAL-URL:https://www.smcvt.edu
X-WR-CALDESC:Events for Saint Michael&#039;s College
REFRESH-INTERVAL;VALUE=DURATION:PT1H
X-Robots-Tag:noindex
X-PUBLISHED-TTL:PT1H
BEGIN:VTIMEZONE
TZID:America/New_York
BEGIN:DAYLIGHT
TZOFFSETFROM:-0500
TZOFFSETTO:-0400
TZNAME:EDT
DTSTART:20240310T070000
END:DAYLIGHT
BEGIN:STANDARD
TZOFFSETFROM:-0400
TZOFFSETTO:-0500
TZNAME:EST
DTSTART:20241103T060000
END:STANDARD
BEGIN:DAYLIGHT
TZOFFSETFROM:-0500
TZOFFSETTO:-0400
TZNAME:EDT
DTSTART:20250309T070000
END:DAYLIGHT
BEGIN:STANDARD
TZOFFSETFROM:-0400
TZOFFSETTO:-0500
TZNAME:EST
DTSTART:20251102T060000
END:STANDARD
BEGIN:DAYLIGHT
TZOFFSETFROM:-0500
TZOFFSETTO:-0400
TZNAME:EDT
DTSTART:20260308T070000
END:DAYLIGHT
BEGIN:STANDARD
TZOFFSETFROM:-0400
TZOFFSETTO:-0500
TZNAME:EST
DTSTART:20261101T060000
END:STANDARD
END:VTIMEZONE
BEGIN:VEVENT
DTSTART;TZID=America/New_York:20250201T070000
DTEND;TZID=America/New_York:20250201T170000
DTSTAMP:20260423T070343
CREATED:20250114T174159Z
LAST-MODIFIED:20250114T174159Z
UID:10001281-1738393200-1738429200@www.smcvt.edu
SUMMARY:Women's Only Fundamentals of Ice Climbing
DESCRIPTION:Women’s Only Fundamentals of Ice Climbing \nSaturday\, February 1\nAll Day \nTake a trip to beautiful Smugglers Notch and experience this incredible sport. We’ll start with lower angle terrain and transition to more difficult climbs as your skills and comfort level build. No experience is necessary and all needed clothing and equipment is provided\, as well as transportation and instruction.
URL:https://www.smcvt.edu/event/womens-only-fundamentals-of-ice-climbing/
LOCATION:Saint Michael’s College\, One Winooski Park\, Colchester\, VT\, 05439\, United States
CATEGORIES:Adventure Sports Center
ATTACH;FMTTYPE=image/jpeg:https://www.smcvt.edu/wp-content/uploads/2025/01/ice-2-1-1.jpeg
END:VEVENT
BEGIN:VEVENT
DTSTART;TZID=America/New_York:20250201T080000
DTEND;TZID=America/New_York:20250201T160000
DTSTAMP:20260423T070343
CREATED:20250128T144137Z
LAST-MODIFIED:20250128T144137Z
UID:10001294-1738396800-1738425600@www.smcvt.edu
SUMMARY:Sugarbush Van
DESCRIPTION:Looking for a free ride to the Mountain? The Adventure Sports Center sponsors a bus or van almost every weekend. Prior registration at the Adventure Sports Center to sign up is required.
URL:https://www.smcvt.edu/event/sugarbush-van-3/
LOCATION:Saint Michael’s College\, One Winooski Park\, Colchester\, VT\, 05439\, United States
CATEGORIES:Adventure Sports Center
ATTACH;FMTTYPE=image/jpeg:https://www.smcvt.edu/wp-content/uploads/2025/01/Mt-Ellen-JEB-4-2100x1397-6b8eb21a-5b8f-4b25-8f72-f5e3a4ec38c7-1.jpeg
END:VEVENT
BEGIN:VEVENT
DTSTART;TZID=America/New_York:20250202T080000
DTEND;TZID=America/New_York:20250202T160000
DTSTAMP:20260423T070343
CREATED:20250128T141543Z
LAST-MODIFIED:20250128T141543Z
UID:10001289-1738483200-1738512000@www.smcvt.edu
SUMMARY:Day Hike - Location TBD
DESCRIPTION:Day Hike – Location TBD \nSunday\, February 2 at 8 a.m.\nAdventure Sports Center \nWinter introduces a whole new look to Vermont’s woods and mountains. From the rocky summit of Camel’s Hump to Sterling Pond’s wooded landscape\, there is something for everyone. No experience is necessary and all needed clothing and equipment is provided\, as well as transportation and instruction.
URL:https://www.smcvt.edu/event/day-hike-location-tbd/
CATEGORIES:Adventure Sports Center
ATTACH;FMTTYPE=image/jpeg:https://www.smcvt.edu/wp-content/uploads/2025/01/snowhoe-2-1.jpeg
END:VEVENT
BEGIN:VEVENT
DTSTART;TZID=America/New_York:20250208T071500
DTEND;TZID=America/New_York:20250208T160000
DTSTAMP:20260423T070343
CREATED:20250128T144438Z
LAST-MODIFIED:20250128T144438Z
UID:10001296-1738998900-1739030400@www.smcvt.edu
SUMMARY:Fundamentals of Ice Climbing
DESCRIPTION:Fundamentals of Ice Climbing \nSaturday\, February 8\, at 7:15 a.m.\nAdventure Sports Center \nTake a trip to beautiful Smugglers Notch and experience this incredible sport. We’ll start with lower angle terrain and transition to more difficult climbs as your skills and comfort level build. No experience is necessary and all needed clothing and equipment is provided\, as well as transportation and instruction.
URL:https://www.smcvt.edu/event/fundamentals-of-ice-climbing-2/
LOCATION:Saint Michael’s College\, One Winooski Park\, Colchester\, VT\, 05439\, United States
CATEGORIES:Adventure Sports Center
ATTACH;FMTTYPE=image/jpeg:https://www.smcvt.edu/wp-content/uploads/2025/01/ice-2-1-2.jpeg
END:VEVENT
BEGIN:VEVENT
DTSTART;TZID=America/New_York:20250208T080000
DTEND;TZID=America/New_York:20250208T160000
DTSTAMP:20260423T070343
CREATED:20250128T142312Z
LAST-MODIFIED:20250128T142312Z
UID:10001291-1739001600-1739030400@www.smcvt.edu
SUMMARY:Day Hike - Location TBD
DESCRIPTION:Day Hike – Location TBD \nSaturday\, February 8\, at 8 a.m.\nAdventure Sports Center \nWinter introduces a whole new look to Vermont’s woods and mountains. From the rocky summit of Camel’s Hump to Sterling Pond’s wooded landscape\, there is something for everyone. No experience is necessary and all needed clothing and equipment is provided\, as well as transportation and instruction.
URL:https://www.smcvt.edu/event/day-hike-location-tbd-2/
LOCATION:Saint Michael’s College\, One Winooski Park\, Colchester\, VT\, 05439\, United States
CATEGORIES:Adventure Sports Center
ATTACH;FMTTYPE=image/jpeg:https://www.smcvt.edu/wp-content/uploads/2025/01/snowhoe-2-2.jpeg
END:VEVENT
BEGIN:VEVENT
DTSTART;TZID=America/New_York:20250208T080000
DTEND;TZID=America/New_York:20250208T160000
DTSTAMP:20260423T070343
CREATED:20250128T143958Z
LAST-MODIFIED:20250128T143958Z
UID:10001293-1739001600-1739030400@www.smcvt.edu
SUMMARY:Sugarbush Van
DESCRIPTION:Looking for a free ride to the Mountain? The Adventure Sports Center sponsors a bus or van almost every weekend. Prior registration at the Adventure Sports Center to sign up is required.
URL:https://www.smcvt.edu/event/sugarbush-van-2/
LOCATION:Saint Michael’s College\, One Winooski Park\, Colchester\, VT\, 05439\, United States
CATEGORIES:Adventure Sports Center
ATTACH;FMTTYPE=image/jpeg:https://www.smcvt.edu/wp-content/uploads/2025/01/Mt-Ellen-JEB-4-2100x1397-6b8eb21a-5b8f-4b25-8f72-f5e3a4ec38c7-2.jpeg
END:VEVENT
BEGIN:VEVENT
DTSTART;TZID=America/New_York:20250216T080000
DTEND;TZID=America/New_York:20250216T160000
DTSTAMP:20260423T070343
CREATED:20250128T144224Z
LAST-MODIFIED:20250128T144224Z
UID:10001295-1739692800-1739721600@www.smcvt.edu
SUMMARY:Sugarbush Van
DESCRIPTION:Looking for a free ride to the Mountain? The Adventure Sports Center sponsors a bus or van almost every weekend. Prior registration at the Adventure Sports Center to sign up is required.
URL:https://www.smcvt.edu/event/sugarbush-van-4/
LOCATION:Saint Michael’s College\, One Winooski Park\, Colchester\, VT\, 05439\, United States
CATEGORIES:Adventure Sports Center
ATTACH;FMTTYPE=image/jpeg:https://www.smcvt.edu/wp-content/uploads/2025/01/Mt-Ellen-JEB-4-2100x1397-6b8eb21a-5b8f-4b25-8f72-f5e3a4ec38c7-3.jpeg
END:VEVENT
BEGIN:VEVENT
DTSTART;TZID=America/New_York:20250222T071500
DTEND;TZID=America/New_York:20250222T160000
DTSTAMP:20260423T070343
CREATED:20250128T144614Z
LAST-MODIFIED:20250128T144614Z
UID:10001297-1740208500-1740240000@www.smcvt.edu
SUMMARY:Fundamentals of Ice Climbing
DESCRIPTION:Fundamentals of Ice Climbing \nSaturday\, February 22\, at 7:15 a.m.\nAdventure Sports Center \nLast Ice Climbing Program of the Winter. Take a trip to beautiful Smugglers Notch and experience this incredible sport. We’ll start with lower angle terrain and transition to more difficult climbs as your skills and comfort level build. No experience is necessary and all needed clothing and equipment is provided\, as well as transportation and instruction.
URL:https://www.smcvt.edu/event/fundamentals-of-ice-climbing-3/
LOCATION:Saint Michael’s College\, One Winooski Park\, Colchester\, VT\, 05439\, United States
CATEGORIES:Adventure Sports Center
ATTACH;FMTTYPE=image/jpeg:https://www.smcvt.edu/wp-content/uploads/2025/01/ice-2-1-3.jpeg
END:VEVENT
BEGIN:VEVENT
DTSTART;TZID=America/New_York:20250223T080000
DTEND;TZID=America/New_York:20250223T160000
DTSTAMP:20260423T070343
CREATED:20250128T143803Z
LAST-MODIFIED:20250128T143803Z
UID:10001292-1740297600-1740326400@www.smcvt.edu
SUMMARY:Day Hike - Location TBD
DESCRIPTION:Day Hike – Location TBD \nSunday\, February 23 at 8 a.m.\nAdventure Sports Center \nWinter introduces a whole new look to Vermont’s woods and mountains. From the rocky summit of Camel’s Hump to Sterling Pond’s wooded landscape\, there is something for everyone. No experience is necessary and all needed clothing and equipment is provided\, as well as transportation and instruction.
URL:https://www.smcvt.edu/event/day-hike-location-tbd-3/
LOCATION:Saint Michael’s College\, One Winooski Park\, Colchester\, VT\, 05439\, United States
CATEGORIES:Adventure Sports Center
ATTACH;FMTTYPE=image/jpeg:https://www.smcvt.edu/wp-content/uploads/2025/01/snowhoe-2-3.jpeg
END:VEVENT
END:VCALENDAR