BEGIN:VCALENDAR
VERSION:2.0
PRODID:-//Saint Michael&#039;s College - ECPv6.15.14//NONSGML v1.0//EN
CALSCALE:GREGORIAN
METHOD:PUBLISH
X-ORIGINAL-URL:https://www.smcvt.edu
X-WR-CALDESC:Events for Saint Michael&#039;s College
REFRESH-INTERVAL;VALUE=DURATION:PT1H
X-Robots-Tag:noindex
X-PUBLISHED-TTL:PT1H
BEGIN:VTIMEZONE
TZID:America/New_York
BEGIN:DAYLIGHT
TZOFFSETFROM:-0500
TZOFFSETTO:-0400
TZNAME:EDT
DTSTART:20240310T070000
END:DAYLIGHT
BEGIN:STANDARD
TZOFFSETFROM:-0400
TZOFFSETTO:-0500
TZNAME:EST
DTSTART:20241103T060000
END:STANDARD
BEGIN:DAYLIGHT
TZOFFSETFROM:-0500
TZOFFSETTO:-0400
TZNAME:EDT
DTSTART:20250309T070000
END:DAYLIGHT
BEGIN:STANDARD
TZOFFSETFROM:-0400
TZOFFSETTO:-0500
TZNAME:EST
DTSTART:20251102T060000
END:STANDARD
BEGIN:DAYLIGHT
TZOFFSETFROM:-0500
TZOFFSETTO:-0400
TZNAME:EDT
DTSTART:20260308T070000
END:DAYLIGHT
BEGIN:STANDARD
TZOFFSETFROM:-0400
TZOFFSETTO:-0500
TZNAME:EST
DTSTART:20261101T060000
END:STANDARD
END:VTIMEZONE
BEGIN:VEVENT
DTSTART;TZID=America/New_York:20250301T071500
DTEND;TZID=America/New_York:20250301T160000
DTSTAMP:20260423T065238
CREATED:20250128T150012Z
LAST-MODIFIED:20250128T150012Z
UID:10001298-1740813300-1740844800@www.smcvt.edu
SUMMARY:Mountaineering with Adventure Sports
DESCRIPTION:Mountaineering with Adventure Sports \nSaturday\, March 1\, at 7:15 a.m.\nAdventure Sports Center \nIf you are looking for a day of travel more challenging than hiking\, then mountaineering is for you. Combining ropes\, crampons\, and ice axes you’ll have the chance to ascend a\nclassic gully in Smugglers Notch. No experience is necessary and all needed clothing and equipment is provided\, as well as transportation and instruction.
URL:https://www.smcvt.edu/event/mountaineering-with-adventure-sports-2/
LOCATION:Saint Michael’s College\, One Winooski Park\, Colchester\, VT\, 05439\, United States
CATEGORIES:Adventure Sports Center
ATTACH;FMTTYPE=image/jpeg:https://www.smcvt.edu/wp-content/uploads/2025/01/mountaineering-1-1-1.jpeg
END:VEVENT
END:VCALENDAR