BEGIN:VCALENDAR
VERSION:2.0
PRODID:-//Saint Michael&#039;s College - ECPv6.15.14//NONSGML v1.0//EN
CALSCALE:GREGORIAN
METHOD:PUBLISH
X-ORIGINAL-URL:https://www.smcvt.edu
X-WR-CALDESC:Events for Saint Michael&#039;s College
REFRESH-INTERVAL;VALUE=DURATION:PT1H
X-Robots-Tag:noindex
X-PUBLISHED-TTL:PT1H
BEGIN:VTIMEZONE
TZID:America/New_York
BEGIN:DAYLIGHT
TZOFFSETFROM:-0500
TZOFFSETTO:-0400
TZNAME:EDT
DTSTART:20240310T070000
END:DAYLIGHT
BEGIN:STANDARD
TZOFFSETFROM:-0400
TZOFFSETTO:-0500
TZNAME:EST
DTSTART:20241103T060000
END:STANDARD
BEGIN:DAYLIGHT
TZOFFSETFROM:-0500
TZOFFSETTO:-0400
TZNAME:EDT
DTSTART:20250309T070000
END:DAYLIGHT
BEGIN:STANDARD
TZOFFSETFROM:-0400
TZOFFSETTO:-0500
TZNAME:EST
DTSTART:20251102T060000
END:STANDARD
BEGIN:DAYLIGHT
TZOFFSETFROM:-0500
TZOFFSETTO:-0400
TZNAME:EDT
DTSTART:20260308T070000
END:DAYLIGHT
BEGIN:STANDARD
TZOFFSETFROM:-0400
TZOFFSETTO:-0500
TZNAME:EST
DTSTART:20261101T060000
END:STANDARD
END:VTIMEZONE
BEGIN:VEVENT
DTSTART;TZID=America/New_York:20250907T080000
DTEND;TZID=America/New_York:20250907T170000
DTSTAMP:20260421T212257
CREATED:20250814T124309Z
LAST-MODIFIED:20250814T124309Z
UID:10001990-1757232000-1757264400@www.smcvt.edu
SUMMARY:Sea Kayaking
DESCRIPTION:Enjoy a day of paddling on one of Vermont’s lakes while you develop techniques and safety skills. Take a journey along some of the most beautiful shorelines in the northeast. \nOn any trip you’ll get:\n• An inclusive\, supportive environment for experiencing and learning.\n• State-of-the-sport instruction from student-instructors and working professionals.\n• Top-of-the-line technical equipment and outdoor clothing.\n• Opportunities to challenge yourself.
URL:https://www.smcvt.edu/event/sea-kayaking/
LOCATION:Adventure Sports Center\, VT
CATEGORIES:Adventure Sports Center
ATTACH;FMTTYPE=image/jpeg:https://www.smcvt.edu/wp-content/uploads/2025/08/SK-1-scaled.jpg
END:VEVENT
END:VCALENDAR