BEGIN:VCALENDAR
VERSION:2.0
PRODID:-//Saint Michael&#039;s College - ECPv6.15.14//NONSGML v1.0//EN
CALSCALE:GREGORIAN
METHOD:PUBLISH
X-ORIGINAL-URL:https://www.smcvt.edu
X-WR-CALDESC:Events for Saint Michael&#039;s College
REFRESH-INTERVAL;VALUE=DURATION:PT1H
X-Robots-Tag:noindex
X-PUBLISHED-TTL:PT1H
BEGIN:VTIMEZONE
TZID:America/New_York
BEGIN:DAYLIGHT
TZOFFSETFROM:-0500
TZOFFSETTO:-0400
TZNAME:EDT
DTSTART:20240310T070000
END:DAYLIGHT
BEGIN:STANDARD
TZOFFSETFROM:-0400
TZOFFSETTO:-0500
TZNAME:EST
DTSTART:20241103T060000
END:STANDARD
BEGIN:DAYLIGHT
TZOFFSETFROM:-0500
TZOFFSETTO:-0400
TZNAME:EDT
DTSTART:20250309T070000
END:DAYLIGHT
BEGIN:STANDARD
TZOFFSETFROM:-0400
TZOFFSETTO:-0500
TZNAME:EST
DTSTART:20251102T060000
END:STANDARD
BEGIN:DAYLIGHT
TZOFFSETFROM:-0500
TZOFFSETTO:-0400
TZNAME:EDT
DTSTART:20260308T070000
END:DAYLIGHT
BEGIN:STANDARD
TZOFFSETFROM:-0400
TZOFFSETTO:-0500
TZNAME:EST
DTSTART:20261101T060000
END:STANDARD
END:VTIMEZONE
BEGIN:VEVENT
DTSTART;TZID=America/New_York:20250927T080000
DTEND;TZID=America/New_York:20250927T160000
DTSTAMP:20260421T212247
CREATED:20250818T150741Z
LAST-MODIFIED:20250818T150741Z
UID:10001995-1758960000-1758988800@www.smcvt.edu
SUMMARY:Whitewater/River Kayaking
DESCRIPTION:Vermont’s iconic rivers offer fantastic opportunities for beginners and experienced paddlers alike. You’ll learn how to maneuver in and out of current and paddle through rapids. \nOn any trip you’ll get:\n• An inclusive\, supportive environment for experiencing and learning.\n• State-of-the-sport instruction from student-instructors and working professionals.\n• Top-of-the-line technical equipment and outdoor clothing.\n• Opportunities to challenge yourself.\nSpaces are limited and filled on a first-come\, first-served basis\, and close at noon on the Thursday before the trip. Drop by the Adventure Sports Center on ground floor of Alumni to sign up
URL:https://www.smcvt.edu/event/whitewater-river-kayaking-2/
LOCATION:Adventure Sports Center\, VT
CATEGORIES:Adventure Sports Center
ATTACH;FMTTYPE=image/jpeg:https://www.smcvt.edu/wp-content/uploads/2025/08/ww1-1.jpeg
END:VEVENT
BEGIN:VEVENT
DTSTART;TZID=America/New_York:20250927T080000
DTEND;TZID=America/New_York:20250927T170000
DTSTAMP:20260421T212247
CREATED:20250818T150911Z
LAST-MODIFIED:20250818T150911Z
UID:10001996-1758960000-1758992400@www.smcvt.edu
SUMMARY:Mt. Mansfield Hike
DESCRIPTION:Join the Adventure Sports for an full day hike up Vermonts tallest peak.\nOn any trip you’ll get:\n• An inclusive\, supportive environment for experiencing and learning.\n• State-of-the-sport instruction from student-instructors and working professionals.\n• Top-of-the-line technical equipment and outdoor clothing.\n• Opportunities to challenge yourself.\nSpaces are limited and filled on a first-come\, first-served basis\, and close at noon on the Thursday before the trip. Drop by the Adventure Sports Center on ground floor of Alumni to sign up
URL:https://www.smcvt.edu/event/mt-mansfield-hike/
LOCATION:Adventure Sports Center\, VT
CATEGORIES:Adventure Sports Center
ATTACH;FMTTYPE=image/jpeg:https://www.smcvt.edu/wp-content/uploads/2025/08/Hike-view-copy-scaled.jpeg
END:VEVENT
END:VCALENDAR