BEGIN:VCALENDAR
VERSION:2.0
PRODID:-//Saint Michael&#039;s College - ECPv6.15.14//NONSGML v1.0//EN
CALSCALE:GREGORIAN
METHOD:PUBLISH
X-WR-CALNAME:Saint Michael&#039;s College
X-ORIGINAL-URL:https://www.smcvt.edu
X-WR-CALDESC:Events for Saint Michael&#039;s College
REFRESH-INTERVAL;VALUE=DURATION:PT1H
X-Robots-Tag:noindex
X-PUBLISHED-TTL:PT1H
BEGIN:VTIMEZONE
TZID:America/New_York
BEGIN:DAYLIGHT
TZOFFSETFROM:-0500
TZOFFSETTO:-0400
TZNAME:EDT
DTSTART:20250309T070000
END:DAYLIGHT
BEGIN:STANDARD
TZOFFSETFROM:-0400
TZOFFSETTO:-0500
TZNAME:EST
DTSTART:20251102T060000
END:STANDARD
BEGIN:DAYLIGHT
TZOFFSETFROM:-0500
TZOFFSETTO:-0400
TZNAME:EDT
DTSTART:20260308T070000
END:DAYLIGHT
BEGIN:STANDARD
TZOFFSETFROM:-0400
TZOFFSETTO:-0500
TZNAME:EST
DTSTART:20261101T060000
END:STANDARD
BEGIN:DAYLIGHT
TZOFFSETFROM:-0500
TZOFFSETTO:-0400
TZNAME:EDT
DTSTART:20270314T070000
END:DAYLIGHT
BEGIN:STANDARD
TZOFFSETFROM:-0400
TZOFFSETTO:-0500
TZNAME:EST
DTSTART:20271107T060000
END:STANDARD
END:VTIMEZONE
BEGIN:VEVENT
DTSTART;TZID=America/New_York:20260117T080000
DTEND;TZID=America/New_York:20260117T150000
DTSTAMP:20260421T095837
CREATED:20251117T164555Z
LAST-MODIFIED:20251117T164555Z
UID:10002752-1768636800-1768662000@www.smcvt.edu
SUMMARY:Nebraska Notch Snowshoe Hike
DESCRIPTION:Enjoy an easier day hike through a beautiful valley on the edge of Mt. Mansfield. No prior hiking experience needed. \nIncluded in all of our programs: \n\nAn inclusive\, supportive environment for experiencing and learning.\nState-of-the-sport instruction from student-instructors and working professionals.\nTop-of-the-line technical equipment and outdoor clothing.\nOpportunities to challenge yourself.
URL:https://www.smcvt.edu/event/nebraska-notch-snowshoe-hike/
LOCATION:Adventure Sports Center\, VT
CATEGORIES:Adventure Sports Center
ATTACH;FMTTYPE=image/jpeg:https://www.smcvt.edu/wp-content/uploads/2025/11/sugarbush-1-7.jpg
END:VEVENT
BEGIN:VEVENT
DTSTART;TZID=America/New_York:20260117T084500
DTEND;TZID=America/New_York:20260117T160000
DTSTAMP:20260421T095837
CREATED:20251110T204034Z
LAST-MODIFIED:20251110T204034Z
UID:10002731-1768639500-1768665600@www.smcvt.edu
SUMMARY:Sugarbush Van
DESCRIPTION:Get a free ride to Sugarbush.  Pre-registration at the Adventure Sports Cetner is requested.  With insufficient signup (less than 5) programs will be cancelled on the Friday morning before the trip.
URL:https://www.smcvt.edu/event/sugarbush-van-5/
LOCATION:Adventure Sports Center\, VT
CATEGORIES:Adventure Sports Center
ATTACH;FMTTYPE=image/jpeg:https://www.smcvt.edu/wp-content/uploads/2025/11/sugarbush-1.jpg
END:VEVENT
END:VCALENDAR