BEGIN:VCALENDAR
VERSION:2.0
PRODID:-//Saint Michael&#039;s College - ECPv6.15.14//NONSGML v1.0//EN
CALSCALE:GREGORIAN
METHOD:PUBLISH
X-ORIGINAL-URL:https://www.smcvt.edu
X-WR-CALDESC:Events for Saint Michael&#039;s College
REFRESH-INTERVAL;VALUE=DURATION:PT1H
X-Robots-Tag:noindex
X-PUBLISHED-TTL:PT1H
BEGIN:VTIMEZONE
TZID:America/New_York
BEGIN:DAYLIGHT
TZOFFSETFROM:-0500
TZOFFSETTO:-0400
TZNAME:EDT
DTSTART:20250309T070000
END:DAYLIGHT
BEGIN:STANDARD
TZOFFSETFROM:-0400
TZOFFSETTO:-0500
TZNAME:EST
DTSTART:20251102T060000
END:STANDARD
BEGIN:DAYLIGHT
TZOFFSETFROM:-0500
TZOFFSETTO:-0400
TZNAME:EDT
DTSTART:20260308T070000
END:DAYLIGHT
BEGIN:STANDARD
TZOFFSETFROM:-0400
TZOFFSETTO:-0500
TZNAME:EST
DTSTART:20261101T060000
END:STANDARD
BEGIN:DAYLIGHT
TZOFFSETFROM:-0500
TZOFFSETTO:-0400
TZNAME:EDT
DTSTART:20270314T070000
END:DAYLIGHT
BEGIN:STANDARD
TZOFFSETFROM:-0400
TZOFFSETTO:-0500
TZNAME:EST
DTSTART:20271107T060000
END:STANDARD
END:VTIMEZONE
BEGIN:VEVENT
DTSTART;TZID=America/New_York:20260207T070000
DTEND;TZID=America/New_York:20260207T170000
DTSTAMP:20260421T095907
CREATED:20251117T154620Z
LAST-MODIFIED:20251117T154620Z
UID:10002744-1770447600-1770483600@www.smcvt.edu
SUMMARY:Women's Only Ice Climbing
DESCRIPTION:Take a trip to beautiful Smugglers Notch and experience this incredible sport. We’ll start with lower angle terrain and transition to more difficult climbs as your skills and comfort level builds. \nOn any trip you’ll get: \n\nAn inclusive\, supportive environment for experiencing and learning.\nState-of-the-sport instruction from student-instructors and working professionals.\nTop-of-the-line technical equipment and outdoor clothing.\nOpportunities to challenge yourself.
URL:https://www.smcvt.edu/event/womens-only-ice-climbing/
LOCATION:Adventure Sports Center\, VT
CATEGORIES:Adventure Sports Center
ATTACH;FMTTYPE=image/jpeg:https://www.smcvt.edu/wp-content/uploads/2025/11/Mtn-3-scaled.jpg
END:VEVENT
BEGIN:VEVENT
DTSTART;TZID=America/New_York:20260207T080000
DTEND;TZID=America/New_York:20260207T150000
DTSTAMP:20260421T095907
CREATED:20251117T165611Z
LAST-MODIFIED:20251117T165611Z
UID:10002755-1770451200-1770476400@www.smcvt.edu
SUMMARY:Butler Lodge Snowshoe Hike
DESCRIPTION:Take a hike to a backcountry cabin on the shoulder of Mt. Mansfield. No prior hiking experience required. \nIncluded in all of our programs. \n\nAn inclusive\, supportive environment for experiencing and learning.\nState-of-the-sport instruction from student-instructors and working professionals.\nTop-of-the-line technical equipment and outdoor clothing.\nOpportunities to challenge yourself.
URL:https://www.smcvt.edu/event/butler-lodge-snowshoe-hike/
LOCATION:Adventure Sports Center\, VT
CATEGORIES:Adventure Sports Center
ATTACH;FMTTYPE=image/jpeg:https://www.smcvt.edu/wp-content/uploads/2025/11/snowshoe-2-1-scaled.jpg
END:VEVENT
BEGIN:VEVENT
DTSTART;TZID=America/New_York:20260207T084500
DTEND;TZID=America/New_York:20260207T160000
DTSTAMP:20260421T095907
CREATED:20251110T204408Z
LAST-MODIFIED:20251110T204408Z
UID:10002735-1770453900-1770480000@www.smcvt.edu
SUMMARY:Sugarbush Van
DESCRIPTION:Get a free ride to Sugarbush.  Pre-registration at the Adventure Sports Cetner is requested.  With insufficient signup (less than 5) programs will be cancelled on the Friday morning before the trip.
URL:https://www.smcvt.edu/event/sugarbush-van-9/
LOCATION:Adventure Sports Center\, VT
CATEGORIES:Adventure Sports Center
ATTACH;FMTTYPE=image/jpeg:https://www.smcvt.edu/wp-content/uploads/2025/11/sugarbush-1-4.jpg
END:VEVENT
END:VCALENDAR