BEGIN:VCALENDAR
VERSION:2.0
PRODID:-//Saint Michael&#039;s College - ECPv6.15.14//NONSGML v1.0//EN
CALSCALE:GREGORIAN
METHOD:PUBLISH
X-WR-CALNAME:Saint Michael&#039;s College
X-ORIGINAL-URL:https://www.smcvt.edu
X-WR-CALDESC:Events for Saint Michael&#039;s College
REFRESH-INTERVAL;VALUE=DURATION:PT1H
X-Robots-Tag:noindex
X-PUBLISHED-TTL:PT1H
BEGIN:VTIMEZONE
TZID:America/New_York
BEGIN:DAYLIGHT
TZOFFSETFROM:-0500
TZOFFSETTO:-0400
TZNAME:EDT
DTSTART:20250309T070000
END:DAYLIGHT
BEGIN:STANDARD
TZOFFSETFROM:-0400
TZOFFSETTO:-0500
TZNAME:EST
DTSTART:20251102T060000
END:STANDARD
BEGIN:DAYLIGHT
TZOFFSETFROM:-0500
TZOFFSETTO:-0400
TZNAME:EDT
DTSTART:20260308T070000
END:DAYLIGHT
BEGIN:STANDARD
TZOFFSETFROM:-0400
TZOFFSETTO:-0500
TZNAME:EST
DTSTART:20261101T060000
END:STANDARD
BEGIN:DAYLIGHT
TZOFFSETFROM:-0500
TZOFFSETTO:-0400
TZNAME:EDT
DTSTART:20270314T070000
END:DAYLIGHT
BEGIN:STANDARD
TZOFFSETFROM:-0400
TZOFFSETTO:-0500
TZNAME:EST
DTSTART:20271107T060000
END:STANDARD
END:VTIMEZONE
BEGIN:VEVENT
DTSTART;TZID=America/New_York:20260301T070000
DTEND;TZID=America/New_York:20260301T170000
DTSTAMP:20260420T230525
CREATED:20251117T154755Z
LAST-MODIFIED:20251117T154755Z
UID:10002745-1772348400-1772384400@www.smcvt.edu
SUMMARY:Ice Climbing with the Adventure Sports Center
DESCRIPTION:Take a trip to beautiful Smugglers Notch and experience this incredible sport. We’ll start with lower angle terrain and transition to more difficult climbs as your skills and comfort level builds. \nOn any trip you’ll get: \n\nAn inclusive\, supportive environment for experiencing and learning.\nState-of-the-sport instruction from student-instructors and working professionals.\nTop-of-the-line technical equipment and outdoor clothing.\nOpportunities to challenge yourself.
URL:https://www.smcvt.edu/event/ice-climbing-with-the-adventure-sports-center-4/
LOCATION:Adventure Sports Center\, VT
CATEGORIES:Adventure Sports Center
ATTACH;FMTTYPE=image/jpeg:https://www.smcvt.edu/wp-content/uploads/2025/11/ice-climbing2.jpg
END:VEVENT
END:VCALENDAR