BEGIN:VCALENDAR
VERSION:2.0
PRODID:-//Saint Michael&#039;s College - ECPv6.15.14//NONSGML v1.0//EN
CALSCALE:GREGORIAN
METHOD:PUBLISH
X-WR-CALNAME:Saint Michael&#039;s College
X-ORIGINAL-URL:https://www.smcvt.edu
X-WR-CALDESC:Events for Saint Michael&#039;s College
REFRESH-INTERVAL;VALUE=DURATION:PT1H
X-Robots-Tag:noindex
X-PUBLISHED-TTL:PT1H
BEGIN:VTIMEZONE
TZID:America/New_York
BEGIN:DAYLIGHT
TZOFFSETFROM:-0500
TZOFFSETTO:-0400
TZNAME:EDT
DTSTART:20240310T070000
END:DAYLIGHT
BEGIN:STANDARD
TZOFFSETFROM:-0400
TZOFFSETTO:-0500
TZNAME:EST
DTSTART:20241103T060000
END:STANDARD
BEGIN:DAYLIGHT
TZOFFSETFROM:-0500
TZOFFSETTO:-0400
TZNAME:EDT
DTSTART:20250309T070000
END:DAYLIGHT
BEGIN:STANDARD
TZOFFSETFROM:-0400
TZOFFSETTO:-0500
TZNAME:EST
DTSTART:20251102T060000
END:STANDARD
BEGIN:DAYLIGHT
TZOFFSETFROM:-0500
TZOFFSETTO:-0400
TZNAME:EDT
DTSTART:20260308T070000
END:DAYLIGHT
BEGIN:STANDARD
TZOFFSETFROM:-0400
TZOFFSETTO:-0500
TZNAME:EST
DTSTART:20261101T060000
END:STANDARD
END:VTIMEZONE
BEGIN:VEVENT
DTSTART;TZID=America/New_York:20251017T180000
DTEND;TZID=America/New_York:20251017T220000
DTSTAMP:20260421T184553
CREATED:20250917T173631Z
LAST-MODIFIED:20250917T175048Z
UID:10002190-1760724000-1760738400@www.smcvt.edu
SUMMARY:Women's Ice Hockey @ Harvard [SMC DISCOUNT CODE]
DESCRIPTION:Join your fellow Purple Knights in cheering on our Women’s Ice Hockey team as they take on the Harvard Crimson at the Bright-Landry Hockey Center! Use the St. Mike’s exclusive code STMICHAELSALUM! when buying your tickets to get a discount.
URL:https://www.smcvt.edu/event/womens-ice-hockey-harvard-smc-discount-code/
LOCATION:Bright-Landry Hockey Center\, 65 N Harvard Street\, Allston\, MA\, 02134\, United States
CATEGORIES:Alumni Events,Athletics
END:VEVENT
BEGIN:VEVENT
DTSTART;TZID=America/New_York:20251020T190000
DTEND;TZID=America/New_York:20251020T200000
DTSTAMP:20260421T184553
CREATED:20251014T181724Z
LAST-MODIFIED:20251015T201144Z
UID:10002344-1760986800-1760990400@www.smcvt.edu
SUMMARY:Global Career Conversations with Anne D’Angelo ’89: Global Engagement for Career and Future Readiness
DESCRIPTION:Join alumni as they reflect on how their paths personally and professionally after Saint Michael’s have been enhanced by global opportunities and engagement. Opportunities for Q+A. \nOn Monday\, October 20th at 7 p.m. EST\, Anne D’Angelo ’89 will be in conversation with Ingrid Peterson\, Director\, Boucher Career Education Center\, and Jeffrey Ayres\, Director of the Institute for Global Engagement and Professor of Political Science and International Relations. Anne D’Angelo is an international educator\, strategic leader\, certified executive and leadership coach and most recently the Assistant Dean of Global Initiatives in the Carlson Global Institute\, Carlson School of Management\, University of Minnesota. \nRegister for the livestream
URL:https://www.smcvt.edu/event/global-career-conversations-with-anne-dangelo-89-global-engagement-for-career-and-future-readiness/
LOCATION:Zoom\, Virtual Event
CATEGORIES:Alumni Events,Global Engagement for Career and Future Readiness,Institute for Global Engagement
ATTACH;FMTTYPE=image/jpeg:https://www.smcvt.edu/wp-content/uploads/2025/10/IGE-Live-Stream-Event-Series-v3-scaled.jpg
END:VEVENT
BEGIN:VEVENT
DTSTART;TZID=America/New_York:20251023T160000
DTEND;TZID=America/New_York:20251023T180000
DTSTAMP:20260421T184553
CREATED:20250922T150640Z
LAST-MODIFIED:20251015T191203Z
UID:10002329-1761235200-1761242400@www.smcvt.edu
SUMMARY:Fall Networking Event at OnLogic
DESCRIPTION:Network with us at OnLogic on Thursday\, October 23 \nJoin fellow alumni and current students for an evening of conversation\, connections\, and light bites— sponsored by Jack Russell ’70 and hosted at OnLogic\, one of our amazing community partners. \nOur alumni network is one of the best parts of a St. Mike’s education. Come share your experiences\, make new connections\, and show students just how strong the Purple Knight community really is. \n\nThursday\, October 25\, 2025\n4:00-6:00 pm\n\nOnLogic Headquarters\n435 Community Park Drive\nSouth Burlington\, VT 05403\nConversation and Light Bites
URL:https://www.smcvt.edu/event/fall-networking-event-at-onlogic/
LOCATION:OnLogic\, 435 Community Drive\, South Burlington\, VT\, 05403\, United States
CATEGORIES:Alumni Events,Boucher Career Education Center
ATTACH;FMTTYPE=image/png:https://www.smcvt.edu/wp-content/uploads/2025/09/OnLogic-Networking-Event-Slide-for-website.png
END:VEVENT
END:VCALENDAR