BEGIN:VCALENDAR
VERSION:2.0
PRODID:-//Saint Michael&#039;s College - ECPv6.15.14//NONSGML v1.0//EN
CALSCALE:GREGORIAN
METHOD:PUBLISH
X-WR-CALNAME:Saint Michael&#039;s College
X-ORIGINAL-URL:https://www.smcvt.edu
X-WR-CALDESC:Events for Saint Michael&#039;s College
REFRESH-INTERVAL;VALUE=DURATION:PT1H
X-Robots-Tag:noindex
X-PUBLISHED-TTL:PT1H
BEGIN:VTIMEZONE
TZID:America/New_York
BEGIN:DAYLIGHT
TZOFFSETFROM:-0500
TZOFFSETTO:-0400
TZNAME:EDT
DTSTART:20250309T070000
END:DAYLIGHT
BEGIN:STANDARD
TZOFFSETFROM:-0400
TZOFFSETTO:-0500
TZNAME:EST
DTSTART:20251102T060000
END:STANDARD
BEGIN:DAYLIGHT
TZOFFSETFROM:-0500
TZOFFSETTO:-0400
TZNAME:EDT
DTSTART:20260308T070000
END:DAYLIGHT
BEGIN:STANDARD
TZOFFSETFROM:-0400
TZOFFSETTO:-0500
TZNAME:EST
DTSTART:20261101T060000
END:STANDARD
BEGIN:DAYLIGHT
TZOFFSETFROM:-0500
TZOFFSETTO:-0400
TZNAME:EDT
DTSTART:20270314T070000
END:DAYLIGHT
BEGIN:STANDARD
TZOFFSETFROM:-0400
TZOFFSETTO:-0500
TZNAME:EST
DTSTART:20271107T060000
END:STANDARD
END:VTIMEZONE
BEGIN:VEVENT
DTSTART;TZID=America/New_York:20260119T090000
DTEND;TZID=America/New_York:20260119T093500
DTSTAMP:20260421T090350
CREATED:20251119T160553Z
LAST-MODIFIED:20251202T161250Z
UID:10002760-1768813200-1768815300@www.smcvt.edu
SUMMARY:MLK Convocation Welcoming Remarks
DESCRIPTION:Welcoming Remarks with Fr. Michael Carter\, SSE; Vernita Weller\, Senior Success Advisor & Parent Liaison; Tide Gully ’27\, President of Diversity Coalition; Dr. Richard Plumb\, SMC President; Dr. Gretchen Galbraith\, Provost.
URL:https://www.smcvt.edu/event/mlk-convocation-welcoming-remarks-2/
LOCATION:Roy Room\, Dion Family Student Center
CATEGORIES:Alumni Events,Annual Dr. Martin Luther King, Jr. Convocation
ATTACH;FMTTYPE=image/png:https://www.smcvt.edu/wp-content/uploads/2025/11/CrowdLorraineVernita430.png
END:VEVENT
BEGIN:VEVENT
DTSTART;TZID=America/New_York:20260119T121500
DTEND;TZID=America/New_York:20260119T132000
DTSTAMP:20260421T090350
CREATED:20251119T162726Z
LAST-MODIFIED:20251202T161216Z
UID:10002763-1768824900-1768828800@www.smcvt.edu
SUMMARY:MLK Convocation Musical Celebration
DESCRIPTION:Musical Celebration with the Saint Michael’s Gospel Choir directed by Vernita Weller\, M.A.T.\, M.A.R.\, Senior Success Advisor & Parent Liaison and the Vermont Freedom & Unity Chorus directed by Maria Rinaldi ’00\, Web Support Specialist \nIn a world filled with division and hate\, Vermont’s Freedom & Unity Chorus brings people together through the power of music to spread the message of unity\, hope\, and harmony. This chorus with a social conscience takes its message out into the community to perform songs representing the ongoing struggle for racial\, social\, economic\, and environmental justice. From soulful ballads to powerful anthems\, they sing to ignite change and inspire audiences to make the world a more welcoming place to be.
URL:https://www.smcvt.edu/event/mlk-convocation-musical-celebration-2/
LOCATION:Green Mountain Dining Room\, Alliot Student Center
CATEGORIES:Alumni Events,Annual Dr. Martin Luther King, Jr. Convocation
ATTACH;FMTTYPE=image/jpeg:https://www.smcvt.edu/wp-content/uploads/2025/11/54285050291_fe49c9520e_h-crop.jpg
END:VEVENT
BEGIN:VEVENT
DTSTART;TZID=America/New_York:20260119T130000
DTEND;TZID=America/New_York:20260119T170000
DTSTAMP:20260421T090350
CREATED:20251119T164407Z
LAST-MODIFIED:20251202T161148Z
UID:10002766-1768827600-1768842000@www.smcvt.edu
SUMMARY:MLK Day Creative Space
DESCRIPTION:MLK Day Creative Space – Button making\, shirts\, laser cutting\, and more.
URL:https://www.smcvt.edu/event/mlk-day-creative-space-2/
LOCATION:Creative Design Studio\, Saint Michael's College Dion Student Center
CATEGORIES:Alumni Events,Annual Dr. Martin Luther King, Jr. Convocation
ATTACH;FMTTYPE=image/jpeg:https://www.smcvt.edu/wp-content/uploads/2025/11/IMG_8352.jpg
END:VEVENT
BEGIN:VEVENT
DTSTART;TZID=America/New_York:20260119T163000
DTEND;TZID=America/New_York:20260119T170000
DTSTAMP:20260421T090350
CREATED:20251119T165312Z
LAST-MODIFIED:20251202T161051Z
UID:10002770-1768840200-1768842000@www.smcvt.edu
SUMMARY:MLK Beloved Community Reception
DESCRIPTION:MLK Beloved Community Reception celebrating local BIPoC-owned caterers
URL:https://www.smcvt.edu/event/mlk-beloved-community-reception/
LOCATION:Archway Lounge\, Dion Family Student Center
CATEGORIES:Alumni Events,Annual Dr. Martin Luther King, Jr. Convocation
END:VEVENT
BEGIN:VEVENT
DTSTART;TZID=America/New_York:20260119T170000
DTEND;TZID=America/New_York:20260119T183000
DTSTAMP:20260421T090350
CREATED:20251119T164741Z
LAST-MODIFIED:20251202T161121Z
UID:10002768-1768842000-1768847400@www.smcvt.edu
SUMMARY:MLK Convocation Keynote: Tuning in to Our Communities: Improving Our Collective Sensibilities of Humility\, Care and Relationality
DESCRIPTION:Tuning in to Our Communities: Improving Our Collective Sensibilities of Humility\, Care and Relationality with Bindu Panikkar\, PhD\, Associate Professor\, Rubenstein School of Environment & Natural Resources\, University of Vermont \nHow do we strengthen our relational capabilities centered in care\, humility\, and collective wellbeing? The word humility comes from the Latin root—humus\, earth\, soil\, ground. Humility means being grounded\, being of the earth\, it means an awareness of our place within a larger world. Practicing humility requires recognizing our limitations\, acknowledging our interdependence\, and valuing the contributions and knowledge of others. It is also the willingness to be changed through relational encounters. Humility in relations grounds us\, allowing care\, attentiveness and reciprocity to circulate\, and serves as a powerful antidote to domination\, extraction\, and hierarchy. \nIn this talk\, Dr. Panikkar makes the case that tuning in to our communities requires understanding what divides us and what erodes our collective capabilities of care\, relationality\, and humility. To guard against the theft of relationality\, we must adopt attunement of care\, listening\, repair\, reciprocity\, and attentiveness as practice to rebuild our relational capacities necessary for collective wellbeing in a fractured world.
URL:https://www.smcvt.edu/event/mlk-convocation-keynote-tuning-in-to-our-communities-improving-our-collective-sensibilities-of-humility-care-and-relationality/
LOCATION:Roy Room\, Dion Family Student Center
CATEGORIES:Alumni Events,Annual Dr. Martin Luther King, Jr. Convocation
ATTACH;FMTTYPE=image/webp:https://www.smcvt.edu/wp-content/uploads/2025/11/bindupanikkar2018_350x350.jpg.webp
END:VEVENT
END:VCALENDAR