BEGIN:VCALENDAR
VERSION:2.0
PRODID:-//Saint Michael&#039;s College - ECPv6.15.14//NONSGML v1.0//EN
CALSCALE:GREGORIAN
METHOD:PUBLISH
X-WR-CALNAME:Saint Michael&#039;s College
X-ORIGINAL-URL:https://www.smcvt.edu
X-WR-CALDESC:Events for Saint Michael&#039;s College
REFRESH-INTERVAL;VALUE=DURATION:PT1H
X-Robots-Tag:noindex
X-PUBLISHED-TTL:PT1H
BEGIN:VTIMEZONE
TZID:America/New_York
BEGIN:DAYLIGHT
TZOFFSETFROM:-0500
TZOFFSETTO:-0400
TZNAME:EDT
DTSTART:20240310T070000
END:DAYLIGHT
BEGIN:STANDARD
TZOFFSETFROM:-0400
TZOFFSETTO:-0500
TZNAME:EST
DTSTART:20241103T060000
END:STANDARD
BEGIN:DAYLIGHT
TZOFFSETFROM:-0500
TZOFFSETTO:-0400
TZNAME:EDT
DTSTART:20250309T070000
END:DAYLIGHT
BEGIN:STANDARD
TZOFFSETFROM:-0400
TZOFFSETTO:-0500
TZNAME:EST
DTSTART:20251102T060000
END:STANDARD
BEGIN:DAYLIGHT
TZOFFSETFROM:-0500
TZOFFSETTO:-0400
TZNAME:EDT
DTSTART:20260308T070000
END:DAYLIGHT
BEGIN:STANDARD
TZOFFSETFROM:-0400
TZOFFSETTO:-0500
TZNAME:EST
DTSTART:20261101T060000
END:STANDARD
END:VTIMEZONE
BEGIN:VEVENT
DTSTART;TZID=America/New_York:20250423T113000
DTEND;TZID=America/New_York:20250423T130000
DTSTAMP:20260419T093856
CREATED:20250417T142240Z
LAST-MODIFIED:20250417T142240Z
UID:10001954-1745407800-1745413200@www.smcvt.edu
SUMMARY:Pressed & Printed: A Silkscreened Poster Market
DESCRIPTION:Pressed & Printed: A Silkscreened Poster Market \nWednesday\, April 23\, from 11:30 a.m. to 1 p.m.\nAlliot Student Center \nBrowse and buy unique prints from SMC silkscreen printmakers
URL:https://www.smcvt.edu/event/pressed-printed-a-silkscreened-poster-market/
LOCATION:Alliot
CATEGORIES:Art & Design
ATTACH;FMTTYPE=image/png:https://www.smcvt.edu/wp-content/uploads/2025/04/Pressed-and-Printed-Silkscreened-Poster-Market-instapost.png
END:VEVENT
END:VCALENDAR