BEGIN:VCALENDAR
VERSION:2.0
PRODID:-//Saint Michael&#039;s College - ECPv6.15.14//NONSGML v1.0//EN
CALSCALE:GREGORIAN
METHOD:PUBLISH
X-ORIGINAL-URL:https://www.smcvt.edu
X-WR-CALDESC:Events for Saint Michael&#039;s College
REFRESH-INTERVAL;VALUE=DURATION:PT1H
X-Robots-Tag:noindex
X-PUBLISHED-TTL:PT1H
BEGIN:VTIMEZONE
TZID:America/New_York
BEGIN:DAYLIGHT
TZOFFSETFROM:-0500
TZOFFSETTO:-0400
TZNAME:EDT
DTSTART:20240310T070000
END:DAYLIGHT
BEGIN:STANDARD
TZOFFSETFROM:-0400
TZOFFSETTO:-0500
TZNAME:EST
DTSTART:20241103T060000
END:STANDARD
BEGIN:DAYLIGHT
TZOFFSETFROM:-0500
TZOFFSETTO:-0400
TZNAME:EDT
DTSTART:20250309T070000
END:DAYLIGHT
BEGIN:STANDARD
TZOFFSETFROM:-0400
TZOFFSETTO:-0500
TZNAME:EST
DTSTART:20251102T060000
END:STANDARD
BEGIN:DAYLIGHT
TZOFFSETFROM:-0500
TZOFFSETTO:-0400
TZNAME:EDT
DTSTART:20260308T070000
END:DAYLIGHT
BEGIN:STANDARD
TZOFFSETFROM:-0400
TZOFFSETTO:-0500
TZNAME:EST
DTSTART:20261101T060000
END:STANDARD
END:VTIMEZONE
BEGIN:VEVENT
DTSTART;TZID=America/New_York:20250929T171500
DTEND;TZID=America/New_York:20250929T183000
DTSTAMP:20260419T231749
CREATED:20250918T134648Z
LAST-MODIFIED:20250918T202423Z
UID:10002191-1759166100-1759170600@www.smcvt.edu
SUMMARY:This Is Our House with jamele adams
DESCRIPTION:A community event highlighting love\, inclusion\, and trust.\nExplore how each member of the SMC community can accept\, respect\, encourage and empower one another. \nPresented by:\nThe Education Department MAT program + BeWell \nFood and Beverages will be provided
URL:https://www.smcvt.edu/event/this-is-our-house-with-jamele-adams/
LOCATION:Roy Room\, Dion Family Student Center
CATEGORIES:Be Well
ATTACH;FMTTYPE=image/png:https://www.smcvt.edu/wp-content/uploads/2025/09/This-is-Our-House-with-Jamele-Adams-Director-of-Love-Inclusion-and-Trust-at-Scituate-Public-Schools.png
END:VEVENT
END:VCALENDAR