BEGIN:VCALENDAR
VERSION:2.0
PRODID:-//Saint Michael&#039;s College - ECPv6.15.14//NONSGML v1.0//EN
CALSCALE:GREGORIAN
METHOD:PUBLISH
X-WR-CALNAME:Saint Michael&#039;s College
X-ORIGINAL-URL:https://www.smcvt.edu
X-WR-CALDESC:Events for Saint Michael&#039;s College
REFRESH-INTERVAL;VALUE=DURATION:PT1H
X-Robots-Tag:noindex
X-PUBLISHED-TTL:PT1H
BEGIN:VTIMEZONE
TZID:America/New_York
BEGIN:DAYLIGHT
TZOFFSETFROM:-0500
TZOFFSETTO:-0400
TZNAME:EDT
DTSTART:20240310T070000
END:DAYLIGHT
BEGIN:STANDARD
TZOFFSETFROM:-0400
TZOFFSETTO:-0500
TZNAME:EST
DTSTART:20241103T060000
END:STANDARD
BEGIN:DAYLIGHT
TZOFFSETFROM:-0500
TZOFFSETTO:-0400
TZNAME:EDT
DTSTART:20250309T070000
END:DAYLIGHT
BEGIN:STANDARD
TZOFFSETFROM:-0400
TZOFFSETTO:-0500
TZNAME:EST
DTSTART:20251102T060000
END:STANDARD
BEGIN:DAYLIGHT
TZOFFSETFROM:-0500
TZOFFSETTO:-0400
TZNAME:EDT
DTSTART:20260308T070000
END:DAYLIGHT
BEGIN:STANDARD
TZOFFSETFROM:-0400
TZOFFSETTO:-0500
TZNAME:EST
DTSTART:20261101T060000
END:STANDARD
END:VTIMEZONE
BEGIN:VEVENT
DTSTART;TZID=America/New_York:20250215T090000
DTEND;TZID=America/New_York:20250215T170000
DTSTAMP:20260422T213636
CREATED:20250204T190351Z
LAST-MODIFIED:20250204T190351Z
UID:10001323-1739610000-1739638800@www.smcvt.edu
SUMMARY:NOFA-VT Winter Conference: Student Field Trip
DESCRIPTION:NOFA-VT Winter Conference: Student Field Trip \nSaturday\, February 15\, at 9 a.m.\nUniversity of Vermont \nThe Leahy Institute for the Environment has paid the way of dozens of students to attend the annual NOFA-VT Winter Conference hosted at UVM. This year\, we are not just sending our Farm & Food student leaders\, but our entire student intern cohort! \nInterested in attending? Visit NOFA-VT’s website to register today using their sliding scale model. Students who have paid for their individual registration but would like transportation to and from UVM may contact Portia Butrym via email\, pbutrym@smcvt.edu.
URL:https://www.smcvt.edu/event/nofa-vt-winter-conference-student-field-trip/
CATEGORIES:The Patrick '61 and Marcelle Leahy Institute for the Environment
ATTACH;FMTTYPE=image/jpeg:https://www.smcvt.edu/wp-content/uploads/2025/02/nofa-vt-winter-conference-scaled-1.jpg
END:VEVENT
BEGIN:VEVENT
DTSTART;VALUE=DATE:20250218
DTEND;VALUE=DATE:20250221
DTSTAMP:20260422T213636
CREATED:20250204T182214Z
LAST-MODIFIED:20250218T151313Z
UID:10001321-1739869200-1740070800@www.smcvt.edu
SUMMARY:2025-2026 Leahy Scholarship Program Applications Open
DESCRIPTION:2025-2026 Leahy Scholarship Program Applications Open \nTuesday\, February 18th \nsmcvt.edu/academics/institute-for-the-environment/student-opportunities/ \nThis scholarship program is part of a $6.5 million federal appropriation that seeks to establish Saint Michael’s as a lighthouse for the institutional models needed to span the educational and workforce development continuum for coordinated\, systemic action. \nApplications for the AY 2025–2026 are open starting Tuesday\, February 18th at 9am and will be due by Tuesday\, April 1st by 5pm. Read more about the program by visiting smcvt.edu/academics/institute-for-the-environment/student-opportunities/.
URL:https://www.smcvt.edu/event/2025-2026-leahy-scholarship-program-applications-open/
CATEGORIES:The Patrick '61 and Marcelle Leahy Institute for the Environment
ATTACH;FMTTYPE=image/png:https://www.smcvt.edu/wp-content/uploads/2025/02/scholarship_thumbnail.png
END:VEVENT
BEGIN:VEVENT
DTSTART;TZID=America/New_York:20250220T120000
DTEND;TZID=America/New_York:20250220T180000
DTSTAMP:20260422T213636
CREATED:20250204T181942Z
LAST-MODIFIED:20250207T173521Z
UID:10001320-1740052800-1740074400@www.smcvt.edu
SUMMARY:Flood Simulations with ES-310\, SUNY: Plattsburgh\, and LCBP
DESCRIPTION:Flood Simulations with ES-310\, SUNY: Plattsburgh\, and LCBP \nThursday\, February 20\, at noon\nLake Champlain Basin Program (South Hero\, Vt.) \nProfessor Alexandra Harden\, a Leahy Teaching Fellow\, is bringing her students in her ES-310: Environmental Hazards class up to Lake Champlain Basin Program’s (LCBP) main office in South Hero\, VT to learn alongside students in SUNY: Plattsburgh’s: Center for Earth & Environmental Science. They will work with flooding simulations to understand mitigation\, preparedness\, and prevention of flooding of Lake Champlain. \nFlood Resilience in a Transboundary Watershed simulation explores the dynamics of flood mitigation planning and adaptation in a transboundary waterway. The simulation includes scientific\, governance and private sector roles. Students in ES-310 will come back to campus having career exposure and place-based education that is meaningful to them and their peers. This field trip is not open for additional attendees.
URL:https://www.smcvt.edu/event/flood-simulations-with-es-310-middlebury-and-lcbp/
LOCATION:Lake Champlain Basin Program\, South Hero\, VT\, United States
CATEGORIES:The Patrick '61 and Marcelle Leahy Institute for the Environment
ATTACH;FMTTYPE=image/png:https://www.smcvt.edu/wp-content/uploads/2025/02/lcbp-logo.png
END:VEVENT
END:VCALENDAR