BEGIN:VCALENDAR
VERSION:2.0
PRODID:-//Saint Michael&#039;s College - ECPv6.15.14//NONSGML v1.0//EN
CALSCALE:GREGORIAN
METHOD:PUBLISH
X-ORIGINAL-URL:https://www.smcvt.edu
X-WR-CALDESC:Events for Saint Michael&#039;s College
REFRESH-INTERVAL;VALUE=DURATION:PT1H
X-Robots-Tag:noindex
X-PUBLISHED-TTL:PT1H
BEGIN:VTIMEZONE
TZID:America/New_York
BEGIN:DAYLIGHT
TZOFFSETFROM:-0500
TZOFFSETTO:-0400
TZNAME:EDT
DTSTART:20230312T070000
END:DAYLIGHT
BEGIN:STANDARD
TZOFFSETFROM:-0400
TZOFFSETTO:-0500
TZNAME:EST
DTSTART:20231105T060000
END:STANDARD
BEGIN:DAYLIGHT
TZOFFSETFROM:-0500
TZOFFSETTO:-0400
TZNAME:EDT
DTSTART:20240310T070000
END:DAYLIGHT
BEGIN:STANDARD
TZOFFSETFROM:-0400
TZOFFSETTO:-0500
TZNAME:EST
DTSTART:20241103T060000
END:STANDARD
BEGIN:DAYLIGHT
TZOFFSETFROM:-0500
TZOFFSETTO:-0400
TZNAME:EDT
DTSTART:20250309T070000
END:DAYLIGHT
BEGIN:STANDARD
TZOFFSETFROM:-0400
TZOFFSETTO:-0500
TZNAME:EST
DTSTART:20251102T060000
END:STANDARD
END:VTIMEZONE
BEGIN:VEVENT
DTSTART;TZID=America/New_York:20240920T140000
DTEND;TZID=America/New_York:20240920T170000
DTSTAMP:20260421T233051
CREATED:20240828T162137Z
LAST-MODIFIED:20240906T145405Z
UID:10000463-1726840800-1726851600@www.smcvt.edu
SUMMARY:OVE Farm Fridays
DESCRIPTION:Outdoor Volunteer Efforts\, one of MOVE’s CORE programs\, and the Institute for the Environment co-sponsor a free volunteer event for anyone in the SMC community to spend time getting their hands dirty at the Farm!
URL:https://www.smcvt.edu/event/ove-farm-fridays-7/2024-09-20/
LOCATION:The Farm
CATEGORIES:MOVE,The Patrick '61 and Marcelle Leahy Institute for the Environment
ATTACH;FMTTYPE=image/jpeg:https://www.smcvt.edu/wp-content/uploads/2020/09/The-Farm-working.jpg
END:VEVENT
BEGIN:VEVENT
DTSTART;TZID=America/New_York:20240920T140000
DTEND;TZID=America/New_York:20240920T170000
DTSTAMP:20260421T233051
CREATED:20240913T124658Z
LAST-MODIFIED:20240913T124658Z
UID:10000831-1726840800-1726851600@www.smcvt.edu
SUMMARY:SMC Farm Tours
DESCRIPTION:Never been down to the SMC Farm? Meet leaders in our Farm & Food Program at Pomerleau Alumni Center at 2pm\, 3pm\, and 4pm to get a full introduction and tour of our space! Please wear closed toed shoes\, and consider wearing sun protection and bug spray.  \nTerrain is uneven\, so please email Portia Butrym\, Project & Outreach Coordinator\, at pbutrym@smcvt.edu if you need any accommodations.
URL:https://www.smcvt.edu/event/smc-farm-tours/
LOCATION:Pomerleau Alumni Center
CATEGORIES:The Patrick '61 and Marcelle Leahy Institute for the Environment
ATTACH;FMTTYPE=image/jpeg:https://www.smcvt.edu/wp-content/uploads/2024/09/08_25_22_International_Students_PB-7074-1.jpg
END:VEVENT
END:VCALENDAR