BEGIN:VCALENDAR
VERSION:2.0
PRODID:-//Saint Michael&#039;s College - ECPv6.15.14//NONSGML v1.0//EN
CALSCALE:GREGORIAN
METHOD:PUBLISH
X-WR-CALNAME:Saint Michael&#039;s College
X-ORIGINAL-URL:https://www.smcvt.edu
X-WR-CALDESC:Events for Saint Michael&#039;s College
REFRESH-INTERVAL;VALUE=DURATION:PT1H
X-Robots-Tag:noindex
X-PUBLISHED-TTL:PT1H
BEGIN:VTIMEZONE
TZID:America/New_York
BEGIN:DAYLIGHT
TZOFFSETFROM:-0500
TZOFFSETTO:-0400
TZNAME:EDT
DTSTART:20230312T070000
END:DAYLIGHT
BEGIN:STANDARD
TZOFFSETFROM:-0400
TZOFFSETTO:-0500
TZNAME:EST
DTSTART:20231105T060000
END:STANDARD
BEGIN:DAYLIGHT
TZOFFSETFROM:-0500
TZOFFSETTO:-0400
TZNAME:EDT
DTSTART:20240310T070000
END:DAYLIGHT
BEGIN:STANDARD
TZOFFSETFROM:-0400
TZOFFSETTO:-0500
TZNAME:EST
DTSTART:20241103T060000
END:STANDARD
BEGIN:DAYLIGHT
TZOFFSETFROM:-0500
TZOFFSETTO:-0400
TZNAME:EDT
DTSTART:20250309T070000
END:DAYLIGHT
BEGIN:STANDARD
TZOFFSETFROM:-0400
TZOFFSETTO:-0500
TZNAME:EST
DTSTART:20251102T060000
END:STANDARD
END:VTIMEZONE
BEGIN:VEVENT
DTSTART;TZID=America/New_York:20240921T100000
DTEND;TZID=America/New_York:20240921T120000
DTSTAMP:20260422T055925
CREATED:20240913T122654Z
LAST-MODIFIED:20240913T123950Z
UID:10000830-1726912800-1726920000@www.smcvt.edu
SUMMARY:Outdoor & Living Classrooms Tours
DESCRIPTION:Join leaders of the Patrick ’61 and Marcelle Leahy Institute for the Environment for a tour of our Outdoor & Living Classrooms! Spaces will include the SMC Natural Area and Teaching Pavilion\, the Teaching Gardens\, the center of campus\, and the Farm.  \nTours will begin at 10am and 11am and will split up based on locations of interest.
URL:https://www.smcvt.edu/event/outdoor-living-classrooms-tours/
LOCATION:Hoehl Welcome Center\, VT
CATEGORIES:The Patrick '61 and Marcelle Leahy Institute for the Environment
ATTACH;FMTTYPE=image/jpeg:https://www.smcvt.edu/wp-content/uploads/2024/09/Outdoor-Classroom_5111-1.jpg
END:VEVENT
BEGIN:VEVENT
DTSTART;TZID=America/New_York:20240921T140000
DTEND;TZID=America/New_York:20240921T170000
DTSTAMP:20260422T055925
CREATED:20240913T121630Z
LAST-MODIFIED:20240913T121630Z
UID:10000829-1726927200-1726938000@www.smcvt.edu
SUMMARY:SMC Farm Stand at the Welcome Back Bash
DESCRIPTION:The SMC Farm Crew will be hosting an In-Person Farm Stand during the annual Welcome Back Bash from 2pm – 5pm! The Farm Stand will be located in the Dion Courtyard between Alliot\, Dion\, and Joyce. Purchases can be made using cash\, credit/debit card\, Knight Card\, and CSA credit!
URL:https://www.smcvt.edu/event/smc-farm-stand-at-the-welcome-back-bash/
LOCATION:Dion Family Student Center
CATEGORIES:The Patrick '61 and Marcelle Leahy Institute for the Environment
ATTACH;FMTTYPE=image/jpeg:https://www.smcvt.edu/wp-content/uploads/2024/09/0R1A7696.jpg
END:VEVENT
END:VCALENDAR