BEGIN:VCALENDAR
VERSION:2.0
PRODID:-//Saint Michael&#039;s College - ECPv6.15.14//NONSGML v1.0//EN
CALSCALE:GREGORIAN
METHOD:PUBLISH
X-ORIGINAL-URL:https://www.smcvt.edu
X-WR-CALDESC:Events for Saint Michael&#039;s College
REFRESH-INTERVAL;VALUE=DURATION:PT1H
X-Robots-Tag:noindex
X-PUBLISHED-TTL:PT1H
BEGIN:VTIMEZONE
TZID:America/New_York
BEGIN:DAYLIGHT
TZOFFSETFROM:-0500
TZOFFSETTO:-0400
TZNAME:EDT
DTSTART:20240310T070000
END:DAYLIGHT
BEGIN:STANDARD
TZOFFSETFROM:-0400
TZOFFSETTO:-0500
TZNAME:EST
DTSTART:20241103T060000
END:STANDARD
BEGIN:DAYLIGHT
TZOFFSETFROM:-0500
TZOFFSETTO:-0400
TZNAME:EDT
DTSTART:20250309T070000
END:DAYLIGHT
BEGIN:STANDARD
TZOFFSETFROM:-0400
TZOFFSETTO:-0500
TZNAME:EST
DTSTART:20251102T060000
END:STANDARD
BEGIN:DAYLIGHT
TZOFFSETFROM:-0500
TZOFFSETTO:-0400
TZNAME:EDT
DTSTART:20260308T070000
END:DAYLIGHT
BEGIN:STANDARD
TZOFFSETFROM:-0400
TZOFFSETTO:-0500
TZNAME:EST
DTSTART:20261101T060000
END:STANDARD
END:VTIMEZONE
BEGIN:VEVENT
DTSTART;TZID=America/New_York:20250301T110000
DTEND;TZID=America/New_York:20250301T130000
DTSTAMP:20260423T044530
CREATED:20250218T221627Z
LAST-MODIFIED:20250218T221627Z
UID:10001338-1740826800-1740834000@www.smcvt.edu
SUMMARY:Capturing Wildlife on Trail Cameras
DESCRIPTION:Capturing Wildlife on Trail Cameras \nSaturday\, March 1 at 11 a.m.\nRoy Room\, Dion Family Student Center \n“Capturing Wildlife on Trail Cameras” will explain how best to deploy trail cameras and share wildlife photographs taken right on the Saint Michael’s College campus. The event is in the Roy Room at 11:00 AM on Saturday\, March 1. This is an all-ages family-friendly event open to the campus community and the public.
URL:https://www.smcvt.edu/event/capturing-wildlife-on-trail-cameras/
LOCATION:Roy Room\, Dion Family Student Center
CATEGORIES:The Patrick '61 and Marcelle Leahy Institute for the Environment
ATTACH;FMTTYPE=image/jpeg:https://www.smcvt.edu/wp-content/uploads/2025/02/Campus-Trail-Camera-Event-scaled.jpg
END:VEVENT
END:VCALENDAR