BEGIN:VCALENDAR
VERSION:2.0
PRODID:-//Saint Michael&#039;s College - ECPv6.15.14//NONSGML v1.0//EN
CALSCALE:GREGORIAN
METHOD:PUBLISH
X-WR-CALNAME:Saint Michael&#039;s College
X-ORIGINAL-URL:https://www.smcvt.edu
X-WR-CALDESC:Events for Saint Michael&#039;s College
REFRESH-INTERVAL;VALUE=DURATION:PT1H
X-Robots-Tag:noindex
X-PUBLISHED-TTL:PT1H
BEGIN:VTIMEZONE
TZID:America/New_York
BEGIN:DAYLIGHT
TZOFFSETFROM:-0500
TZOFFSETTO:-0400
TZNAME:EDT
DTSTART:20240310T070000
END:DAYLIGHT
BEGIN:STANDARD
TZOFFSETFROM:-0400
TZOFFSETTO:-0500
TZNAME:EST
DTSTART:20241103T060000
END:STANDARD
BEGIN:DAYLIGHT
TZOFFSETFROM:-0500
TZOFFSETTO:-0400
TZNAME:EDT
DTSTART:20250309T070000
END:DAYLIGHT
BEGIN:STANDARD
TZOFFSETFROM:-0400
TZOFFSETTO:-0500
TZNAME:EST
DTSTART:20251102T060000
END:STANDARD
BEGIN:DAYLIGHT
TZOFFSETFROM:-0500
TZOFFSETTO:-0400
TZNAME:EDT
DTSTART:20260308T070000
END:DAYLIGHT
BEGIN:STANDARD
TZOFFSETFROM:-0400
TZOFFSETTO:-0500
TZNAME:EST
DTSTART:20261101T060000
END:STANDARD
END:VTIMEZONE
BEGIN:VEVENT
DTSTART;TZID=America/New_York:20250409T120000
DTEND;TZID=America/New_York:20250409T170000
DTSTAMP:20260423T120529
CREATED:20250331T140339Z
LAST-MODIFIED:20250331T140451Z
UID:10001860-1744200000-1744218000@www.smcvt.edu
SUMMARY:Water for All: A Path to Global Health and Equity
DESCRIPTION:Water for All: A Path to Global Health and Equity \nWednesday April 9\nPanel – 12 p.m. in McCarthy Arts Center\nWalk-A-Thon – 1 p.m. in the McCarthy Arts Center parking lot \n\nWalk-a-thon Registration & Donation Form\n\nThis campus—and community-sponsored collaboration aims to reflect the mission and impact of SMC students on real-world issues\, particularly a lack of access to clean water. ​​The initiative seeks to leverage education\, outreach\, and community development with our community partner\, St. Francis Xavier Parish & School. Groups from across the college are coming together to support the St. Francis Xavier students in raising money for 4 communities in southeastern Mexico to support Healing Waters International with the upcoming project of designing and installing clean water infrastructure in these communities. ​​ \nThe project originated with Father Yvon Royer- SMC Alum\, 3 years ago when his former Parishes were involved in helping a Community in San José Monteverde\, México\, have clean drinking water for the first time.  They worked with Healing Waters\, a Christian company that works mostly in South America focusing on working with communities to assess what their needs are for water\, the possible source\, and what needs to be done to bring the Community drinkable water. \nThroughout this academic year\, Father Yvon has been leading both educational and fundraising initiatives at Saint Francis Xavier School (SFX) in Winooski. Students have heard from speakers\, conducted fundraising events at their local parishes\, and will participate in a fundraising Walk-A-Thon. To support this initiative\, Saint Michael’s College will host a series of educational events on April 9th and the SFX students will have access to everything we have to offer\, from our pre-service educators to our MakerSpace to our ability to bring in high-impact speakers\, which will build awareness\, increase education\, and fundraise for clean water projects in the coastal region of Chiapas México\, a stand-alone project in the community “23 de Enero” and project Rosalbali which support the communities of Rosarito\, Alianza\, and Albores. \n​On Wednesday\, April 9th\, all SFX students and staff will be visiting SMC to take part in the series of events. A highlight of this day is a 1-hour panel with Walter Nonemaker\, Director at Healing Waters International\, Oliver Niyonshuti\, SMC international student with personal experience related to lack of clean water in Rwanda\, and Judy Dow\, local Indigenous Scholar and Educator and Executive Director of Gedakina. The panel will take place at 12:00 pm at the McCarthy Art Center. \nAfter the panel\, we will join a call for action about access to clean water as a human right as well as fundraising. The Walk-A-Thon will start at 1 pm\, and walkers will gather at the McCarthy Arts parking lot. More information will be available next week. We are counting on our SMC community to make this initiative a success! \nPlease join us\, bring your classes to the panel\, encourage students to participate in the Walk-A-Thon\, and donate!
URL:https://www.smcvt.edu/event/water-for-all-a-path-to-global-health-and-equity/
LOCATION:McCarthy Arts Center
CATEGORIES:Institute for Equity and Justice,The Patrick '61 and Marcelle Leahy Institute for the Environment
END:VEVENT
END:VCALENDAR