BEGIN:VCALENDAR
VERSION:2.0
PRODID:-//Saint Michael&#039;s College - ECPv6.15.14//NONSGML v1.0//EN
CALSCALE:GREGORIAN
METHOD:PUBLISH
X-WR-CALNAME:Saint Michael&#039;s College
X-ORIGINAL-URL:https://www.smcvt.edu
X-WR-CALDESC:Events for Saint Michael&#039;s College
REFRESH-INTERVAL;VALUE=DURATION:PT1H
X-Robots-Tag:noindex
X-PUBLISHED-TTL:PT1H
BEGIN:VTIMEZONE
TZID:America/New_York
BEGIN:DAYLIGHT
TZOFFSETFROM:-0500
TZOFFSETTO:-0400
TZNAME:EDT
DTSTART:20240310T070000
END:DAYLIGHT
BEGIN:STANDARD
TZOFFSETFROM:-0400
TZOFFSETTO:-0500
TZNAME:EST
DTSTART:20241103T060000
END:STANDARD
BEGIN:DAYLIGHT
TZOFFSETFROM:-0500
TZOFFSETTO:-0400
TZNAME:EDT
DTSTART:20250309T070000
END:DAYLIGHT
BEGIN:STANDARD
TZOFFSETFROM:-0400
TZOFFSETTO:-0500
TZNAME:EST
DTSTART:20251102T060000
END:STANDARD
BEGIN:DAYLIGHT
TZOFFSETFROM:-0500
TZOFFSETTO:-0400
TZNAME:EDT
DTSTART:20260308T070000
END:DAYLIGHT
BEGIN:STANDARD
TZOFFSETFROM:-0400
TZOFFSETTO:-0500
TZNAME:EST
DTSTART:20261101T060000
END:STANDARD
END:VTIMEZONE
BEGIN:VEVENT
DTSTART;TZID=America/New_York:20250411T140000
DTEND;TZID=America/New_York:20250411T170000
DTSTAMP:20260423T120329
CREATED:20250204T192806Z
LAST-MODIFIED:20250207T172437Z
UID:10001327-1744380000-1744390800@www.smcvt.edu
SUMMARY:OVE Farm Friday: Spring '25 #1
DESCRIPTION:OVE Farm Friday: Spring ’25 #1 \nFriday\, April 11th from 2 to 5 p.m.\nThe Farm at Saint Michael’s College \nAre you looking for an excuse to get outside\, a distraction from stress\, or a chance to meet some of your community members? Then come on down to the SMC Farm (located across Route 15 behind the Public Safety building) from 2pm – 5pm on Friday\, April 11th! The SMC Farm Crew will be leading the volunteers in a variety of farm tasks\, from weeding to bed preparation. \nSign up is not required\, but highly encouraged for planning purposes! linktr.ee/farm.smcvt
URL:https://www.smcvt.edu/event/ove-farm-friday-spring-25-1-2/
LOCATION:The Farm at Saint Michael’s College\, One Winooski Park\, Colchester\, VT\, 05439\, United States
CATEGORIES:The Patrick '61 and Marcelle Leahy Institute for the Environment
ATTACH;FMTTYPE=image/jpeg:https://www.smcvt.edu/wp-content/uploads/2025/02/Spring-2025-Flyers-3.jpg
END:VEVENT
BEGIN:VEVENT
DTSTART;TZID=America/New_York:20250411T160000
DTEND;TZID=America/New_York:20250411T180000
DTSTAMP:20260423T120329
CREATED:20250407T185926Z
LAST-MODIFIED:20250407T185926Z
UID:10001937-1744387200-1744394400@www.smcvt.edu
SUMMARY:Water For All Movie Screening
DESCRIPTION:Water For All Movie Screening \nFriday\, April 11\, from 4 to 6 p.m.\nInstitute for the Environment\, Saint Edmund’s Hall \nWater for Life follows Indigenous activists in Latin America as they face death threats and murder to save their precious water resources from mining and hydroelectric projects. Water For Life illuminates a growing recognition of Indigenous rights and a rising demand for corporate responsibility and environmental justice that’s being seen around the world. It is a story that begins and ends with water.
URL:https://www.smcvt.edu/event/water-for-all-movie-screening/
LOCATION:Institute for the Environment\, Saint Edmund’s Hall
CATEGORIES:The Patrick '61 and Marcelle Leahy Institute for the Environment
ATTACH;FMTTYPE=image/jpeg:https://www.smcvt.edu/wp-content/uploads/2025/04/thumbnail_WFLDVjacketF.jpg
END:VEVENT
END:VCALENDAR