BEGIN:VCALENDAR
VERSION:2.0
PRODID:-//Saint Michael&#039;s College - ECPv6.15.14//NONSGML v1.0//EN
CALSCALE:GREGORIAN
METHOD:PUBLISH
X-ORIGINAL-URL:https://www.smcvt.edu
X-WR-CALDESC:Events for Saint Michael&#039;s College
REFRESH-INTERVAL;VALUE=DURATION:PT1H
X-Robots-Tag:noindex
X-PUBLISHED-TTL:PT1H
BEGIN:VTIMEZONE
TZID:America/New_York
BEGIN:DAYLIGHT
TZOFFSETFROM:-0500
TZOFFSETTO:-0400
TZNAME:EDT
DTSTART:20240310T070000
END:DAYLIGHT
BEGIN:STANDARD
TZOFFSETFROM:-0400
TZOFFSETTO:-0500
TZNAME:EST
DTSTART:20241103T060000
END:STANDARD
BEGIN:DAYLIGHT
TZOFFSETFROM:-0500
TZOFFSETTO:-0400
TZNAME:EDT
DTSTART:20250309T070000
END:DAYLIGHT
BEGIN:STANDARD
TZOFFSETFROM:-0400
TZOFFSETTO:-0500
TZNAME:EST
DTSTART:20251102T060000
END:STANDARD
BEGIN:DAYLIGHT
TZOFFSETFROM:-0500
TZOFFSETTO:-0400
TZNAME:EDT
DTSTART:20260308T070000
END:DAYLIGHT
BEGIN:STANDARD
TZOFFSETFROM:-0400
TZOFFSETTO:-0500
TZNAME:EST
DTSTART:20261101T060000
END:STANDARD
END:VTIMEZONE
BEGIN:VEVENT
DTSTART;TZID=America/New_York:20250430T100000
DTEND;TZID=America/New_York:20250430T120000
DTSTAMP:20260423T063914
CREATED:20250210T185514Z
LAST-MODIFIED:20250210T185514Z
UID:10001331-1746007200-1746014400@www.smcvt.edu
SUMMARY:Harvest\, Wash\, Pack Wednesday: Spring '25 #3
DESCRIPTION:Harvest\, Wash\, Pack Wednesday: Spring ’25 #3 \nThe Farm at Saint Michael’s College \nJoin the SMC Farm Crew on Wednesday\, April 30th from 10am to 12pm to help harvest\, wash\, and pack produce on the Farm! Never done anything like this before? Even better! Our Farm Crew will lead you in navigating the field plots and hoop houses\, using harvest knives\, and preparing produce to be sold back to the SMC community. Anyone part of the SMC community is welcome!
URL:https://www.smcvt.edu/event/harvest-wash-pack-wednesday-spring-25-3/
LOCATION:The Farm at Saint Michael’s College\, One Winooski Park\, Colchester\, VT\, 05439\, United States
CATEGORIES:The Patrick '61 and Marcelle Leahy Institute for the Environment
ATTACH;FMTTYPE=image/jpeg:https://www.smcvt.edu/wp-content/uploads/2025/02/JuliaLynch_HWP_2024-scaled.jpg
END:VEVENT
END:VCALENDAR