BEGIN:VCALENDAR
VERSION:2.0
PRODID:-//Saint Michael&#039;s College - ECPv6.15.14//NONSGML v1.0//EN
CALSCALE:GREGORIAN
METHOD:PUBLISH
X-ORIGINAL-URL:https://www.smcvt.edu
X-WR-CALDESC:Events for Saint Michael&#039;s College
REFRESH-INTERVAL;VALUE=DURATION:PT1H
X-Robots-Tag:noindex
X-PUBLISHED-TTL:PT1H
BEGIN:VTIMEZONE
TZID:America/New_York
BEGIN:DAYLIGHT
TZOFFSETFROM:-0500
TZOFFSETTO:-0400
TZNAME:EDT
DTSTART:20230312T070000
END:DAYLIGHT
BEGIN:STANDARD
TZOFFSETFROM:-0400
TZOFFSETTO:-0500
TZNAME:EST
DTSTART:20231105T060000
END:STANDARD
BEGIN:DAYLIGHT
TZOFFSETFROM:-0500
TZOFFSETTO:-0400
TZNAME:EDT
DTSTART:20240310T070000
END:DAYLIGHT
BEGIN:STANDARD
TZOFFSETFROM:-0400
TZOFFSETTO:-0500
TZNAME:EST
DTSTART:20241103T060000
END:STANDARD
BEGIN:DAYLIGHT
TZOFFSETFROM:-0500
TZOFFSETTO:-0400
TZNAME:EDT
DTSTART:20250309T070000
END:DAYLIGHT
BEGIN:STANDARD
TZOFFSETFROM:-0400
TZOFFSETTO:-0500
TZNAME:EST
DTSTART:20251102T060000
END:STANDARD
END:VTIMEZONE
BEGIN:VEVENT
DTSTART;TZID=America/New_York:20241203T160000
DTEND;TZID=America/New_York:20241203T180000
DTSTAMP:20260424T202220
CREATED:20240828T163440Z
LAST-MODIFIED:20241106T203145Z
UID:10000523-1733241600-1733248800@www.smcvt.edu
SUMMARY:First-Year Gingerbread House Contest
DESCRIPTION:Join us for the 3rd Annual Father Mike Cronogue First-Year Gingerbread House Contest! Sign up your team in Purposeful Learning (spots are limited). Decorate your house with your team for a chance to win a gift card!
URL:https://www.smcvt.edu/event/first-year-gingerbread-house-contest/
LOCATION:Purposeful Learning\, Joyce Hall
CATEGORIES:Purposeful Learning
ATTACH;FMTTYPE=image/jpeg:https://www.smcvt.edu/wp-content/uploads/2020/12/GingerbreadFemaleStudents.jpg
END:VEVENT
BEGIN:VEVENT
DTSTART;TZID=America/New_York:20241204T120000
DTEND;TZID=America/New_York:20241204T130000
DTSTAMP:20260424T202220
CREATED:20241118T203533Z
LAST-MODIFIED:20241118T203823Z
UID:10001248-1733313600-1733317200@www.smcvt.edu
SUMMARY:Celebrate Mike the Knight's 77th Birthday!
DESCRIPTION:Get ready for a celebration like no other! On December 4th\, we’re throwing a special party to mark Mike the Knight’s 77th birthday in Alliot from 12-1pm. The event will be packed with fun activities\, delicious treats\, a photo booth\, autographed photos\, and more surprises. At 12:30\, don’t miss the parade as it kicks off from Alliot and makes its way to the library steps for a group picture. Everyone is invited to join in the fun and celebrate 77 years of our beloved mascot! Be there to make this birthday one to remember!
URL:https://www.smcvt.edu/event/celebrate-mike-the-knights-77th-birthday/
LOCATION:CT
CATEGORIES:Alumni Events,Student Activities
ATTACH;FMTTYPE=image/png:https://www.smcvt.edu/wp-content/uploads/2024/11/Heading-6.png
END:VEVENT
BEGIN:VEVENT
DTSTART;TZID=America/New_York:20241205T180000
DTEND;TZID=America/New_York:20241205T200000
DTSTAMP:20260424T202220
CREATED:20241104T162350Z
LAST-MODIFIED:20241104T163456Z
UID:10001224-1733421600-1733428800@www.smcvt.edu
SUMMARY:North Carolina Alumni Club Holiday Party!
DESCRIPTION:Start the holiday season right with your St. Mike’s North Carolina club! \nJoin the North Carolina SMC Alumni Club at ZincHouse to ring in the holiday season! Keep an eye out for the SMC banner to find our group within the main building.  In the spirit of the season\, please bring one or two brand new or gently used children’s or young adult books to be donated to Book Harvest\, a local literacy organization that serves the reading needs of North Carolina. \nThursday\, December 5th\n6:00 – 8:00 pm\n \nZincHouse Winery & Brewery\n6225 Wake Forest Highway\nDurham\, NC 27703 \nZincHouse offers a wide variety of drinks and food truck options on site. \n(This is a pay-as-you-go event.)
URL:https://www.smcvt.edu/event/nc-club-holiday-party/
LOCATION:ZincHouse Winery & Brewery\, 6225 Wake Forest Highway\, Durham\, NC\, 27703\, United States
CATEGORIES:Alumni Events
END:VEVENT
BEGIN:VEVENT
DTSTART;TZID=America/New_York:20241206T140000
DTEND;TZID=America/New_York:20241206T170000
DTSTAMP:20260424T202220
CREATED:20241119T182014Z
LAST-MODIFIED:20241119T182014Z
UID:10001249-1733493600-1733504400@www.smcvt.edu
SUMMARY:CAN Winter Ditch the Dumpster
DESCRIPTION:CAN Winter Ditch the Dumpster \nFriday\, December 6\, from 2 to 5 p.m.\nAlliot Lobby \nThe CAN (Community Health Action Network) junior seminar has partenered with MOVE and THRIVE to organize a fall semester ditch the dumpster event. Our hope is to cater to students and other members of campus who are staying on campus for the long break. This event will be staffed entirely by students in the class and will run from 2-5 pm in the Alliot Lobby on Friday December 6th. We will accept any items students\, faculty\, or staff are willing to donate\, but are specifically interested in personal hygiene items\, gluten free/vegetarian items\, fruit\, vegetables\, cereal\, and pasta (as well as other sources of grain and carbs).
URL:https://www.smcvt.edu/event/can-winter-ditch-the-dumpster/
LOCATION:Lobby\, Alliot Student Center
CATEGORIES:Public Health
ATTACH;FMTTYPE=application/pdf:https://www.smcvt.edu/wp-content/uploads/2024/11/Winter-D-1.pdf
END:VEVENT
BEGIN:VEVENT
DTSTART;TZID=America/New_York:20241207T140000
DTEND;TZID=America/New_York:20241207T160000
DTSTAMP:20260424T202220
CREATED:20241105T164911Z
LAST-MODIFIED:20241114T151659Z
UID:10001227-1733580000-1733587200@www.smcvt.edu
SUMMARY:2024 SMC Children's Christmas Party
DESCRIPTION:Join us in celebrating this holiday season with the Saint Michael’s community! \nChildren are welcome to make crafts\, eat Christmas treats\, and visit with Santa and Mrs. Claus. \nSaturday\, December 7\, 2024\n2:00 – 4:00 p.m.\nGreen Mountain Dining Room\, Alliot Student Center \nThis is a party for children and grandchildren of Saint Michael’s College alumni\, faculty\, and staff.
URL:https://www.smcvt.edu/event/2024-childrens-christmas-party/
LOCATION:Green Mountain Dining Room\, Alliot Student Center
CATEGORIES:Alumni Events
ATTACH;FMTTYPE=application/pdf:https://www.smcvt.edu/wp-content/uploads/2024/11/2024-Childrens-Christmas-party-postcard.pdf
END:VEVENT
BEGIN:VEVENT
DTSTART;TZID=America/New_York:20241211T170000
DTEND;TZID=America/New_York:20241211T190000
DTSTAMP:20260424T202220
CREATED:20241104T174419Z
LAST-MODIFIED:20241105T141925Z
UID:10001225-1733936400-1733943600@www.smcvt.edu
SUMMARY:Western MA Alumni Club Holiday Party!
DESCRIPTION:Toast the holidays with St. Mike’s! \nCalling all Western MA- based Purple Knights! Gary Levante ’09 and the rest of the Western MA club invite you to celebrate the holidays with St. Mike’s – we can’t wait to see you! \nWednesday\, December 11th\n5:00 – 7:00 pm \nHot Plate Brewery\n1 School Street\nPittsfield\, MA 01201 \nGary has offered to pay for everyone’s first drink! 
URL:https://www.smcvt.edu/event/western-ma-holiday-party/
LOCATION:Hot Plate Brewery\, 1 School Street\, Pittsfield\, MA\, 01201\, United States
CATEGORIES:Alumni Events
END:VEVENT
BEGIN:VEVENT
DTSTART;TZID=America/New_York:20241214T130000
DTEND;TZID=America/New_York:20241214T170000
DTSTAMP:20260424T202220
CREATED:20241204T204425Z
LAST-MODIFIED:20241204T204425Z
UID:10001251-1734181200-1734195600@www.smcvt.edu
SUMMARY:St. Mike's Basketball at Georgian Court University!
DESCRIPTION:St. Mike’s Basketball at Georgian Court University! \nImmediately following the SMC @ Georgian Court University game on December 14th\, join Rick Heilmann ’81 and your local Purple Knight alumni for a post-game reception.\n \nSaturday\, December 14th\nGame starts at 1:00 pm \nReception immediately following \nGeorgian Court University\n900 Lakewood Avenue\nLakewood\, NJ 08701
URL:https://www.smcvt.edu/event/st-mikes-basketball-at-georgian-court-university/
LOCATION:Georgian Court University\, 900 Lakewood Avenue\, Lakewood\, NJ\, 08701\, United States
CATEGORIES:Alumni Events
END:VEVENT
BEGIN:VEVENT
DTSTART;TZID=America/New_York:20241215T140000
DTEND;TZID=America/New_York:20241215T150000
DTSTAMP:20260424T202220
CREATED:20241118T182307Z
LAST-MODIFIED:20241118T182307Z
UID:10001247-1734271200-1734274800@www.smcvt.edu
SUMMARY:Christmas Concert by Dr. William Tortolano
DESCRIPTION:Christmas Concert by Dr. William Tortolano \nSunday\, December 15\, at 2 p.m\,\nChapel\, Saint Michael’s College
URL:https://www.smcvt.edu/event/christmas-concert-by-dr-william-tortolano/
LOCATION:Chapel of Saint Michael the Archangel
CATEGORIES:Campus Ministry
END:VEVENT
BEGIN:VEVENT
DTSTART;TZID=America/New_York:20241218T180000
DTEND;TZID=America/New_York:20241218T200000
DTSTAMP:20260424T202220
CREATED:20241122T195924Z
LAST-MODIFIED:20241202T150435Z
UID:10001250-1734544800-1734552000@www.smcvt.edu
SUMMARY:SMC NYC Club Holiday Party
DESCRIPTION:Toast the holidays with St. Mike’s! \nCalling all NYC Purple Knights! Molly Moore ’11 and your New York City club invite you to celebrate the holidays with St. Mike’s – we can’t wait to see you! Bring a donation for Covenant House or donate online–you can find their wishlist here! \nWednesday\, December 11th\n6:00 – 8:00 pm \nJasper’s Taphouse & Kitchen\n761 9th Avenue\nNew York\, NY 10019
URL:https://www.smcvt.edu/event/smc-nyc-club-holiday-party/
LOCATION:Jasper’s\, 761 9th Avenue\, New York\, NY\, 10019\, United States
CATEGORIES:Alumni Events
END:VEVENT
END:VCALENDAR