BEGIN:VCALENDAR
VERSION:2.0
PRODID:-//Saint Michael&#039;s College - ECPv6.15.14//NONSGML v1.0//EN
CALSCALE:GREGORIAN
METHOD:PUBLISH
X-WR-CALNAME:Saint Michael&#039;s College
X-ORIGINAL-URL:https://www.smcvt.edu
X-WR-CALDESC:Events for Saint Michael&#039;s College
REFRESH-INTERVAL;VALUE=DURATION:PT1H
X-Robots-Tag:noindex
X-PUBLISHED-TTL:PT1H
BEGIN:VTIMEZONE
TZID:America/New_York
BEGIN:DAYLIGHT
TZOFFSETFROM:-0500
TZOFFSETTO:-0400
TZNAME:EDT
DTSTART:20240310T070000
END:DAYLIGHT
BEGIN:STANDARD
TZOFFSETFROM:-0400
TZOFFSETTO:-0500
TZNAME:EST
DTSTART:20241103T060000
END:STANDARD
BEGIN:DAYLIGHT
TZOFFSETFROM:-0500
TZOFFSETTO:-0400
TZNAME:EDT
DTSTART:20250309T070000
END:DAYLIGHT
BEGIN:STANDARD
TZOFFSETFROM:-0400
TZOFFSETTO:-0500
TZNAME:EST
DTSTART:20251102T060000
END:STANDARD
BEGIN:DAYLIGHT
TZOFFSETFROM:-0500
TZOFFSETTO:-0400
TZNAME:EDT
DTSTART:20260308T070000
END:DAYLIGHT
BEGIN:STANDARD
TZOFFSETFROM:-0400
TZOFFSETTO:-0500
TZNAME:EST
DTSTART:20261101T060000
END:STANDARD
END:VTIMEZONE
BEGIN:VEVENT
DTSTART;TZID=America/New_York:20250501T120000
DTEND;TZID=America/New_York:20250501T150000
DTSTAMP:20260424T032105
CREATED:20250429T130100Z
LAST-MODIFIED:20250429T130100Z
UID:10001958-1746100800-1746111600@www.smcvt.edu
SUMMARY:De-Stress Fest: Part 2
DESCRIPTION:De-Stress Fest: Part 2 \nBe Well\, Bergeron Counseling and CAN invite you to stress less and connect.\nJoin us for De-Stress Part 2. \nThursday\, May 1st\n12-3 pm; Quad Green \nCreate a Summer bucket list\, make a new lemonade flavor\, grab a snack and make a stress less kit.
URL:https://www.smcvt.edu/event/de-stress-fest-part-2/
LOCATION:Lawn\, Durick Library
CATEGORIES:Be Well
ATTACH;FMTTYPE=application/pdf:https://www.smcvt.edu/wp-content/uploads/2025/04/De-Stress-Fest-Part-2.pdf
END:VEVENT
BEGIN:VEVENT
DTSTART;TZID=America/New_York:20250502T140000
DTEND;TZID=America/New_York:20250502T170000
DTSTAMP:20260424T032105
CREATED:20250204T192332Z
LAST-MODIFIED:20250207T171544Z
UID:10001326-1746194400-1746205200@www.smcvt.edu
SUMMARY:OVE Farm Friday: Spring '25 #3
DESCRIPTION:OVE Farm Friday: Spring ’25 #3 \nFriday\, May 2\, from 2 to 5 p.m. \nAre you looking for an excuse to get outside\, a distraction from stress\, or a chance to meet some of your community members? Then come on down to the SMC Farm (located across Route 15 behind the Public Safety building) from 2pm – 5pm on Friday\, May 2nd! The SMC Farm Crew will be leading the volunteers in a variety of farm tasks\, from weeding to bed preparation. \nSign up is not required\, but highly encouraged for planning purposes! linktr.ee/farm.smcvt
URL:https://www.smcvt.edu/event/ove-farm-friday-spring-25-3/
LOCATION:The Farm at Saint Michael’s College\, One Winooski Park\, Colchester\, VT\, 05439\, United States
CATEGORIES:The Patrick '61 and Marcelle Leahy Institute for the Environment
ATTACH;FMTTYPE=image/jpeg:https://www.smcvt.edu/wp-content/uploads/2025/02/Spring-2025-Flyers-2.jpg
END:VEVENT
BEGIN:VEVENT
DTSTART;TZID=America/New_York:20250502T153000
DTEND;TZID=America/New_York:20250502T183000
DTSTAMP:20260424T032105
CREATED:20250312T233020Z
LAST-MODIFIED:20250312T233020Z
UID:10001460-1746199800-1746210600@www.smcvt.edu
SUMMARY:Baseball at Bentley
DESCRIPTION:Baseball at Bentley Waltham\, MA
URL:https://www.smcvt.edu/event/baseball-at-bentley/
CATEGORIES:Athletics,Upload 2025 Spring
END:VEVENT
BEGIN:VEVENT
DTSTART;TZID=America/New_York:20250503T000000
DTEND;TZID=America/New_York:20250503T030000
DTSTAMP:20260424T032105
CREATED:20250312T233021Z
LAST-MODIFIED:20250312T233021Z
UID:10001461-1746230400-1746241200@www.smcvt.edu
SUMMARY:Men's Tennis vs NE10 Championship Semifinal
DESCRIPTION:Men’s Tennis vs NE10 Championship Semifinal Flushing\, NY / USTA Billie Jean King National Tennis Center
URL:https://www.smcvt.edu/event/mens-tennis-vs-ne10-championship-semifinal/
CATEGORIES:Athletics,Upload 2025 Spring
END:VEVENT
BEGIN:VEVENT
DTSTART;TZID=America/New_York:20250503T000000
DTEND;TZID=America/New_York:20250503T030000
DTSTAMP:20260424T032106
CREATED:20250312T233024Z
LAST-MODIFIED:20250312T233024Z
UID:10001463-1746230400-1746241200@www.smcvt.edu
SUMMARY:Men's Lacrosse vs NE10 Championship Final
DESCRIPTION:Men’s Lacrosse vs NE10 Championship Final
URL:https://www.smcvt.edu/event/mens-lacrosse-vs-ne10-championship-final/
CATEGORIES:Athletics,Upload 2025 Spring
END:VEVENT
BEGIN:VEVENT
DTSTART;TZID=America/New_York:20250503T000000
DTEND;TZID=America/New_York:20250503T030000
DTSTAMP:20260424T032106
CREATED:20250312T233120Z
LAST-MODIFIED:20250312T233120Z
UID:10001464-1746230400-1746241200@www.smcvt.edu
SUMMARY:Women's Lacrosse vs NE10 Championship Final
DESCRIPTION:Women’s Lacrosse vs NE10 Championship Final
URL:https://www.smcvt.edu/event/womens-lacrosse-vs-ne10-championship-final/
CATEGORIES:Athletics,Upload 2025 Spring
END:VEVENT
BEGIN:VEVENT
DTSTART;TZID=America/New_York:20250503T120000
DTEND;TZID=America/New_York:20250503T150000
DTSTAMP:20260424T032106
CREATED:20250312T233121Z
LAST-MODIFIED:20250312T233121Z
UID:10001465-1746273600-1746284400@www.smcvt.edu
SUMMARY:Baseball at Bentley
DESCRIPTION:Baseball at Bentley Waltham\, MA
URL:https://www.smcvt.edu/event/baseball-at-bentley-2/
CATEGORIES:Athletics,Upload 2025 Spring
END:VEVENT
BEGIN:VEVENT
DTSTART;TZID=America/New_York:20250503T150000
DTEND;TZID=America/New_York:20250503T180000
DTSTAMP:20260424T032106
CREATED:20250312T233122Z
LAST-MODIFIED:20250312T233122Z
UID:10001466-1746284400-1746295200@www.smcvt.edu
SUMMARY:Baseball at Bentley
DESCRIPTION:Baseball at Bentley Waltham\, MA
URL:https://www.smcvt.edu/event/baseball-at-bentley-3/
CATEGORIES:Athletics,Upload 2025 Spring
END:VEVENT
BEGIN:VEVENT
DTSTART;TZID=America/New_York:20250504T000000
DTEND;TZID=America/New_York:20250504T030000
DTSTAMP:20260424T032106
CREATED:20250312T233123Z
LAST-MODIFIED:20250312T233123Z
UID:10001467-1746316800-1746327600@www.smcvt.edu
SUMMARY:Men's Tennis vs NE10 Championship Final
DESCRIPTION:Men’s Tennis vs NE10 Championship Final Flushing\, NY / USTA Billie Jean King National Tennis Center
URL:https://www.smcvt.edu/event/mens-tennis-vs-ne10-championship-final/
CATEGORIES:Athletics,Upload 2025 Spring
END:VEVENT
BEGIN:VEVENT
DTSTART;TZID=America/New_York:20250504T150000
DTEND;TZID=America/New_York:20250504T161500
DTSTAMP:20260424T032106
CREATED:20250415T133545Z
LAST-MODIFIED:20250415T133545Z
UID:10001947-1746370800-1746375300@www.smcvt.edu
SUMMARY:McCarthy Jazz Orchestra "Neo-Standards"
DESCRIPTION:McCarthy Jazz Orchestra “Neo-Standards” \nSunday\, May 4\, from to 3 to 4:15 p.m.\nMcCarthy Arts Center \nJoin the 16-piece McCarthy Jazz Orchestra for the premiere of its 4th original project\, “Neo-Standards.” The project features the band with an evening of fresh\, original arrangements of classic jazz hits led by saxophonist Brian McCarthy.
URL:https://www.smcvt.edu/event/mccarthy-jazz-orchestra-neo-standards/
LOCATION:McCarthy Arts Center
CATEGORIES:Music
ATTACH;FMTTYPE=image/jpeg:https://www.smcvt.edu/wp-content/uploads/2025/04/Neo-Standards.jpg
END:VEVENT
BEGIN:VEVENT
DTSTART;TZID=America/New_York:20250506T000000
DTEND;TZID=America/New_York:20250506T030000
DTSTAMP:20260424T032106
CREATED:20250312T233125Z
LAST-MODIFIED:20250312T233125Z
UID:10001468-1746489600-1746500400@www.smcvt.edu
SUMMARY:Baseball vs NE10 Championship First Round
DESCRIPTION:Baseball vs NE10 Championship First Round
URL:https://www.smcvt.edu/event/baseball-vs-ne10-championship-first-round/
CATEGORIES:Athletics,Upload 2025 Spring
END:VEVENT
BEGIN:VEVENT
DTSTART;TZID=America/New_York:20250506T190000
DTEND;TZID=America/New_York:20250506T200000
DTSTAMP:20260424T032106
CREATED:20250402T204240Z
LAST-MODIFIED:20250402T204240Z
UID:10001935-1746558000-1746561600@www.smcvt.edu
SUMMARY:Student Government Association Meeting
DESCRIPTION:Student Government Association Meeting \nTuesday\, from 7 p.m. to 8 p.m.\nRoy Room\, Dion Family Student Center \nWeekly Meeting of the Student Government Association.
URL:https://www.smcvt.edu/event/student-government-association-meeting/2025-05-06/
LOCATION:Roy Room\, Dion Family Student Center
CATEGORIES:Student Government Association
ATTACH;FMTTYPE=image/png:https://www.smcvt.edu/wp-content/uploads/2025/04/sgalogo.png
END:VEVENT
BEGIN:VEVENT
DTSTART;TZID=America/New_York:20250507T180000
DTEND;TZID=America/New_York:20250507T210000
DTSTAMP:20260424T032106
CREATED:20250107T142015Z
LAST-MODIFIED:20250107T142015Z
UID:10001274-1746640800-1746651600@www.smcvt.edu
SUMMARY:AMO spring concert
DESCRIPTION:AMO is a community orchestra with members ranging from the beginning musician to professionals. All are welcome to join. We hold two annual concerts – one in the spring and one in the fall. This is our spring concert and is open to the public and is free to attend.
URL:https://www.smcvt.edu/event/amo-spring-concert/
LOCATION:McCarthy Arts Center
CATEGORIES:Music
END:VEVENT
BEGIN:VEVENT
DTSTART;TZID=America/New_York:20250508T180000
DTEND;TZID=America/New_York:20250508T190000
DTSTAMP:20260424T032106
CREATED:20250321T204119Z
LAST-MODIFIED:20250321T204119Z
UID:10001856-1746727200-1746730800@www.smcvt.edu
SUMMARY:Nika Mitchell “[mal] Nourish”\, McCarthy Art Gallery Senior Art & Design Exhibition
DESCRIPTION:Nika Mitchell “[mal] Nourish”\nMcCarthy Art Gallery Senior Art & Design Exhibition \nThursday\, May 8\, from 6-7 p.m.\nMcCarthy Art Gallery \nPlease join us at a reception on Thursday\, May 8 for the next McCarthy Art Gallery Senior exhibition: \nNika Mitchell\, “[mal] Nourish”\nA Mixed Media and Design Installation \nReception: Thursday\, May 8\, 6-7PM\nfree and open to the public\nExhibition on view: May 5-9
URL:https://www.smcvt.edu/event/nika-mitchell-mal-nourish-mccarthy-art-gallery-senior-art-design-exhibition/
LOCATION:Gallery\, McCarthy Arts Center
CATEGORIES:McCarthy Art Gallery
ATTACH;FMTTYPE=image/jpeg:https://www.smcvt.edu/wp-content/uploads/2025/03/nmitchell-poster.jpg
END:VEVENT
BEGIN:VEVENT
DTSTART;TZID=America/New_York:20250519T100000
DTEND;TZID=America/New_York:20250519T140000
DTSTAMP:20260424T032106
CREATED:20250319T170544Z
LAST-MODIFIED:20250319T171029Z
UID:10001476-1747648800-1747663200@www.smcvt.edu
SUMMARY:2nd Annual Purple Knight Golf Classic
DESCRIPTION:Date:     Monday\, May 19th. \nWhere   Keney Park Golf Course\n              Hartford\, Ct.\n\nTime:      10:00 am shotgun\n\nCost        $90 for golf\n               $30 for lunch\n\nRSVP By May 16th\, to Andy McElroy ’71\n                      andymcelroyjr@gmail.com\n\nMail checks to Andy McElroy\n                        9 Lyme Regis\n                        Cromwell\, Ct. 06416\n\nvenmo to @andymcelroy
URL:https://www.smcvt.edu/event/ct-keney-golf-outing-2025/
LOCATION:Keney Park Golf Course\, 171 Windsor Avenue\, Windsor\, CT\, 06095\, United States
CATEGORIES:Alumni Events
ATTACH;FMTTYPE=image/png:https://www.smcvt.edu/wp-content/uploads/2024/01/knighthead-resized.png
END:VEVENT
END:VCALENDAR